{"text_format":"1","workbook":"xlsx","n_sheets":11,"sheets":["Lisier_porc","Lisier_vache","Description OAD","OAD","Lisier de vache","Lisier de porc","Base de données","Lisier de vache_72h","Lisier de porc__72h","Lisier de vache_72h-12h","Lisier de porc 72h-12h "],"not_rendered":{"charts":0,"images":5,"macros":1,"external_links":0,"defined_names":7,"comments":0,"pivot_tables":0},"unopened":[],"bounds":{"document_bytes":16777216,"sheet_cells":100000,"rows_first":2000,"rows_last":500,"rows_between":2000,"halvings":0,"cell_chars":16384,"cell_head_chars":4096},"cells_cut":0,"cells_raw":0,"read":"whole","date_system":"1900"}

{"sheet":"Lisier_porc","index":0,"n_rows":18,"n_cols":35,"rows_kept":18,"cut":false,"hidden":true,"merged":[]}
[]
[null,null,"IMPORTANT: pour les bases d'analyse, H correspond àun échantillon tel que reçu et S àun échantillon séché au laboratoire"]
[null,null,"Date de réception des échantillons: 2023-10-26"]
[null,null,"Date Echantillonnage: 10-08-2023"]
[null,"Base: ","H","H","H","H","H","S","S","S","S","S","S","S","H","H","H","H","H","H","H","H","H","H","H","H","H","H","H","H","H","H","H","H","H"]
[null,"Paramètre: ","501","502","503","504","506","507","507","507","507","509","509","509","512","520","520","520","520","520","520","520","520","520","520","520","520","520","520","520","520","520","520","520","520"]
[null,"Élément: ","pH *","N Total *","N-NH4 *","P Min HCl","Mat. Sèche *","Cendres *","M.O","C.O (1.724)","C.O (2.00)","C/N (1.724)","C/N (2.00)","NTK B.S.","Densité apparente","P","K","Ca","Mg","Al","B","Cu","Fe","Mn","Zn","Mo","Na","Ni","Cd","Cr","Co","Pb","S","Ba","Sr"]
[null,"Méthode: ","Eau","NTK","KCl 2 M","HCl 2,5 N","105o C","500o C","500o C","500o C","500o C","Calcul","Calcul","Calcul","Gravimét.","EPA-3050","EPA-3050","EPA-3050","EPA-3050","EPA-3050","EPA-3050","EPA-3050","EPA-3050","EPA-3050","EPA-3050","EPA-3050","EPA-3050","EPA-3050","EPA-3050","EPA-3050","EPA-3050","EPA-3050","EPA-3050","EPA-3050","EPA-3050"]
[null,"Unité: ","","mg/kg","mg/kg","mg/kg","%","%","%","%","%","","","%","g / cm3","mg/kg","mg/kg","mg/kg","mg/kg","mg/kg","mg/kg","mg/kg","mg/kg","mg/kg","mg/kg","mg/kg","mg/kg","mg/kg","mg/kg","mg/kg","mg/kg","mg/kg","mg/kg","mg/kg","mg/kg"]
[null,"Limite de détection: ","","28","1.93","","","","","","","","","","","10","10","10","3","10","5","1","10","1","0.3","1","3","1","0.3","1","1","1","10","0.3","0.3"]
["No. de Lab","Limite de quantification: ","","95","6.43","","","","","","","","","","","30","30","30","9","30","15","3","30","3","1","3","9","3","1","3","3","3","30","1","1"]
[null,"Date d'analyse: ","2023-11-02","2023-11-28","2023-11-07","2023-11-20","2023-11-06","2023-11-07","2023-11-07","2023-11-07","2023-11-07","2023-11-30","2023-11-30","2023-11-30","2023-10-30","2023-11-28","2023-11-28","2023-11-28","2023-11-28","2023-11-28","2023-11-28","2023-11-28","2023-11-28","2023-11-28","2023-11-28","2023-11-28","2023-11-28","2023-11-28","2023-11-28","2023-11-28","2023-11-28","2023-11-28","2023-11-28","2023-11-28","2023-11-28"]
[null,"Codification"]
["23PL0014PK","Lisier porc - pendillard 21-août-2023",7.16,5494,2593.5041999999999,1380,7.65,22.4,77.599999999999994,45,38.799999999999997,6.26,5.4,7.18,1.01,1458,2389,1129,1302,56.2,3.47,65.7,138,25.6,85.5,0,1094,0,0,0,0,0,655,2.95,3.57]
["23PL0015PK","Lisier porc 23-08-2023 - champ 9",7.26,5448,2665.9751000000001,1302,6.92,24.3,75.7,43.9,37.9,5.58,4.8099999999999996,7.87,1,1355,2401,799,1216,58.1,3.39,59,119,22.8,75.8,0,1118,0,0,0,0,0,617,2.52,2.77]
["23PL0016PK","Lisier porc Épandage champ #9 et #34 28-août-2023",7.22,5516,2725.7354,1397,7.37,23.3,76.8,44.5,38.4,5.95,5.12,7.49,1.02,1443,2456,820,1294,60.5,3.64,62.8,120,24.3,78,0,1129,0,0,0,0,0,641,2.77,3.05]
["23PL0017PK","Lisier porc 01/09/2023 - champ 9",7.35,5236,2673.1831000000002,1197,6.53,24.2,75.8,44,37.9,5.48,4.7300000000000004,8.02,1.01,1248,2487,667,1131,54.4,3.27,53.9,107,21.2,71.599999999999994,0,1104,0,0,0,0,0,607,2.46,3.03]
[null,null,{"$f":"AVERAGE(C14:C17)","v":7.2475000000000005},{"$f":"AVERAGE(D14:D17)","v":5423.5},{"$f":"AVERAGE(E14:E17)","v":2664.5994500000002},1319,7.1175000000000006,23.55,76.475000000000009,44.35,38.25,5.8174999999999999,5.0150000000000006,7.64,1.01,1376,2433.25,853.75]

{"sheet":"Lisier_vache","index":1,"n_rows":46,"n_cols":34,"rows_kept":46,"cut":false,"hidden":true,"merged":[]}
[]
[]
[]
[]
[]
[]
[]
[]
[]
[]
[]
[]
[]
[]
[]
[]
[]
[]
[]
[]
[]
[]
[]
[]
[]
[]
[]
[]
[]
[]
["Base: ","H","H","H","H","H","S","S","S","S","S","S","S","H","H","H","H","H","H","H","H","H","H","H","H","H","H","H","H","H","H","H","H","H"]
["Paramètre: ","501","502","503","504","506","507","507","507","507","509","509","509","512","520","520","520","520","520","520","520","520","520","520","520","520","520","520","520","520","520","520","520","520"]
["Élément: ","pH *","N Total *","N-NH4 *","P Min HCl","Mat. Sèche *","Cendres *","M.O","C.O (1.724)","C.O (2.00)","C/N (1.724)","C/N (2.00)","NTK B.S.","Densité apparente","P","K","Ca","Mg","Al","B","Cu","Fe","Mn","Zn","Mo","Na","Ni","Cd","Cr","Co","Pb","S","Ba","Sr"]
["Méthode: ","Eau","NTK","KCl 2 M","HCl 2,5 N","105o C","500o C","500o C","500o C","500o C","Calcul","Calcul","Calcul","Gravimét.","EPA-3050","EPA-3050","EPA-3050","EPA-3050","EPA-3050","EPA-3050","EPA-3050","EPA-3050","EPA-3050","EPA-3050","EPA-3050","EPA-3050","EPA-3050","EPA-3050","EPA-3050","EPA-3050","EPA-3050","EPA-3050","EPA-3050","EPA-3050"]
["Unité: ","","mg/kg","mg/kg","mg/kg","%","%","%","%","%","","","%","g / cm3","mg/kg","mg/kg","mg/kg","mg/kg","mg/kg","mg/kg","mg/kg","mg/kg","mg/kg","mg/kg","mg/kg","mg/kg","mg/kg","mg/kg","mg/kg","mg/kg","mg/kg","mg/kg","mg/kg","mg/kg"]
["Limite de détection: ","","28","1.93","","","","","","","","","","","10","10","10","3","10","5","1","10","1","0.3","1","3","1","0.3","1","1","1","10","0.3","0.3"]
["Limite de quantification: ","","95","6.43","","","","","","","","","","","30","30","30","9","30","15","3","30","3","1","3","9","3","1","3","3","3","30","1","1"]
["Date d'analyse: ","2023-11-02","2023-11-28","2023-11-07","2023-11-20","2023-11-06","2023-11-07","2023-11-07","2023-11-07","2023-11-07","2023-11-30","2023-11-30","2023-11-30","2023-10-30","2023-11-28","2023-11-28","2023-11-28","2023-11-28","2023-11-28","2023-11-28","2023-11-28","2023-11-28","2023-11-28","2023-11-28","2023-11-28","2023-11-28","2023-11-28","2023-11-28","2023-11-28","2023-11-28","2023-11-28","2023-11-28","2023-11-28","2023-11-28"]
["Codification"]
["Fumier Boivin B. B.Horizontaux 10-août-2023",7.46,9055,1203,1512,28.7,15.5,84.5,49,42.2,15.5,13.4,3.16,0.45500000000000002,2105,4665,4810,959,58.5,0,21.6,186,38.1,46.2,1.19,808,3.35,0,4.5599999999999996,0,0,940,9.3800000000000008,9.9]
["Fumier bovin boucherie 14-08-2023",8.31,7308,909,1053,29.6,10.199999999999999,89.8,52.1,44.9,21.1,18.2,2.4700000000000002,0.45700000000000002,1557,4834,4007,899,54.9,0,11,164,38.5,44.3,0,570,0,0,1.17,0,0,821,7.99,9.06]
["Fumier bovin boucherie 04-10-2023",8.0399999999999991,8812,3387,1740,31.1,15.6,84.4,49,42.2,17.3,14.9,2.84,0.44400000000000001,2198,4692,3842,1022,96.2,0,25.9,280,36.700000000000003,47.8,1.1200000000000001,1001,3.62,0,5.2,0,0,1095,6.42,8.92]
["Lisier vache 04-10-2023 st lambert",7.72,2216,2514,296,4.2300000000000004,25.4,74.599999999999994,43.3,37.299999999999997,8.26,7.12,5.24,1.02,361,2705,936,417,22.4,0,2.95,55.5,9.2200000000000006,11,0,511,0,0,0,0,0,202,1.33,3.39]
["Fumie poule levis ?ufs 18-oct-2023",8.44,25769,15296,4098,45.5,32.200000000000003,67.8,39.299999999999997,33.9,6.94,5.99,5.66,0.34499999999999997,6327,9771,33298,2388,853,11.4,50.7,1540,254,216,1.77,2153,3.88,0,4.17,0,1.37,2708,33.700000000000003,68.099999999999994]
["Fumier poules + litière 20-10-2023",8.2100000000000009,25820,11638,4229,58,12.9,87.1,50.5,43.6,11.3,9.7799999999999994,4.45,0.39700000000000002,6961,16450,8860,3539,122,26,95.3,297,451,420,3.28,3503,4.4800000000000004,0,1.71,0,0,3819,13.1,17]
["Fumier poules levis ?ufs 20-10-2023",7.76,32408,14726,5635,53.1,33.4,66.599999999999994,38.6,33.299999999999997,6.33,5.46,6.11,0.41499999999999998,7440,10573,33182,2382,129,11.9,39.700000000000003,747,282,274,2.0499999999999998,2703,1.78,0,0,0,0,3223,8.39,63.6]

{"sheet":"Description OAD","index":2,"n_rows":2,"n_cols":2,"rows_kept":2,"cut":false,"hidden":false,"merged":[[1,1,1,4]]}
[]
[null,"Lien vers la fiche téléchargeable"]

{"sheet":"OAD","index":3,"n_rows":13,"n_cols":11,"rows_kept":13,"cut":false,"hidden":false,"merged":[]}
[]
[]
[null,"Variables d'entrée","Valeurs d'entrée",null,"Variables de sortie","Valeur",null,"Prix 2025","Formule ","$/t","$/kg"]
[null,"Type de lisier","Vache",null,"Azote ammoniacal (N-NH4+) appliqué (kg/ha)",{"$f":"IF(C10=\"Non\",$C$13*$C$12,$C$11*$C$13)","v":35},null,"Nitrate d'ammonium calcique (CAN)","27-0-0",1012,{"$f":"J4/1000","v":1.012}]
[null,"Matière sèche (%)",7,null,"Perte d’azote sous forme de NH₃ après 12 h (% du N-NH₄+ appliqué)",{"$f":"_xlfn.XLOOKUP(1,('Base de données'!A:A=C4)*('Base de données'!B:B=C5)*('Base de données'!C:C=C6)*('Base de données'!D:D=C7)*('Base de données'!E:E=C8)*('Base de données'!F:F=C9),'Base de données'!G:G)","v":0.14699999999999999},null,"Urée","46-0-0",1102,{"$f":"J5/1000","v":1.1020000000000001}]
[null,"Méthode d'épandage","Aspersion basse",null,"Émission cumulative de N-NH₃ après 12 h (kg/ha)",{"$f":"F5*F4","v":5.1449999999999996}]
[null,"Incorporation","0h"]
[null,"Température (°C)",30]
[null,"Vitesse du vent (km/h)",15,null,"Fertilisant minéral ","Urée"]
[null,"Connaissez-vous la teneur en azote ammoniacal (N-NH4+) de votre lisier?","Non",null,"Masse de fertilisant requise pour compenser l'azote perdu (kg/ha)",{"$f":"IF(F9='Base de données'!J3,OAD!F6/'Base de données'!L3,IF(F9='Base de données'!J4,OAD!F6/'Base de données'!L4))","v":11.184782608695651}]
[null,"Valeur personnalisée de N-NH4+ saisie par l’utilisateur (kg/t)",null,null,"Valeur monétaire de fertilisant minéral pour compenser l'azote perdu ($/ha)",{"$f":"IF(F9='Base de données'!J3,F10*K4,IF(F9='Base de données'!J4,F10*K5))","v":12.325630434782608}]
[null,"Valeur de référence azote ammoniacal (N-NH4+) (kg/t)",{"$f":"IF(C10=\"Oui\",'Base de données'!P2,_xlfn.XLOOKUP(C4,'Base de données'!N13:N14,'Base de données'!M13:M14))","v":1.4}]
[null,"Dose d'application (t/ha)",25]

{"sheet":"Lisier de vache","index":4,"n_rows":78,"n_cols":42,"rows_kept":78,"cut":false,"hidden":false,"merged":[[40,1,40,2],[40,22,40,23],[6,39,6,41],[5,27,6,29],[5,30,5,35],[5,36,5,41],[6,9,6,11],[6,12,6,14],[6,15,6,17],[6,18,6,20],[6,30,6,32],[6,33,6,35],[6,36,6,38],[46,30,46,32],[45,22,46,23],[46,36,46,38],[46,39,46,41],[45,24,46,26],[45,27,46,29],[45,30,45,35],[45,36,45,41],[46,33,46,35],[45,1,46,2],[45,3,46,5],[45,6,46,8],[45,9,45,14],[45,15,45,20],[46,9,46,11],[46,12,46,14],[46,15,46,17],[46,18,46,20],[0,1,0,2],[0,22,0,23],[5,22,6,23],[5,24,6,26],[5,1,6,2],[5,3,6,5],[5,6,6,8],[5,9,5,14],[5,15,5,20],[41,9,41,10],[42,9,42,10],[43,9,43,10],[41,30,41,31],[42,30,42,31],[43,30,43,31],[1,30,1,31],[2,30,2,31],[3,30,3,31],[1,9,1,10],[2,9,2,10],[3,9,3,10]]}
[null,"LISIER DE VACHE",null,null,null,null,null,null,null,null,null,null,null,null,null,null,null,null,null,null,null,null,"LISIER DE VACHE"]
[null,"M.S (%)",3.5,null,null,null,null,null,null,"Prix 2025",null,"Formule ","$/t","$/kg",null,null,null,null,null,null,null,null,"M.S (%)",3.5,null,null,null,null,null,null,"Prix 2025",null,"Formule ","$/t","$/kg"]
[null,"N total (kg/t)",2.6,null,null,null,null,null,null,"Nitrate d'ammonium calcique (CAN)",null,"27-0-0",1012,{"$f":"M3/1000","v":1.012},null,null,null,null,null,null,null,null,"N total (kg/t)",2.6,null,null,null,null,null,null,"Nitrate d'ammonium calcique (CAN)",null,"27-0-0",1012,{"$f":"AH3/1000","v":1.012}]
[null,"Azote ammoniacal total ou N-NH4+ (kg/t)",1.4,null,null,null,null,null,null,"Urée",null,"46-0-0",1102,{"$f":"M4/1000","v":1.1020000000000001},null,null,null,null,null,null,null,null,"Azote ammoniacal total ou N-NH4+ (kg/t)",1.4,null,null,null,null,null,null,"Urée",null,"46-0-0",1102,{"$f":"AH4/1000","v":1.1020000000000001}]
[]
[null,"Aspersion basse",null,"Pourcentage d’azote ammoniacal (% N-NH4+) appliqué qui est émis sous forme d’ammoniac (N-NH3) lors des 12 heures suivant l'épandage",null,null,"Émissions cumulatives de N-NH3 (kg/t de lisier épandu)",null,null,{"$f":"$J$3","v":"Nitrate d'ammonium calcique (CAN)"},null,null,null,null,null,{"$f":"$J$4","v":"Urée"},null,null,null,null,null,null,"Pendillards",null,"Pourcentage d’azote ammoniacal (% N-NH4+) appliqué qui est émis sous forme d’ammoniac (N-NH3) lors des 12 heures suivant l'épandage",null,null,"Émissions cumulatives de N-NH3 (kg/t de lisier épandu)",null,null,{"$f":"$J$3","v":"Nitrate d'ammonium calcique (CAN)"},null,null,null,null,null,{"$f":"$J$4","v":"Urée"}]
[null,null,null,null,null,null,null,null,null,"Masse de fertilisant requise pour compenser l'azote perdu (kg/t de lisier épandu)",null,null,"$/t de lisier épandu",null,null,"Masse de fertilisant requise pour compenser l'azote perdu (kg/t de lisier épandu)",null,null,"$/t de lisier épandu",null,null,null,null,null,null,null,null,null,null,null,"Masse de fertilisant requise pour compenser l'azote perdu (kg/t de lisier épandu)",null,null,"$/t de lisier épandu",null,null,"Masse de fertilisant requise pour compenser l'azote perdu (kg/t de lisier épandu)",null,null,"$/t de lisier épandu"]
[null,"Vitesse du vent (km/h)",5,null,null,null,null,null,null,null,null,null,null,null,null,null,null,null,null,null,null,null,"Vitesse du vent (km/h)",5]
[null,"Délai avant incorporation","Température ",10,20,30,10,20,30,10,20,30,10,20,30,10,20,30,10,20,30,null,"Délai avant incorporation","Température ",10,20,30,10,20,30,10,20,30,10,20,30,10,20,30,10,20,30]
[null,"0h",null,4.8,6.1,7.1,{"$f":"$C$4*D10/100","v":6.7199999999999996E-2},{"$f":"$C$4*E10/100","v":8.539999999999999E-2},9.9399999999999988E-2,{"$f":"G10/0.27","v":0.24888888888888885},0.31629629629629624,0.36814814814814806,{"$f":"J10*$N$3","v":0.25187555555555552},{"$f":"K10*$N$3","v":0.32009185185185179},0.37256592592592586,{"$f":"G10/0.46","v":0.14608695652173911},0.18565217391304345,0.21608695652173909,{"$f":"P10*$N$4","v":0.16098782608695653},{"$f":"Q10*$N$4","v":0.20458869565217389},{"$f":"R10*$N$4","v":0.23812782608695651},null,"0h",null,2.7,3.4,4.5,{"$f":"$C$4*Y10/100","v":3.78E-2},{"$f":"$C$4*Z10/100","v":4.7599999999999996E-2},6.3E-2,{"$f":"AB10/0.27","v":0.13999999999999999},0.17629629629629628,0.23333333333333331,{"$f":"AE10*$N$3","v":0.14168},{"$f":"AF10*$N$3","v":0.17841185185185185},0.23613333333333331,{"$f":"AB10/0.46","v":8.2173913043478264E-2},0.1034782608695652,0.13695652173913042,{"$f":"AK10*$N$4","v":9.0555652173913051E-2},{"$f":"AL10*$N$4","v":0.11403304347826086},0.15092608695652174]
[null,"3h",null,9.6999999999999993,15.5,22.7,0.13579999999999998,0.217,0.31779999999999997,0.50296296296296283,0.8037037037037037,1.1770370370370369,{"$f":"J11*$N$3","v":0.50899851851851841},{"$f":"K11*$N$3","v":0.81334814814814815},{"$f":"L11*$N$3","v":1.1911614814814813},0.29521739130434776,0.47173913043478261,0.69086956521739118,{"$f":"P11*$N$4","v":0.32532956521739126},0.51985652173913044,0.76133826086956513,null,"3h",null,3.6,5.4,8.6999999999999993,{"$f":"$C$4*Y11/100","v":5.04E-2},{"$f":"$C$4*Z11/100","v":7.5600000000000001E-2},{"$f":"$C$4*AA11/100","v":0.12179999999999998},0.18666666666666665,0.27999999999999997,0.45111111111111102,{"$f":"AE11*$N$3","v":0.18890666666666664},{"$f":"AF11*$N$3","v":0.28336},{"$f":"AG11*$N$3","v":0.45652444444444434},0.10956521739130434,0.16434782608695653,0.26478260869565212,{"$f":"AK11*$N$4","v":0.1207408695652174},{"$f":"AL11*$N$4","v":0.1811113043478261},{"$f":"AM11*$N$4","v":0.29179043478260869}]
[null,"6h",null,12.9,20,26.7,0.18059999999999998,0.28000000000000003,0.37379999999999997,0.66888888888888876,1.037037037037037,1.3844444444444441,0.67691555555555538,1.0494814814814815,1.4010577777777775,0.39260869565217388,0.60869565217391308,0.81260869565217375,0.43265478260869566,0.67078260869565232,0.89549478260869553,null,"6h",null,4.3,6.9,11.5,6.0199999999999997E-2,9.6600000000000005E-2,0.16099999999999998,0.22296296296296295,0.35777777777777775,0.59629629629629621,0.22563851851851852,0.36207111111111107,0.60345185185185179,0.13086956521739129,0.21,0.34999999999999992,0.14421826086956521,0.23142000000000001,0.38569999999999993]
[null,"12h",null,16.100000000000001,23.1,27.9,0.22539999999999999,0.32340000000000002,0.39059999999999995,0.83481481481481468,1.1977777777777778,1.4466666666666663,0.84483259259259247,1.2121511111111112,1.4640266666666664,0.48999999999999994,0.70304347826086955,0.84913043478260852,0.53998000000000002,0.77475391304347829,0.93574173913043468,null,"12h",null,5.3,8.8000000000000007,14.6,7.4199999999999988E-2,0.1232,0.20439999999999997,0.27481481481481473,0.45629629629629626,0.75703703703703684,0.27811259259259252,0.46177185185185182,0.76612148148148129,0.16130434782608694,0.26782608695652171,0.44434782608695644,0.17775739130434781,0.29514434782608695,0.48967130434782602]
[null,"Sans incorporation",null,16.100000000000001,23.1,27.9,{"$f":"$C$4*D14/100","v":0.22539999999999999},{"$f":"$C$4*E14/100","v":0.32340000000000002},{"$f":"$C$4*F14/100","v":0.39059999999999995},{"$f":"G14/0.27","v":0.83481481481481468},{"$f":"H14/0.27","v":1.1977777777777778},{"$f":"I14/0.27","v":1.4466666666666663},{"$f":"J14*$N$3","v":0.84483259259259247},1.2121511111111112,1.4640266666666664,{"$f":"G14/0.46","v":0.48999999999999994},{"$f":"H14/0.46","v":0.70304347826086955},{"$f":"I14/0.46","v":0.84913043478260852},0.53998000000000002,0.77475391304347829,0.93574173913043468,null,"Sans incorporation",null,5.3,8.8000000000000007,14.6,{"$f":"$C$4*Y14/100","v":7.4199999999999988E-2},0.1232,0.20439999999999997,{"$f":"AB14/0.27","v":0.27481481481481473},{"$f":"AC14/0.27","v":0.45629629629629626},{"$f":"AD14/0.27","v":0.75703703703703684},0.27811259259259252,0.46177185185185182,0.76612148148148129,{"$f":"AB14/0.46","v":0.16130434782608694},{"$f":"AC14/0.46","v":0.26782608695652171},{"$f":"AD14/0.46","v":0.44434782608695644},0.17775739130434781,0.29514434782608695,0.48967130434782602]
[]
[null,"Vitesse du vent (km/h)",10,null,null,null,null,null,null,null,null,null,null,null,null,null,null,null,null,null,null,null,"Vitesse du vent (km/h)",10]
[null,"Délai avant incorporation","Température ",10,20,30,10,20,30,10,20,30,10,20,30,10,20,30,10,20,30,null,"Délai avant incorporation","Température ",10,20,30,10,20,30,10,20,30,10,20,30,10,20,30,10,20,30]
[null,"0h",null,5.7,6.9,7.4,{"$f":"$C$4*D18/100","v":7.9799999999999996E-2},9.6600000000000005E-2,0.1036,{"$f":"G18/0.27","v":0.29555555555555552},0.35777777777777775,0.38370370370370366,{"$f":"J18*$N$3","v":0.29910222222222216},{"$f":"K18*$N$3","v":0.36207111111111107},{"$f":"L18*$N$3","v":0.38830814814814812},{"$f":"G18/0.46","v":0.17347826086956519},0.21,0.22521739130434781,{"$f":"P18*$N$4","v":0.19117304347826086},{"$f":"Q18*$N$4","v":0.23142000000000001},{"$f":"R18*$N$4","v":0.2481895652173913},null,"0h",null,3.1,4.0999999999999996,5.4,{"$f":"$C$4*Y18/100","v":4.3400000000000001E-2},{"$f":"$C$4*Z18/100","v":5.7399999999999993E-2},{"$f":"$C$4*AA18/100","v":7.5600000000000001E-2},{"$f":"AB18/0.27","v":0.16074074074074074},0.21259259259259256,0.27999999999999997,{"$f":"AE18*$N$3","v":0.16266962962962964},{"$f":"AF18*$N$3","v":0.21514370370370367},{"$f":"AG18*$N$3","v":0.28336},{"$f":"AB18/0.46","v":9.4347826086956521E-2},0.12478260869565215,0.16434782608695653,{"$f":"AK18*$N$4","v":0.10397130434782609},{"$f":"AL18*$N$4","v":0.13751043478260869},{"$f":"AM18*$N$4","v":0.1811113043478261}]
[null,"3h",null,13.5,20.399999999999999,27.2,0.18899999999999997,0.28559999999999997,0.38079999999999997,0.69999999999999984,1.0577777777777775,1.4103703703703703,{"$f":"J19*$N$3","v":0.70839999999999981},1.0704711111111109,1.4272948148148148,0.41086956521739121,0.62086956521739123,0.8278260869565216,{"$f":"P19*$N$4","v":0.45277826086956513},0.68419826086956514,0.9122643478260869,null,"3h",null,4.7,7.5,12.2,{"$f":"$C$4*Y19/100","v":6.5799999999999997E-2},0.105,0.17079999999999998,0.24370370370370367,0.38888888888888884,0.63259259259259248,{"$f":"AE19*$N$3","v":0.24662814814814812},0.39355555555555549,0.64018370370370359,0.14304347826086955,0.22826086956521738,0.3713043478260869,{"$f":"AK19*$N$4","v":0.15763391304347826},0.25154347826086959,0.40917739130434777]
[null,"6h",null,17.600000000000001,24.8,29.4,0.24640000000000001,0.34720000000000001,0.41159999999999997,0.91259259259259251,1.2859259259259259,1.5244444444444443,0.92354370370370364,1.3013570370370371,1.5427377777777775,0.53565217391304343,0.75478260869565217,0.89478260869565207,0.5902886956521739,0.8317704347826087,0.98605043478260868,null,"6h",null,5.9,9.8000000000000007,16,8.2599999999999993E-2,0.13720000000000002,0.22399999999999998,0.30592592592592588,0.50814814814814813,0.82962962962962949,0.309597037037037,0.51424592592592588,0.8395851851851851,0.17956521739130432,0.29826086956521741,0.48695652173913034,0.19788086956521739,0.32868347826086963,0.5366260869565217]
[null,"12h",null,21,26.7,29.7,0.29399999999999998,0.37379999999999997,0.4158,1.0888888888888888,1.3844444444444441,1.5399999999999998,1.1019555555555556,1.4010577777777775,1.5584799999999999,0.63913043478260867,0.81260869565217375,0.90391304347826085,0.70432173913043483,0.89549478260869553,0.99611217391304352,null,"12h",null,7.5,12.5,19.399999999999999,0.105,0.17499999999999999,0.27159999999999995,0.38888888888888884,0.64814814814814803,1.0059259259259257,0.39355555555555549,0.6559259259259258,1.0179970370370368,0.22826086956521738,0.38043478260869562,0.59043478260869553,0.25154347826086959,0.41923913043478261,0.65065913043478252]
[null,"Sans incorporation",null,21,26.7,29.7,{"$f":"$C$4*D22/100","v":0.29399999999999998},{"$f":"$C$4*E22/100","v":0.37379999999999997},{"$f":"$C$4*F22/100","v":0.4158},{"$f":"G22/0.27","v":1.0888888888888888},{"$f":"H22/0.27","v":1.3844444444444441},{"$f":"I22/0.27","v":1.5399999999999998},{"$f":"J22*$N$3","v":1.1019555555555556},1.4010577777777775,1.5584799999999999,{"$f":"G22/0.46","v":0.63913043478260867},{"$f":"H22/0.46","v":0.81260869565217375},{"$f":"I22/0.46","v":0.90391304347826085},0.70432173913043483,0.89549478260869553,0.99611217391304352,null,"Sans incorporation",null,7.5,12.5,19.399999999999999,{"$f":"$C$4*Y22/100","v":0.105},0.17499999999999999,0.27159999999999995,{"$f":"AB22/0.27","v":0.38888888888888884},{"$f":"AC22/0.27","v":0.64814814814814803},{"$f":"AD22/0.27","v":1.0059259259259257},0.39355555555555549,0.6559259259259258,1.0179970370370368,{"$f":"AB22/0.46","v":0.22826086956521738},{"$f":"AC22/0.46","v":0.38043478260869562},{"$f":"AD22/0.46","v":0.59043478260869553},0.25154347826086959,0.41923913043478261,0.65065913043478252]
[]
[null,"Vitesse du vent (km/h)",15,null,null,null,null,null,null,null,null,null,null,null,null,null,null,null,null,null,null,null,"Vitesse du vent (km/h)",15]
[null,"Délai avant incorporation","Température ",10,20,30,10,20,30,10,20,30,10,20,30,10,20,30,10,20,30,null,"Délai avant incorporation","Température ",10,20,30,10,20,30,10,20,30,10,20,30,10,20,30,10,20,30]
[null,"0h",null,6.4,7.2,7.6,{"$f":"$C$4*D26/100","v":8.9599999999999985E-2},0.1008,0.10639999999999999,{"$f":"G26/0.27","v":0.33185185185185179},0.37333333333333329,0.39407407407407402,{"$f":"J26*$N$3","v":0.33583407407407401},{"$f":"K26*$N$3","v":0.37781333333333328},{"$f":"L26*$N$3","v":0.39880296296296291},{"$f":"G26/0.46","v":0.19478260869565214},0.21913043478260869,0.23130434782608694,{"$f":"P26*$N$4","v":0.21465043478260867},{"$f":"Q26*$N$4","v":0.2414817391304348},{"$f":"R26*$N$4","v":0.25489739130434785},null,"0h",null,3.6,4.8,6.1,{"$f":"$C$4*Y26/100","v":5.04E-2},{"$f":"$C$4*Z26/100","v":6.7199999999999996E-2},{"$f":"$C$4*AA26/100","v":8.539999999999999E-2},{"$f":"AB26/0.27","v":0.18666666666666665},0.24888888888888885,0.31629629629629624,{"$f":"AE26*$N$3","v":0.18890666666666664},{"$f":"AF26*$N$3","v":0.25187555555555552},{"$f":"AG26*$N$3","v":0.32009185185185179},{"$f":"AB26/0.46","v":0.10956521739130434},0.14608695652173911,0.18565217391304345,{"$f":"AK26*$N$4","v":0.1207408695652174},{"$f":"AL26*$N$4","v":0.16098782608695653},{"$f":"AM26*$N$4","v":0.20458869565217389}]
[null,"3h",null,16.899999999999999,24.1,29.6,0.23659999999999998,0.33740000000000003,0.41439999999999999,0.87629629629629613,1.2496296296296296,1.5348148148148146,{"$f":"J27*$N$3","v":0.88681185185185174},1.2646251851851853,1.5532325925925925,0.51434782608695639,0.73347826086956525,0.90086956521739125,{"$f":"P27*$N$4","v":0.56681130434782601},0.80829304347826092,0.9927582608695652,null,"3h",null,5.9,9.6,15.4,{"$f":"$C$4*Y27/100","v":8.2599999999999993E-2},0.13439999999999999,0.21559999999999999,0.30592592592592588,0.49777777777777771,0.79851851851851841,{"$f":"AE27*$N$3","v":0.309597037037037},0.50375111111111104,0.80810074074074068,0.17956521739130432,0.29217391304347823,0.46869565217391301,{"$f":"AK27*$N$4","v":0.19788086956521739},0.32197565217391305,0.51650260869565223]
[null,"6h",null,24.5,27.6,30.5,0.34299999999999997,0.38640000000000002,0.42699999999999994,1.2703703703703701,1.431111111111111,1.581481481481481,1.2856148148148145,1.4482844444444443,1.6004592592592588,0.74565217391304339,0.84,0.92826086956521725,0.82170869565217386,0.92568000000000006,1.0229434782608695,null,"6h",null,7.7,12.8,19.899999999999999,0.10779999999999999,0.17919999999999997,0.27859999999999996,0.3992592592592592,0.66370370370370357,1.0318518518518516,0.40405037037037034,0.67166814814814801,1.0442340740740739,0.23434782608695651,0.38956521739130429,0.60565217391304338,0.25825130434782612,0.42930086956521735,0.66742869565217389]
[null,"12h",null,24.3,28.5,30.5,0.34019999999999995,0.39899999999999997,0.42699999999999994,1.2599999999999998,1.4777777777777776,1.581481481481481,1.2751199999999998,1.495511111111111,1.6004592592592588,0.73956521739130421,0.86739130434782596,0.92826086956521725,0.81500086956521733,0.95586521739130426,1.0229434782608695,null,"12h",null,9.8000000000000007,16,23,0.13720000000000002,0.22399999999999998,0.32199999999999995,0.50814814814814813,0.82962962962962949,1.1925925925925924,0.51424592592592588,0.8395851851851851,1.2069037037037036,0.29826086956521741,0.48695652173913034,0.69999999999999984,0.32868347826086963,0.5366260869565217,0.77139999999999986]
[null,"Sans incorporation",null,24.3,28.5,30.5,{"$f":"$C$4*D30/100","v":0.34019999999999995},{"$f":"$C$4*E30/100","v":0.39899999999999997},{"$f":"$C$4*F30/100","v":0.42699999999999994},{"$f":"G30/0.27","v":1.2599999999999998},{"$f":"H30/0.27","v":1.4777777777777776},{"$f":"I30/0.27","v":1.581481481481481},{"$f":"J30*$N$3","v":1.2751199999999998},1.495511111111111,1.6004592592592588,{"$f":"G30/0.46","v":0.73956521739130421},{"$f":"H30/0.46","v":0.86739130434782596},{"$f":"I30/0.46","v":0.92826086956521725},0.81500086956521733,0.95586521739130426,1.0229434782608695,null,"Sans incorporation",null,9.8000000000000007,16,23,{"$f":"$C$4*Y30/100","v":0.13720000000000002},0.22399999999999998,0.32199999999999995,{"$f":"AB30/0.27","v":0.50814814814814813},{"$f":"AC30/0.27","v":0.82962962962962949},{"$f":"AD30/0.27","v":1.1925925925925924},0.51424592592592588,0.8395851851851851,1.2069037037037036,{"$f":"AB30/0.46","v":0.29826086956521741},{"$f":"AC30/0.46","v":0.48695652173913034},{"$f":"AD30/0.46","v":0.69999999999999984},0.32868347826086963,0.5366260869565217,0.77139999999999986]
[]
[null,"Vitesse du vent (km/h)",25,null,null,null,null,null,null,null,null,null,null,null,null,null,null,null,null,null,null,null,"Vitesse du vent (km/h)",25]
[null,"Délai avant incorporation","Température ",10,20,30,10,20,30,10,20,30,10,20,30,10,20,30,10,20,30,null,"Délai avant incorporation","Température ",10,20,30,10,20,30,10,20,30,10,20,30,10,20,30,10,20,30]
[null,"0h",null,7.1,7.5,7.8,{"$f":"$C$4*D34/100","v":9.9399999999999988E-2},0.105,0.10920000000000001,{"$f":"G34/0.27","v":0.36814814814814806},0.38888888888888884,0.40444444444444444,{"$f":"J34*$N$3","v":0.37256592592592586},{"$f":"K34*$N$3","v":0.39355555555555549},{"$f":"L34*$N$3","v":0.40929777777777776},{"$f":"G34/0.46","v":0.21608695652173909},0.22826086956521738,0.2373913043478261,{"$f":"P34*$N$4","v":0.23812782608695651},{"$f":"Q34*$N$4","v":0.25154347826086959},{"$f":"R34*$N$4","v":0.26160521739130438},null,"0h",null,4.5,5.9,6.9,{"$f":"$C$4*Y34/100","v":6.3E-2},{"$f":"$C$4*Z34/100","v":8.2599999999999993E-2},{"$f":"$C$4*AA34/100","v":9.6600000000000005E-2},{"$f":"AB34/0.27","v":0.23333333333333331},0.30592592592592588,0.35777777777777775,{"$f":"AE34*$N$3","v":0.23613333333333331},{"$f":"AF34*$N$3","v":0.309597037037037},{"$f":"AG34*$N$3","v":0.36207111111111107},{"$f":"AB34/0.46","v":0.13695652173913042},0.17956521739130432,0.21,{"$f":"AK34*$N$4","v":0.15092608695652174},{"$f":"AL34*$N$4","v":0.19788086956521739},{"$f":"AM34*$N$4","v":0.23142000000000001}]
[null,"3h",null,22.7,28.8,31.3,0.31779999999999997,0.4032,0.43819999999999998,1.1770370370370369,1.4933333333333332,1.6229629629629627,{"$f":"J35*$N$3","v":1.1911614814814813},1.5112533333333331,1.6424385185185182,0.69086956521739118,0.87652173913043474,0.95260869565217388,{"$f":"P35*$N$4","v":0.76133826086956513},0.96592695652173921,1.0497747826086956,null,"3h",null,8.6999999999999993,14.1,21.2,{"$f":"$C$4*Y35/100","v":0.12179999999999998},0.19739999999999999,0.29679999999999995,0.45111111111111102,0.73111111111111104,1.0992592592592589,{"$f":"AE35*$N$3","v":0.45652444444444434},0.73988444444444434,1.1124503703703701,0.26478260869565212,0.42913043478260865,0.64521739130434774,{"$f":"AK35*$N$4","v":0.29179043478260869},0.47290173913043476,0.71102956521739125]
[null,"6h",null,26.7,30.1,31.4,0.37379999999999997,0.4214,0.43959999999999994,1.3844444444444441,1.5607407407407405,1.6281481481481479,1.4010577777777775,1.5794696296296293,1.6476859259259258,0.81260869565217375,0.9160869565217391,0.95565217391304325,0.89549478260869553,1.0095278260869567,1.0531286956521737,null,"6h",null,11.6,18.399999999999999,25.4,0.16239999999999999,0.2576,0.35559999999999997,0.60148148148148139,0.95407407407407396,1.3170370370370368,0.60869925925925916,0.96552296296296292,1.3328414814814813,0.35304347826086951,0.55999999999999994,0.7730434782608695,0.38905391304347825,0.61712,0.85189391304347828]
[null,"12h",null,27.9,30.2,31.4,0.39059999999999995,0.42279999999999995,0.43959999999999994,1.4466666666666663,1.5659259259259257,1.6281481481481479,1.4640266666666664,1.5847170370370369,1.6476859259259258,0.84913043478260852,0.91913043478260859,0.95565217391304325,0.93574173913043468,1.0128817391304348,1.0531286956521737,null,"12h",null,14.6,21.7,27.1,0.20439999999999997,0.30379999999999996,0.37939999999999996,0.75703703703703684,1.1251851851851851,1.4051851851851849,0.76612148148148129,1.1386874074074074,1.4220474074074072,0.44434782608695644,0.66043478260869548,0.82478260869565201,0.48967130434782602,0.7277991304347825,0.90891043478260858]
[null,"Sans incorporation",null,27.9,30.2,31.4,{"$f":"$C$4*D38/100","v":0.39059999999999995},{"$f":"$C$4*E38/100","v":0.42279999999999995},{"$f":"$C$4*F38/100","v":0.43959999999999994},{"$f":"G38/0.27","v":1.4466666666666663},{"$f":"H38/0.27","v":1.5659259259259257},{"$f":"I38/0.27","v":1.6281481481481479},{"$f":"J38*$N$3","v":1.4640266666666664},1.5847170370370369,1.6476859259259258,{"$f":"G38/0.46","v":0.84913043478260852},{"$f":"H38/0.46","v":0.91913043478260859},{"$f":"I38/0.46","v":0.95565217391304325},0.93574173913043468,1.0128817391304348,1.0531286956521737,null,"Sans incorporation",null,14.6,21.7,27.1,{"$f":"$C$4*Y38/100","v":0.20439999999999997},0.30379999999999996,0.37939999999999996,{"$f":"AB38/0.27","v":0.75703703703703684},{"$f":"AC38/0.27","v":1.1251851851851851},{"$f":"AD38/0.27","v":1.4051851851851849},0.76612148148148129,1.1386874074074074,1.4220474074074072,{"$f":"AB38/0.46","v":0.44434782608695644},{"$f":"AC38/0.46","v":0.66043478260869548},{"$f":"AD38/0.46","v":0.82478260869565201},0.48967130434782602,0.7277991304347825,0.90891043478260858]
[]
[]
[null,"LISIER DE VACHE",null,null,null,null,null,null,null,null,null,null,null,null,null,null,null,null,null,null,null,null,"LISIER DE VACHE"]
[null,"M.S (%)",7,null,null,null,null,null,null,"Prix 2025",null,"Formule ","$/t","$/kg",null,null,null,null,null,null,null,null,"M.S (%)",7,null,null,null,null,null,null,"Prix 2025",null,"Formule ","$/t","$/kg"]
[null,"N total (kg/t)",2.6,null,null,null,null,null,null,"Nitrate d'ammonium calcique (CAN)",null,"27-0-0",1012,{"$f":"M43/1000","v":1.012},null,null,null,null,null,null,null,null,"N total (kg/t)",2.6,null,null,null,null,null,null,"Nitrate d'ammonium calcique (CAN)",null,"27-0-0",1012,{"$f":"AH43/1000","v":1.012}]
[null,"Azote ammoniacal total ou N-NH4+ (kg/t)",1.4,null,null,null,null,null,null,"Urée",null,"46-0-0",1102,{"$f":"M44/1000","v":1.1020000000000001},null,null,null,null,null,null,null,null,"Azote ammoniacal total ou N-NH4+ (kg/t)",1.4,null,null,null,null,null,null,"Urée",null,"46-0-0",1102,{"$f":"AH44/1000","v":1.1020000000000001}]
[]
[null,"Aspersion basse",null,"Pourcentage d’azote ammoniacal (% N-NH4+) appliqué qui est émis sous forme d’ammoniac (N-NH3) lors des 12 heures suivant l'épandage",null,null,"Émissions cumulatives de N-NH3 (kg/t de lisier épandu)",null,null,{"$f":"$J$3","v":"Nitrate d'ammonium calcique (CAN)"},null,null,null,null,null,{"$f":"$J$4","v":"Urée"},null,null,null,null,null,null,"Pendillards",null,"Pourcentage d’azote ammoniacal (% N-NH4+) appliqué qui est émis sous forme d’ammoniac (N-NH3) lors des 12 heures suivant l'épandage",null,null,"Émissions cumulatives de N-NH3 (kg/t de lisier épandu)",null,null,{"$f":"$J$3","v":"Nitrate d'ammonium calcique (CAN)"},null,null,null,null,null,{"$f":"$J$4","v":"Urée"}]
[null,null,null,null,null,null,null,null,null,"Masse de fertilisant requise pour compenser l'azote perdu (kg/t de lisier épandu)",null,null,"$/t de lisier épandu",null,null,"Masse de fertilisant requise pour compenser l'azote perdu (kg/t de lisier épandu)",null,null,"$/t de lisier épandu",null,null,null,null,null,null,null,null,null,null,null,"Masse de fertilisant requise pour compenser l'azote perdu (kg/t de lisier épandu)",null,null,"$/t de lisier épandu",null,null,"Masse de fertilisant requise pour compenser l'azote perdu (kg/t de lisier épandu)",null,null,"$/t de lisier épandu"]
[null,"Vitesse du vent (km/h)",5,"km/h",null,null,null,null,null,null,null,null,null,null,null,null,null,null,null,null,null,null,"Vitesse du vent (km/h)",5,"km/h"]
[null,"Délai avant incorporation","Température ",10,20,30,10,20,30,10,20,30,10,20,30,10,20,30,10,20,30,null,"Délai avant incorporation","Température ",10,20,30,10,20,30,10,20,30,10,20,30,10,20,30,10,20,30]
[null,"0h",null,7.3,10.5,13.1,{"$f":"$C$4*D50/100","v":0.10219999999999999},0.14699999999999999,0.18340000000000001,{"$f":"G50/0.27","v":0.37851851851851842},0.5444444444444444,0.67925925925925923,{"$f":"J50*$N$3","v":0.38306074074074065},{"$f":"K50*$N$3","v":0.55097777777777779},{"$f":"L50*$N$3","v":0.68741037037037034},{"$f":"G50/0.46","v":0.22217391304347822},0.31956521739130433,0.39869565217391306,{"$f":"P50*$N$4","v":0.24483565217391301},{"$f":"Q50*$N$4","v":0.35216086956521742},{"$f":"R50*$N$4","v":0.43936260869565225},null,"0h",null,3.1,4.4000000000000004,6.7,{"$f":"$C$4*Y50/100","v":4.3400000000000001E-2},{"$f":"$C$4*Z50/100","v":6.1600000000000002E-2},{"$f":"$C$4*AA50/100","v":9.3799999999999994E-2},{"$f":"AB50/0.27","v":0.16074074074074074},0.22814814814814813,0.34740740740740739,{"$f":"AE50*$N$3","v":0.16266962962962964},{"$f":"AF50*$N$3","v":0.23088592592592591},{"$f":"AG50*$N$3","v":0.35157629629629628},{"$f":"AB50/0.46","v":9.4347826086956521E-2},0.13391304347826086,0.20391304347826084,{"$f":"AK50*$N$4","v":0.10397130434782609},{"$f":"AL50*$N$4","v":0.14757217391304348},{"$f":"AM50*$N$4","v":0.22471217391304346}]
[null,"3h",null,16.3,28.2,44.2,0.22820000000000001,0.39479999999999998,0.61880000000000002,0.84518518518518515,1.4622222222222221,2.2918518518518516,{"$f":"J51*$N$3","v":0.85532740740740743},1.4797688888888887,2.3193540740740737,0.49608695652173912,0.8582608695652173,1.3452173913043477,{"$f":"P51*$N$4","v":0.54668782608695654},0.94580347826086952,1.4824295652173913,null,"3h",null,4.7,8,14.4,{"$f":"$C$4*Y51/100","v":6.5799999999999997E-2},0.11199999999999999,0.2016,0.24370370370370367,0.41481481481481475,0.74666666666666659,{"$f":"AE51*$N$3","v":0.24662814814814812},0.41979259259259255,0.75562666666666656,0.14304347826086955,0.24347826086956517,0.43826086956521737,{"$f":"AK51*$N$4","v":0.15763391304347826},0.26831304347826085,0.48296347826086961]
[null,"6h",null,22.4,37.700000000000003,54.5,0.31359999999999993,0.52780000000000005,0.76300000000000001,1.1614814814814811,1.9548148148148148,2.825925925925926,1.1754192592592589,1.9782725925925926,2.8598370370370372,0.6817391304347824,1.1473913043478261,1.6586956521739129,0.75127652173913029,1.2644252173913044,1.8278826086956521,null,"6h",null,6,10.8,19.7,8.3999999999999991E-2,0.1512,0.27579999999999999,0.31111111111111106,0.55999999999999994,1.0214814814814814,0.31484444444444437,0.56672,1.0337392592592591,0.18260869565217389,0.32869565217391306,0.59956521739130431,0.20123478260869565,0.3622226086956522,0.66072086956521736]
[null,"12h",null,29.2,45.5,59,0.40879999999999994,0.63700000000000001,0.82599999999999996,1.5140740740740737,2.3592592592592592,3.0592592592592589,1.5322429629629626,2.3875703703703701,3.0959703703703703,0.88869565217391289,1.3847826086956521,1.7956521739130433,0.97934260869565204,1.5260304347826088,1.978808695652174,null,"12h",null,7.7,14.4,26,0.10779999999999999,0.2016,0.36399999999999999,0.3992592592592592,0.74666666666666659,1.3481481481481481,0.40405037037037034,0.75562666666666656,1.3643259259259259,0.23434782608695651,0.43826086956521737,0.79130434782608694,0.25825130434782612,0.48296347826086961,0.87201739130434786]
[null,"Sans incorporation",null,29.2,45.5,59,{"$f":"$C$4*D54/100","v":0.40879999999999994},{"$f":"$C$4*E54/100","v":0.63700000000000001},{"$f":"$C$4*F54/100","v":0.82599999999999996},{"$f":"G54/0.27","v":1.5140740740740737},{"$f":"H54/0.27","v":2.3592592592592592},{"$f":"I54/0.27","v":3.0592592592592589},{"$f":"J54*$N$3","v":1.5322429629629626},{"$f":"K54*$N$3","v":2.3875703703703701},{"$f":"L54*$N$3","v":3.0959703703703703},{"$f":"G54/0.46","v":0.88869565217391289},{"$f":"H54/0.46","v":1.3847826086956521},{"$f":"I54/0.46","v":1.7956521739130433},0.97934260869565204,1.5260304347826088,1.978808695652174,null,"Sans incorporation",null,7.7,14.4,26,{"$f":"$C$4*Y54/100","v":0.10779999999999999},0.2016,0.36399999999999999,{"$f":"AB54/0.27","v":0.3992592592592592},{"$f":"AC54/0.27","v":0.74666666666666659},{"$f":"AD54/0.27","v":1.3481481481481481},0.40405037037037034,0.75562666666666656,1.3643259259259259,{"$f":"AB54/0.46","v":0.23434782608695651},{"$f":"AC54/0.46","v":0.43826086956521737},{"$f":"AD54/0.46","v":0.79130434782608694},0.25825130434782612,0.48296347826086961,0.87201739130434786]
[]
[null,"Vitesse du vent (km/h)",10,"km/h",null,null,null,null,null,null,null,null,null,null,null,null,null,null,null,null,null,null,"Vitesse du vent (km/h)",10,"km/h"]
[null,"Délai avant incorporation","Température ",10,20,30,10,20,30,10,20,30,10,20,30,10,20,30,10,20,30,null,"Délai avant incorporation","Température ",10,20,30,10,20,30,10,20,30,10,20,30,10,20,30,10,20,30]
[null,"0h",null,9.5,12.5,14.2,{"$f":"$C$4*D58/100","v":0.13299999999999998},0.17499999999999999,0.19879999999999998,{"$f":"G58/0.27","v":0.49259259259259247},0.64814814814814803,0.73629629629629612,{"$f":"J58*$N$3","v":0.49850370370370356},{"$f":"K58*$N$3","v":0.6559259259259258},{"$f":"L58*$N$3","v":0.74513185185185171},{"$f":"G58/0.46","v":0.28913043478260864},0.38043478260869562,0.43217391304347819,{"$f":"P58*$N$4","v":0.31862173913043473},{"$f":"Q58*$N$4","v":0.41923913043478261},{"$f":"R58*$N$4","v":0.47625565217391302},null,"0h",null,3.9,5.9,8.8000000000000007,{"$f":"$C$4*Y58/100","v":5.4600000000000003E-2},{"$f":"$C$4*Z58/100","v":8.2599999999999993E-2},{"$f":"$C$4*AA58/100","v":0.1232},{"$f":"AB58/0.27","v":0.20222222222222222},0.30592592592592588,0.45629629629629626,{"$f":"AE58*$N$3","v":0.20464888888888888},{"$f":"AF58*$N$3","v":0.309597037037037},{"$f":"AG58*$N$3","v":0.46177185185185182},{"$f":"AB58/0.46","v":0.11869565217391305},0.17956521739130432,0.26782608695652171,{"$f":"AK58*$N$4","v":0.13080260869565219},{"$f":"AL58*$N$4","v":0.19788086956521739},{"$f":"AM58*$N$4","v":0.29514434782608695}]
[null,"3h",null,23.9,38.799999999999997,55.4,0.33459999999999995,0.54319999999999991,0.77559999999999985,1.2392592592592591,2.0118518518518513,2.8725925925925919,{"$f":"J59*$N$3","v":1.2541303703703701},2.0359940740740736,2.9070637037037033,0.72739130434782595,1.1808695652173911,1.6860869565217387,{"$f":"P59*$N$4","v":0.80158521739130428},1.301318260869565,1.8580678260869561,null,"3h",null,6.7,11.9,21.3,{"$f":"$C$4*Y59/100","v":9.3799999999999994E-2},0.1666,0.29820000000000002,0.34740740740740739,0.61703703703703694,1.1044444444444443,{"$f":"AE59*$N$3","v":0.35157629629629628},0.62444148148148138,1.1176977777777777,0.20391304347826084,0.36217391304347823,0.64826086956521745,{"$f":"AK59*$N$4","v":0.22471217391304346},0.39911565217391304,0.71438347826086968]
[null,"6h",null,32.299999999999997,49.4,62.8,0.45219999999999994,0.69159999999999999,0.87919999999999987,1.6748148148148145,2.5614814814814815,3.2562962962962958,1.6949125925925923,2.5922192592592594,3.2953718518518516,0.98304347826086935,1.5034782608695652,1.9113043478260865,1.0833139130434781,1.656833043478261,2.1062573913043474,null,"6h",null,8.9,16.3,28.9,0.12459999999999999,0.22820000000000001,0.40459999999999996,0.46148148148148138,0.84518518518518515,1.4985185185185184,0.46701925925925919,0.85532740740740743,1.5165007407407407,0.27086956521739125,0.49608695652173912,0.87956521739130422,0.29849826086956516,0.54668782608695654,0.96928086956521731]
[null,"12h",null,40.299999999999997,55.4,64.3,0.56419999999999992,0.77559999999999985,0.9002,2.0896296296296293,2.8725925925925919,3.3340740740740737,2.1147051851851848,2.9070637037037033,3.3740829629629627,1.2265217391304346,1.6860869565217387,1.9569565217391303,1.3516269565217391,1.8580678260869561,2.1565660869565217,null,"12h",null,11.8,21.7,36.6,0.16519999999999999,0.30379999999999996,0.51239999999999997,0.61185185185185176,1.1251851851851851,1.8977777777777776,0.61919407407407401,1.1386874074074074,1.9205511111111109,0.35913043478260864,0.66043478260869548,1.1139130434782607,0.39576173913043478,0.7277991304347825,1.2275321739130434]
[null,"Sans incorporation",null,40.299999999999997,55.4,64.3,{"$f":"$C$4*D62/100","v":0.56419999999999992},{"$f":"$C$4*E62/100","v":0.77559999999999985},{"$f":"$C$4*F62/100","v":0.9002},{"$f":"G62/0.27","v":2.0896296296296293},{"$f":"H62/0.27","v":2.8725925925925919},{"$f":"I62/0.27","v":3.3340740740740737},{"$f":"J62*$N$3","v":2.1147051851851848},{"$f":"K62*$N$3","v":2.9070637037037033},{"$f":"L62*$N$3","v":3.3740829629629627},{"$f":"G62/0.46","v":1.2265217391304346},{"$f":"H62/0.46","v":1.6860869565217387},{"$f":"I62/0.46","v":1.9569565217391303},1.3516269565217391,1.8580678260869561,2.1565660869565217,null,"Sans incorporation",null,11.8,21.7,36.6,{"$f":"$C$4*Y62/100","v":0.16519999999999999},0.30379999999999996,0.51239999999999997,{"$f":"AB62/0.27","v":0.61185185185185176},{"$f":"AC62/0.27","v":1.1251851851851851},{"$f":"AD62/0.27","v":1.8977777777777776},0.61919407407407401,1.1386874074074074,1.9205511111111109,{"$f":"AB62/0.46","v":0.35913043478260864},{"$f":"AC62/0.46","v":0.66043478260869548},{"$f":"AD62/0.46","v":1.1139130434782607},0.39576173913043478,0.7277991304347825,1.2275321739130434]
[]
[null,"Vitesse du vent (km/h)",15,"km/h",null,null,null,null,null,null,null,null,null,null,null,null,null,null,null,null,null,null,"Vitesse du vent (km/h)",15,"km/h"]
[null,"Délai avant incorporation","Température ",10,20,30,10,20,30,10,20,30,10,20,30,10,20,30,10,20,30,null,"Délai avant incorporation","Température ",10,20,30,10,20,30,10,20,30,10,20,30,10,20,30,10,20,30]
[null,"0h",null,11.1,13.5,14.7,{"$f":"$C$4*D66/100","v":0.15539999999999998},0.18899999999999997,0.20579999999999998,{"$f":"G66/0.27","v":0.57555555555555549},0.69999999999999984,0.76222222222222213,{"$f":"J66*$N$3","v":0.5824622222222221},{"$f":"K66*$N$3","v":0.70839999999999981},{"$f":"L66*$N$3","v":0.77136888888888877},{"$f":"G66/0.46","v":0.33782608695652167},0.41086956521739121,0.44739130434782604,{"$f":"P66*$N$4","v":0.37228434782608688},{"$f":"Q66*$N$4","v":0.45277826086956513},{"$f":"R66*$N$4","v":0.49302521739130434},null,"0h",null,4.8,7.3,10.5,{"$f":"$C$4*Y66/100","v":6.7199999999999996E-2},{"$f":"$C$4*Z66/100","v":0.10219999999999999},{"$f":"$C$4*AA66/100","v":0.14699999999999999},{"$f":"AB66/0.27","v":0.24888888888888885},0.37851851851851842,0.5444444444444444,{"$f":"AE66*$N$3","v":0.25187555555555552},{"$f":"AF66*$N$3","v":0.38306074074074065},{"$f":"AG66*$N$3","v":0.55097777777777779},{"$f":"AB66/0.46","v":0.14608695652173911},0.22217391304347822,0.31956521739130433,{"$f":"AK66*$N$4","v":0.16098782608695653},{"$f":"AL66*$N$4","v":0.24483565217391301},{"$f":"AM66*$N$4","v":0.35216086956521742}]
[null,"3h",null,31.2,47.6,62.5,0.43680000000000002,{"$f":"$C$4*E67/100","v":0.66639999999999999},0.875,1.6177777777777778,2.4681481481481478,3.2407407407407405,{"$f":"J67*$N$3","v":1.637191111111111},2.4977659259259255,3.2796296296296292,0.94956521739130439,1.4486956521739129,1.9021739130434783,{"$f":"P67*$N$4","v":1.0464208695652175},1.5964626086956522,2.0961956521739133,null,"3h",null,9,16.2,27.9,{"$f":"$C$4*Y67/100","v":0.126},0.22679999999999997,0.39059999999999995,0.46666666666666662,0.83999999999999986,1.4466666666666663,{"$f":"AE67*$N$3","v":0.47226666666666661},0.85007999999999984,1.4640266666666664,0.27391304347826084,0.49304347826086947,0.84913043478260852,{"$f":"AK67*$N$4","v":0.30185217391304348},0.54333391304347822,0.93574173913043468]
[null,"6h",null,41.2,57.3,66.5,0.57679999999999998,{"$f":"$C$4*E68/100","v":0.8021999999999998},0.93099999999999994,2.1362962962962961,2.9711111111111101,3.4481481481481477,2.1619318518518518,3.0067644444444435,3.4895259259259257,1.2539130434782608,1.7439130434782604,2.0239130434782608,1.3818121739130436,1.921792173913043,2.2303521739130434,null,"6h",null,12.2,22.2,37.4,0.17079999999999998,0.31079999999999997,0.52359999999999995,0.63259259259259248,1.151111111111111,1.939259259259259,0.64018370370370359,1.1649244444444442,1.96253037037037,0.3713043478260869,0.67565217391304333,1.1382608695652172,0.40917739130434777,0.74456869565217376,1.2543634782608695]
[null,"12h",null,48.7,60.9,66.900000000000006,0.68179999999999996,0.85259999999999991,0.93659999999999999,2.525185185185185,3.1577777777777771,3.4688888888888885,2.5554874074074072,3.1956711111111105,3.5105155555555552,1.4821739130434781,1.853478260869565,2.0360869565217392,1.633355652173913,2.0425330434782607,2.2437678260869567,null,"12h",null,16.3,28.9,45.3,0.22820000000000001,0.40459999999999996,0.63419999999999999,0.84518518518518515,1.4985185185185184,2.3488888888888888,0.85532740740740743,1.5165007407407407,2.3770755555555554,0.49608695652173912,0.87956521739130422,1.3786956521739129,0.54668782608695654,0.96928086956521731,1.5193226086956522]
[null,"Sans incorporation",null,48.7,60.9,66.900000000000006,{"$f":"$C$4*D70/100","v":0.68179999999999996},{"$f":"$C$4*E70/100","v":0.85259999999999991},{"$f":"$C$4*F70/100","v":0.93659999999999999},{"$f":"G70/0.27","v":2.525185185185185},{"$f":"H70/0.27","v":3.1577777777777771},{"$f":"I70/0.27","v":3.4688888888888885},{"$f":"J70*$N$3","v":2.5554874074074072},{"$f":"K70*$N$3","v":3.1956711111111105},{"$f":"L70*$N$3","v":3.5105155555555552},{"$f":"G70/0.46","v":1.4821739130434781},{"$f":"H70/0.46","v":1.853478260869565},{"$f":"I70/0.46","v":2.0360869565217392},1.633355652173913,2.0425330434782607,2.2437678260869567,null,"Sans incorporation",null,16.3,28.9,45.3,{"$f":"$C$4*Y70/100","v":0.22820000000000001},0.40459999999999996,0.63419999999999999,{"$f":"AB70/0.27","v":0.84518518518518515},{"$f":"AC70/0.27","v":1.4985185185185184},{"$f":"AD70/0.27","v":2.3488888888888888},0.85532740740740743,1.5165007407407407,2.3770755555555554,{"$f":"AB70/0.46","v":0.49608695652173912},{"$f":"AC70/0.46","v":0.87956521739130422},{"$f":"AD70/0.46","v":1.3786956521739129},0.54668782608695654,0.96928086956521731,1.5193226086956522]
[]
[null,"Vitesse du vent (km/h)",25,"km/h",null,null,null,null,null,null,null,null,null,null,null,null,null,null,null,null,null,null,"Vitesse du vent (km/h)",25,"km/h"]
[null,"Délai avant incorporation","Température ",10,20,30,10,20,30,10,20,30,10,20,30,10,20,30,10,20,30,null,"Délai avant incorporation","Température ",10,20,30,10,20,30,10,20,30,10,20,30,10,20,30,10,20,30]
[null,"0h",null,13.2,14.5,15.2,{"$f":"$C$4*D74/100","v":0.18479999999999996},0.20299999999999996,0.21279999999999999,{"$f":"G74/0.27","v":0.6844444444444443},0.75185185185185166,0.78814814814814804,{"$f":"J74*$N$3","v":0.69265777777777759},{"$f":"K74*$N$3","v":0.76087407407407393},{"$f":"L74*$N$3","v":0.79760592592592583},{"$f":"G74/0.46","v":0.40173913043478249},0.44130434782608685,0.46260869565217388,{"$f":"P74*$N$4","v":0.44271652173913034},{"$f":"Q74*$N$4","v":0.48631739130434776},{"$f":"R74*$N$4","v":0.50979478260869571},null,"0h",null,6.7,9.8000000000000007,12.7,{"$f":"$C$4*Y74/100","v":9.3799999999999994E-2},{"$f":"$C$4*Z74/100","v":0.13720000000000002},{"$f":"$C$4*AA74/100","v":0.17779999999999999},{"$f":"AB74/0.27","v":0.34740740740740739},0.50814814814814813,0.65851851851851839,{"$f":"AE74*$N$3","v":0.35157629629629628},{"$f":"AF74*$N$3","v":0.51424592592592588},{"$f":"AG74*$N$3","v":0.66642074074074065},{"$f":"AB74/0.46","v":0.20391304347826084},0.29826086956521741,0.38652173913043475,{"$f":"AK74*$N$4","v":0.22471217391304346},{"$f":"AL74*$N$4","v":0.32868347826086963},{"$f":"AM74*$N$4","v":0.42594695652173914}]
[null,"3h",null,44.2,60,68.8,0.61880000000000002,0.84,0.96319999999999995,2.2918518518518516,3.1111111111111107,3.5674074074074071,{"$f":"J75*$N$3","v":2.3193540740740737},3.1484444444444439,3.6102162962962963,1.3452173913043477,1.826086956521739,2.0939130434782607,{"$f":"P75*$N$4","v":1.4824295652173913},2.0123478260869567,2.3074921739130434,null,"3h",null,14.4,25.2,40.5,{"$f":"$C$4*Y75/100","v":0.2016},0.35279999999999995,0.56699999999999995,0.74666666666666659,1.3066666666666664,2.0999999999999996,{"$f":"AE75*$N$3","v":0.75562666666666656},1.3223466666666663,2.1251999999999995,0.43826086956521737,0.76695652173913031,1.2326086956521738,{"$f":"AK75*$N$4","v":0.48296347826086961},0.84518608695652164,1.3583347826086956]
[null,"6h",null,54.5,65.3,69.5,0.76300000000000001,0.9141999999999999,0.97299999999999998,2.825925925925926,3.3859259259259251,3.6037037037037032,2.8598370370370372,3.4265570370370364,3.6469481481481476,1.6586956521739129,1.9873913043478257,2.1152173913043475,1.8278826086956521,2.190105217391304,2.3309695652173912,null,"6h",null,19.7,34,51.1,0.27579999999999999,0.47599999999999992,0.71539999999999992,1.0214814814814814,1.7629629629629626,2.6496296296296293,1.0337392592592591,1.7841185185185182,2.6814251851851849,0.59956521739130431,1.034782608695652,1.5552173913043477,0.66072086956521736,1.1403304347826086,1.7138495652173913]
[null,"12h",null,59,66,69.5,0.82599999999999996,0.92399999999999993,0.97299999999999998,3.0592592592592589,3.4222222222222216,3.6037037037037032,3.0959703703703703,3.4632888888888882,3.6469481481481476,1.7956521739130433,2.008695652173913,2.1152173913043475,1.978808695652174,2.2135826086956523,2.3309695652173912,null,"12h",null,26,42,56.7,0.36399999999999999,0.58799999999999997,0.79379999999999995,1.3481481481481481,2.1777777777777776,2.9399999999999995,1.3643259259259259,2.2039111111111112,2.9752799999999997,0.79130434782608694,1.2782608695652173,1.7256521739130433,0.87201739130434786,1.4086434782608697,1.9016686956521738]
[null,"Sans incorporation",null,59,66,69.5,{"$f":"$C$4*D78/100","v":0.82599999999999996},{"$f":"$C$4*E78/100","v":0.92399999999999993},{"$f":"$C$4*F78/100","v":0.97299999999999998},{"$f":"G78/0.27","v":3.0592592592592589},{"$f":"H78/0.27","v":3.4222222222222216},{"$f":"I78/0.27","v":3.6037037037037032},{"$f":"J78*$N$3","v":3.0959703703703703},{"$f":"K78*$N$3","v":3.4632888888888882},{"$f":"L78*$N$3","v":3.6469481481481476},{"$f":"G78/0.46","v":1.7956521739130433},{"$f":"H78/0.46","v":2.008695652173913},{"$f":"I78/0.46","v":2.1152173913043475},1.978808695652174,2.2135826086956523,2.3309695652173912,null,"Sans incorporation",null,26,42,56.7,{"$f":"$C$4*Y78/100","v":0.36399999999999999},0.58799999999999997,0.79379999999999995,{"$f":"AB78/0.27","v":1.3481481481481481},{"$f":"AC78/0.27","v":2.1777777777777776},{"$f":"AD78/0.27","v":2.9399999999999995},1.3643259259259259,2.2039111111111112,2.9752799999999997,{"$f":"AB78/0.46","v":0.79130434782608694},{"$f":"AC78/0.46","v":1.2782608695652173},{"$f":"AD78/0.46","v":1.7256521739130433},0.87201739130434786,1.4086434782608697,1.9016686956521738]

{"sheet":"Lisier de porc","index":5,"n_rows":78,"n_cols":42,"rows_kept":78,"cut":false,"hidden":false,"merged":[[40,1,40,2],[40,22,40,23],[46,30,46,32],[45,22,46,23],[46,36,46,38],[45,1,46,2],[45,3,46,5],[45,6,46,8],[45,9,45,14],[45,15,45,20],[46,9,46,11],[46,12,46,14],[46,15,46,17],[46,18,46,20],[41,9,41,10],[42,9,42,10],[46,39,46,41],[45,24,46,26],[45,27,46,29],[45,30,45,35],[45,36,45,41],[46,33,46,35],[6,33,6,35],[6,36,6,38],[6,39,6,41],[5,27,6,29],[5,30,5,35],[5,36,5,41],[0,22,0,23],[0,1,0,2],[5,1,6,2],[5,3,6,5],[5,6,6,8],[5,9,5,14],[5,15,5,20],[6,18,6,20],[5,22,6,23],[6,12,6,14],[6,15,6,17],[6,9,6,11],[43,9,43,10],[1,30,1,31],[2,30,2,31],[3,30,3,31],[41,30,41,31],[42,30,42,31],[43,30,43,31],[2,9,2,10],[3,9,3,10],[1,9,1,10],[5,24,6,26],[6,30,6,32]]}
[null,"LISIER DE PORC",null,null,null,null,null,null,null,null,null,null,null,null,null,null,null,null,null,null,null,null,"LISIER DE PORC"]
[null,"M.S (%)",3.5,null,null,null,null,null,null,"Prix 2025",null,"Formule ","$/t","$/kg",null,null,null,null,null,null,null,null,"M.S (%)",3.5,null,null,null,null,null,null,"Prix 2025",null,"Formule ","$/t","$/kg"]
[null,"N total (kg/t)",3.5,null,null,null,null,null,null,"Nitrate d'ammonium calcique (CAN)",null,"27-0-0",1012,{"$f":"M3/1000","v":1.012},null,null,null,null,null,null,null,null,"N total (kg/t)",3.5,null,null,null,null,null,null,"Nitrate d'ammonium calcique (CAN)",null,"27-0-0",1012,{"$f":"AH3/1000","v":1.012}]
[null,"Azote ammoniacal total ou N-NH4+ (kg/t)",2.4,null,null,null,null,null,null,"Urée",null,"46-0-0",1102,{"$f":"M4/1000","v":1.1020000000000001},null,null,null,null,null,null,null,null,"Azote ammoniacal total ou N-NH4+ (kg/t)",2.4,null,null,null,null,null,null,"Urée",null,"46-0-0",1102,{"$f":"AH4/1000","v":1.1020000000000001}]
[]
[null,"Aspersion basse",null,"Pourcentage d’azote ammoniacal (% N-NH4+) appliqué qui est émis sous forme d’ammoniac (N-NH3) lors des 12 heures suivant l'épandage",null,null,"Émissions cumulatives de N-NH3 (kg/t de lisier épandu)",null,null,{"$f":"$J$3","v":"Nitrate d'ammonium calcique (CAN)"},null,null,null,null,null,{"$f":"$J$4","v":"Urée"},null,null,null,null,null,null,"Pendillards",null,"Pourcentage d’azote ammoniacal (% N-NH4+) appliqué qui est émis sous forme d’ammoniac (N-NH3) lors des 12 heures suivant l'épandage",null,null,"Émissions cumulatives de N-NH3 (kg/t de lisier épandu)",null,null,{"$f":"$J$3","v":"Nitrate d'ammonium calcique (CAN)"},null,null,null,null,null,{"$f":"$J$4","v":"Urée"}]
[null,null,null,null,null,null,null,null,null,"Masse de fertilisant requise pour compenser l'azote perdu (kg/t de lisier épandu)",null,null,"$/t de lisier épandu",null,null,"Masse de fertilisant requise pour compenser l'azote perdu (kg/t de lisier épandu)",null,null,"$/t de lisier épandu",null,null,null,null,null,null,null,null,null,null,null,"Masse de fertilisant requise pour compenser l'azote perdu (kg/t de lisier épandu)",null,null,"$/t de lisier épandu",null,null,"Masse de fertilisant requise pour compenser l'azote perdu (kg/t de lisier épandu)",null,null,"$/t de lisier épandu"]
[null,"Vitesse du vent (km/h)",5,null,null,null,null,null,null,null,null,null,null,null,null,null,null,null,null,null,null,null,"Vitesse du vent (km/h)",5]
[null,"Délai avant incorporation","Température ",10,20,30,10,20,30,10,20,30,10,20,30,10,20,30,10,20,30,null,"Délai avant incorporation","Température ",10,20,30,10,20,30,10,20,30,10,20,30,10,20,30,10,20,30]
[null,"0h",null,3.4,4,4.4000000000000004,{"$f":"$C$4*D10/100","v":8.1600000000000006E-2},9.6000000000000002E-2,0.1056,{"$f":"G10/0.27","v":0.30222222222222223},0.35555555555555551,0.39111111111111108,{"$f":"J10*$N$3","v":0.30584888888888889},{"$f":"K10*$N$3","v":0.35982222222222221},0.3958044444444444,{"$f":"G10/0.46","v":0.1773913043478261},0.20869565217391303,0.22956521739130434,{"$f":"P10*$N$4","v":0.19548521739130437},{"$f":"Q10*$N$4","v":0.22998260869565218},0.25298086956521743,null,"0h",null,2.2999999999999998,2.7,3.2,{"$f":"$X$4*Y10/100","v":5.5199999999999999E-2},{"$f":"$X$4*Z10/100","v":6.480000000000001E-2},7.6799999999999993E-2,{"$f":"AB10/0.27","v":0.20444444444444443},0.24000000000000002,0.28444444444444439,{"$f":"AE10*$N$3","v":0.20689777777777776},{"$f":"AF10*$N$3","v":0.24288000000000001},0.28785777777777771,{"$f":"AB10/0.46","v":0.12},0.14086956521739133,0.16695652173913042,{"$f":"AK10*$N$4","v":0.13224},{"$f":"AL10*$N$4","v":0.15523826086956527},0.18398608695652174]
[null,"3h",null,5.7,8.5,11.9,0.1368,0.20399999999999999,0.28559999999999997,0.5066666666666666,0.75555555555555542,1.0577777777777775,{"$f":"J11*$N$3","v":0.51274666666666657},{"$f":"K11*$N$3","v":0.76462222222222209},{"$f":"L11*$N$3","v":1.0704711111111109},0.29739130434782607,0.44347826086956516,0.62086956521739123,{"$f":"P11*$N$4","v":0.32772521739130434},{"$f":"Q11*$N$4","v":0.48871304347826083},{"$f":"R11*$N$4","v":0.68419826086956514},null,"3h",null,2.8,3.6,5.2,{"$f":"$X$4*Y11/100","v":6.7199999999999996E-2},{"$f":"$X$4*Z11/100","v":8.6400000000000005E-2},{"$f":"$X$4*AA11/100","v":0.12480000000000001},0.24888888888888885,0.32,0.4622222222222222,{"$f":"AE11*$N$3","v":0.25187555555555552},{"$f":"AF11*$N$3","v":0.32384000000000002},{"$f":"AG11*$N$3","v":0.46776888888888885},0.14608695652173911,0.18782608695652175,0.27130434782608698,{"$f":"AK11*$N$4","v":0.16098782608695653},{"$f":"AL11*$N$4","v":0.20698434782608699},{"$f":"AM11*$N$4","v":0.29897739130434786}]
[null,"6h",null,7.2,10.6,13.8,0.17280000000000001,0.25439999999999996,0.33119999999999999,0.64,0.94222222222222196,1.2266666666666666,0.64768000000000003,0.95352888888888865,1.2413866666666666,0.37565217391304351,0.55304347826086941,0.72,0.41396869565217398,0.60945391304347818,0.79344000000000003,null,"6h",null,3.1,4.4000000000000004,6.6,{"$f":"$X$4*Y12/100","v":7.4399999999999994E-2},0.1056,0.15839999999999999,0.2755555555555555,0.39111111111111108,0.58666666666666656,0.27886222222222218,0.3958044444444444,0.5937066666666666,0.16173913043478258,0.22956521739130434,0.34434782608695647,0.1782365217391304,0.25298086956521743,0.37947130434782606]
[null,"12h",null,8.8000000000000007,12.1,14.4,0.2112,0.29039999999999999,0.34560000000000002,0.78222222222222215,1.0755555555555554,1.28,0.79160888888888881,1.088462222222222,1.2953600000000001,0.45913043478260868,0.63130434782608691,0.75130434782608702,0.50596173913043485,0.69569739130434782,0.82793739130434796,null,"12h",null,3.6,5.3,8,8.6400000000000005E-2,0.12719999999999998,0.192,0.32,0.47111111111111098,0.71111111111111103,0.32384000000000002,0.47676444444444432,0.71964444444444442,0.18782608695652175,0.27652173913043471,0.41739130434782606,0.20698434782608699,0.30472695652173909,0.45996521739130436]
[null,"Sans incorporation",null,8.8000000000000007,12.1,14.4,0.2112,0.29039999999999999,0.34560000000000002,{"$f":"G14/0.27","v":0.78222222222222215},{"$f":"H14/0.27","v":1.0755555555555554},{"$f":"I14/0.27","v":1.28},0.79160888888888881,1.088462222222222,1.2953600000000001,{"$f":"G14/0.46","v":0.45913043478260868},{"$f":"H14/0.46","v":0.63130434782608691},{"$f":"I14/0.46","v":0.75130434782608702},0.50596173913043485,0.69569739130434782,0.82793739130434796,null,"Sans incorporation",null,3.6,5.3,8,{"$f":"$X$4*Y14/100","v":8.6400000000000005E-2},{"$f":"$X$4*Z14/100","v":0.12719999999999998},{"$f":"$X$4*AA14/100","v":0.192},{"$f":"AB14/0.27","v":0.32},{"$f":"AC14/0.27","v":0.47111111111111098},{"$f":"AD14/0.27","v":0.71111111111111103},0.32384000000000002,0.47676444444444432,0.71964444444444442,{"$f":"AB14/0.46","v":0.18782608695652175},{"$f":"AC14/0.46","v":0.27652173913043471},{"$f":"AD14/0.46","v":0.41739130434782606},0.20698434782608699,0.30472695652173909,0.45996521739130436]
[]
[null,"Vitesse du vent (km/h)",10,null,null,null,null,null,null,null,null,null,null,null,null,null,null,null,null,null,null,null,"Vitesse du vent (km/h)",10]
[null,"Délai avant incorporation","Température ",10,20,30,10,20,30,10,20,30,10,20,30,10,20,30,10,20,30,null,"Délai avant incorporation","Température ",10,20,30,10,20,30,10,20,30,10,20,30,10,20,30,10,20,30]
[null,"0h",null,3.8,4.3,4.5999999999999996,{"$f":"$C$4*D18/100","v":9.1199999999999989E-2},0.10319999999999999,0.1104,{"$f":"G18/0.27","v":0.33777777777777773},0.38222222222222213,0.40888888888888886,{"$f":"J18*$N$3","v":0.34183111111111109},{"$f":"K18*$N$3","v":0.38680888888888881},0.41379555555555553,{"$f":"G18/0.46","v":0.19826086956521735},{"$f":"H18/0.46","v":0.22434782608695647},0.24,{"$f":"P18*$N$4","v":0.21848347826086953},{"$f":"Q18*$N$4","v":0.24723130434782606},0.26447999999999999,null,"0h",null,2.5,3,3.7,{"$f":"$X$4*Y18/100","v":0.06},{"$f":"$X$4*Z18/100","v":7.1999999999999995E-2},{"$f":"$X$4*AA18/100","v":8.8800000000000004E-2},{"$f":"AB18/0.27","v":0.22222222222222221},{"$f":"AC18/0.27","v":0.26666666666666661},{"$f":"AD18/0.27","v":0.3288888888888889},{"$f":"AE18*$N$3","v":0.22488888888888889},{"$f":"AF18*$N$3","v":0.26986666666666659},{"$f":"AG18*$N$3","v":0.33283555555555555},{"$f":"AB18/0.46","v":0.13043478260869565},{"$f":"AC18/0.46","v":0.15652173913043477},{"$f":"AD18/0.46","v":0.19304347826086957},{"$f":"AK18*$N$4","v":0.14373913043478262},{"$f":"AL18*$N$4","v":0.17248695652173912},{"$f":"AM18*$N$4","v":0.21273391304347827}]
[null,"3h",null,7.5,10.8,14.4,0.18,0.25920000000000004,0.34560000000000002,0.66666666666666663,0.96000000000000008,1.28,{"$f":"J19*$N$3","v":0.67466666666666664},{"$f":"K19*$N$3","v":0.97152000000000005},{"$f":"L19*$N$3","v":1.2953600000000001},0.39130434782608692,0.56347826086956532,0.75130434782608702,{"$f":"P19*$N$4","v":0.43121739130434783},{"$f":"Q19*$N$4","v":0.62095304347826108},{"$f":"R19*$N$4","v":0.82793739130434796},null,"3h",null,3.3,4.5999999999999996,6.9,{"$f":"$X$4*Y19/100","v":7.9199999999999993E-2},{"$f":"$X$4*Z19/100","v":0.1104},0.1656,0.29333333333333328,0.40888888888888886,0.61333333333333329,{"$f":"AE19*$N$3","v":0.2968533333333333},0.41379555555555553,0.62069333333333332,0.17217391304347823,0.24,0.36,{"$f":"AK19*$N$4","v":0.18973565217391303},0.26447999999999999,0.39672000000000002]
[null,"6h",null,9.5,12.9,15.1,0.22800000000000001,0.30959999999999999,0.36239999999999994,0.84444444444444444,1.1466666666666665,1.342222222222222,0.85457777777777777,1.1604266666666665,1.3583288888888887,0.49565217391304345,0.67304347826086952,0.78782608695652157,0.54620869565217389,0.74169391304347831,0.86818434782608689,null,"6h",null,3.9,5.7,8.6999999999999993,9.3599999999999989E-2,{"$f":"$X$4*Z20/100","v":0.1368},0.20879999999999999,0.34666666666666662,0.5066666666666666,0.77333333333333321,0.35082666666666662,0.51274666666666657,0.78261333333333316,0.20347826086956519,0.29739130434782607,0.45391304347826084,0.22423304347826087,0.32772521739130434,0.50021217391304351]
[null,"12h",null,11.1,13.8,15.2,0.26639999999999997,0.33119999999999999,0.36479999999999996,0.98666666666666647,1.2266666666666666,1.3511111111111109,0.99850666666666643,1.2413866666666666,1.3673244444444443,0.57913043478260862,0.72,0.79304347826086941,0.63820173913043476,0.79344000000000003,0.87393391304347812,null,"12h",null,4.5999999999999996,7,10.3,0.1104,0.16800000000000001,0.24720000000000003,0.40888888888888886,0.62222222222222223,0.91555555555555557,0.41379555555555553,0.62968888888888885,0.92654222222222227,0.24,0.36521739130434783,0.53739130434782612,0.26447999999999999,0.40246956521739136,0.59220521739130438]
[null,"Sans incorporation",null,11.1,13.8,15.2,{"$f":"$C$4*D22/100","v":0.26639999999999997},{"$f":"$C$4*E22/100","v":0.33119999999999999},{"$f":"$C$4*F22/100","v":0.36479999999999996},{"$f":"G22/0.27","v":0.98666666666666647},{"$f":"H22/0.27","v":1.2266666666666666},{"$f":"I22/0.27","v":1.3511111111111109},0.99850666666666643,1.2413866666666666,1.3673244444444443,{"$f":"G22/0.46","v":0.57913043478260862},{"$f":"H22/0.46","v":0.72},{"$f":"I22/0.46","v":0.79304347826086941},0.63820173913043476,0.79344000000000003,0.87393391304347812,null,"Sans incorporation",null,4.5999999999999996,7,10.3,0.1104,0.16800000000000001,0.24720000000000003,0.40888888888888886,0.62222222222222223,0.91555555555555557,0.41379555555555553,0.62968888888888885,0.92654222222222227,0.24,0.36521739130434783,0.53739130434782612,0.26447999999999999,0.40246956521739136,0.59220521739130438]
[]
[null,"Vitesse du vent (km/h)",15,null,null,null,null,null,null,null,null,null,null,null,null,null,null,null,null,null,null,null,"Vitesse du vent (km/h)",15]
[null,"Délai avant incorporation","Température ",10,20,30,10,20,30,10,20,30,10,20,30,10,20,30,10,20,30,null,"Délai avant incorporation","Température ",10,20,30,10,20,30,10,20,30,10,20,30,10,20,30,10,20,30]
[null,"0h",null,4.0999999999999996,4.5,4.7,{"$f":"$C$4*D26/100","v":9.8399999999999987E-2},0.10799999999999998,0.1128,{"$f":"G26/0.27","v":0.36444444444444435},0.39999999999999991,0.41777777777777775,{"$f":"J26*$N$3","v":0.36881777777777769},{"$f":"K26*$N$3","v":0.40479999999999994},0.42279111111111106,{"$f":"G26/0.46","v":0.21391304347826084},0.23478260869565212,0.2452173913043478,{"$f":"P26*$N$4","v":0.23573217391304346},{"$f":"Q26*$N$4","v":0.25873043478260865},0.27022956521739128,null,"0h",null,2.8,3.3,4,{"$f":"$X$4*Y26/100","v":6.7199999999999996E-2},{"$f":"$X$4*Z26/100","v":7.9199999999999993E-2},{"$f":"$X$4*AA26/100","v":9.6000000000000002E-2},{"$f":"AB26/0.27","v":0.24888888888888885},{"$f":"AC26/0.27","v":0.29333333333333328},{"$f":"AD26/0.27","v":0.35555555555555551},{"$f":"AE26*$N$3","v":0.25187555555555552},{"$f":"AF26*$N$3","v":0.2968533333333333},{"$f":"AG26*$N$3","v":0.35982222222222221},{"$f":"AB26/0.46","v":0.14608695652173911},{"$f":"AC26/0.46","v":0.17217391304347823},{"$f":"AD26/0.46","v":0.20869565217391303},{"$f":"AK26*$N$4","v":0.16098782608695653},{"$f":"AL26*$N$4","v":0.18973565217391303},{"$f":"AM26*$N$4","v":0.22998260869565218}]
[null,"3h",null,9.1,12.6,15.2,0.21840000000000001,0.3024,0.36479999999999996,0.80888888888888888,1.1199999999999999,1.3511111111111109,{"$f":"J27*$N$3","v":0.81859555555555552},{"$f":"K27*$N$3","v":1.13344},{"$f":"L27*$N$3","v":1.3673244444444443},0.4747826086956522,0.65739130434782611,0.79304347826086941,{"$f":"P27*$N$4","v":0.52321043478260876},{"$f":"Q27*$N$4","v":0.72444521739130441},{"$f":"R27*$N$4","v":0.87393391304347812},null,"3h",null,3.9,5.7,8.4,{"$f":"$X$4*Y27/100","v":9.3599999999999989E-2},0.1368,0.2016,0.34666666666666662,0.5066666666666666,0.74666666666666659,{"$f":"AE27*$N$3","v":0.35082666666666662},0.51274666666666657,0.75562666666666656,0.20347826086956519,0.29739130434782607,0.43826086956521737,{"$f":"AK27*$N$4","v":0.22423304347826087},0.32772521739130434,0.48296347826086961]
[null,"6h",null,11.3,14.3,15.6,0.2712,0.34320000000000001,0.37439999999999996,1.0044444444444445,1.2711111111111111,1.3866666666666665,1.0164977777777777,1.2863644444444444,1.4033066666666665,0.5895652173913043,0.74608695652173906,0.81391304347826077,0.64970086956521744,0.82218782608695651,0.89693217391304347,null,"6h",null,4.7,7.2,10.5,0.1128,0.17280000000000001,0.252,0.41777777777777775,0.64,0.93333333333333324,0.42279111111111106,0.64768000000000003,0.94453333333333322,0.2452173913043478,0.37565217391304351,0.54782608695652169,0.27022956521739128,0.41396869565217398,0.60370434782608695]
[null,"12h",null,12.7,14.7,15.6,0.30479999999999996,0.35279999999999995,0.37439999999999996,1.1288888888888886,1.3066666666666664,1.3866666666666665,1.1424355555555552,1.3223466666666663,1.4033066666666665,0.66260869565217384,0.76695652173913031,0.81391304347826077,0.73019478260869564,0.84518608695652164,0.89693217391304347,null,"12h",null,5.8,8.6999999999999993,12,0.13919999999999999,0.20879999999999999,0.28799999999999998,0.51555555555555543,0.77333333333333321,1.0666666666666664,0.52174222222222211,0.78261333333333316,1.0794666666666664,0.30260869565217385,0.45391304347826084,0.62608695652173907,0.33347478260869562,0.50021217391304351,0.68994782608695648]
[null,"Sans incorporation",null,12.7,14.7,15.6,{"$f":"$C$4*D30/100","v":0.30479999999999996},{"$f":"$C$4*E30/100","v":0.35279999999999995},{"$f":"$C$4*F30/100","v":0.37439999999999996},{"$f":"G30/0.27","v":1.1288888888888886},{"$f":"H30/0.27","v":1.3066666666666664},{"$f":"I30/0.27","v":1.3866666666666665},{"$f":"J30*$N$3","v":1.1424355555555552},{"$f":"K30*$N$3","v":1.3223466666666663},{"$f":"L30*$N$3","v":1.4033066666666665},{"$f":"G30/0.46","v":0.66260869565217384},{"$f":"H30/0.46","v":0.76695652173913031},{"$f":"I30/0.46","v":0.81391304347826077},{"$f":"P30*$N$4","v":0.73019478260869564},{"$f":"Q30*$N$4","v":0.84518608695652164},{"$f":"R30*$N$4","v":0.89693217391304347},null,"Sans incorporation",null,5.8,8.6999999999999993,12,0.13919999999999999,0.20879999999999999,0.28799999999999998,0.51555555555555543,0.77333333333333321,1.0666666666666664,0.52174222222222211,0.78261333333333316,1.0794666666666664,0.30260869565217385,0.45391304347826084,0.62608695652173907,0.33347478260869562,0.50021217391304351,0.68994782608695648]
[]
[null,"Vitesse du vent (km/h)",25,null,null,null,null,null,null,null,null,null,null,null,null,null,null,null,null,null,null,null,"Vitesse du vent (km/h)",25]
[null,"Délai avant incorporation","Température ",10,20,30,10,20,30,10,20,30,10,20,30,10,20,30,10,20,30,null,"Délai avant incorporation","Température ",10,20,30,10,20,30,10,20,30,10,20,30,10,20,30,10,20,30]
[null,"0h",null,4.4000000000000004,4.7,4.8,{"$f":"$C$4*D34/100","v":0.1056},0.1128,0.1152,{"$f":"G34/0.27","v":0.39111111111111108},0.41777777777777775,0.42666666666666664,{"$f":"J34*$N$3","v":0.3958044444444444},{"$f":"K34*$N$3","v":0.42279111111111106},0.43178666666666665,{"$f":"G34/0.46","v":0.22956521739130434},0.2452173913043478,0.25043478260869562,{"$f":"P34*$N$4","v":0.25298086956521743},{"$f":"Q34*$N$4","v":0.27022956521739128},0.27597913043478262,null,"0h",null,3.2,3.9,4.4000000000000004,{"$f":"$X$4*Y34/100","v":7.6799999999999993E-2},{"$f":"$X$4*Z34/100","v":9.3599999999999989E-2},{"$f":"$X$4*AA34/100","v":0.1056},{"$f":"AB34/0.27","v":0.28444444444444439},{"$f":"AC34/0.27","v":0.34666666666666662},{"$f":"AD34/0.27","v":0.39111111111111108},{"$f":"AE34*$N$3","v":0.28785777777777771},{"$f":"AF34*$N$3","v":0.35082666666666662},{"$f":"AG34*$N$3","v":0.3958044444444444},{"$f":"AB34/0.46","v":0.16695652173913042},{"$f":"AC34/0.46","v":0.20347826086956519},{"$f":"AD34/0.46","v":0.22956521739130434},{"$f":"AK34*$N$4","v":0.18398608695652174},{"$f":"AL34*$N$4","v":0.22423304347826087},{"$f":"AM34*$N$4","v":0.25298086956521743}]
[null,"3h",null,11.9,14.8,16,0.28559999999999997,0.35520000000000002,0.38400000000000001,1.0577777777777775,1.3155555555555556,1.4222222222222221,{"$f":"J35*$N$3","v":1.0704711111111109},{"$f":"K35*$N$3","v":1.3313422222222222},{"$f":"L35*$N$3","v":1.4392888888888888},0.62086956521739123,0.77217391304347827,0.83478260869565213,{"$f":"P35*$N$4","v":0.68419826086956514},{"$f":"Q35*$N$4","v":0.85093565217391309},{"$f":"R35*$N$4","v":0.91993043478260872},null,"3h",null,5.2,7.8,11.2,{"$f":"$X$4*Y35/100","v":0.12480000000000001},0.18719999999999998,0.26879999999999998,0.4622222222222222,0.69333333333333325,0.99555555555555542,{"$f":"AE35*$N$3","v":0.46776888888888885},0.70165333333333324,1.0075022222222221,0.27130434782608698,0.40695652173913038,0.58434782608695646,{"$f":"AK35*$N$4","v":0.29897739130434786},0.44846608695652174,0.6439513043478261]
[null,"6h",null,13.8,15.4,16,0.33119999999999999,0.36959999999999998,0.38400000000000001,1.2266666666666666,1.3688888888888888,1.4222222222222221,{"$f":"J36*$N$3","v":1.2413866666666666},1.3853155555555554,1.4392888888888888,0.72,0.8034782608695652,0.83478260869565213,0.79344000000000003,0.88543304347826091,0.91993043478260872,null,"6h",null,6.6,9.8000000000000007,13.2,0.15839999999999999,0.23519999999999999,0.31679999999999997,0.58666666666666656,0.87111111111111106,1.1733333333333331,0.5937066666666666,0.88156444444444437,1.1874133333333332,0.34434782608695647,0.51130434782608691,0.68869565217391293,0.37947130434782606,0.5634573913043478,0.75894260869565211]
[null,"12h",null,14.4,15.5,16,0.34560000000000002,0.37199999999999994,0.38400000000000001,1.28,1.3777777777777775,1.4222222222222221,1.2953600000000001,1.3943111111111108,1.4392888888888888,0.75130434782608702,0.80869565217391293,0.83478260869565213,0.82793739130434796,0.89118260869565213,0.91993043478260872,null,"12h",null,8,11.4,14,{"$f":"$X$4*Y37/100","v":0.192},0.27360000000000001,0.33600000000000002,0.71111111111111103,1.0133333333333332,1.2444444444444445,0.71964444444444442,1.0254933333333331,1.2593777777777777,0.41739130434782606,0.59478260869565214,0.73043478260869565,0.45996521739130436,0.65545043478260867,0.80493913043478271]
[null,"Sans incorporation",null,14.4,15.5,16,{"$f":"$C$4*D38/100","v":0.34560000000000002},{"$f":"$C$4*E38/100","v":0.37199999999999994},{"$f":"$C$4*F38/100","v":0.38400000000000001},{"$f":"G38/0.27","v":1.28},{"$f":"H38/0.27","v":1.3777777777777775},{"$f":"I38/0.27","v":1.4222222222222221},1.2953600000000001,1.3943111111111108,1.4392888888888888,{"$f":"G38/0.46","v":0.75130434782608702},{"$f":"H38/0.46","v":0.80869565217391293},{"$f":"I38/0.46","v":0.83478260869565213},{"$f":"P38*$N$4","v":0.82793739130434796},0.89118260869565213,0.91993043478260872,null,"Sans incorporation",null,8,11.4,14,0.192,0.27360000000000001,0.33600000000000002,0.71111111111111103,1.0133333333333332,1.2444444444444445,0.71964444444444442,1.0254933333333331,1.2593777777777777,0.41739130434782606,0.59478260869565214,0.73043478260869565,0.45996521739130436,0.65545043478260867,0.80493913043478271]
[]
[]
[null,"LISIER DE PORC",null,null,null,null,null,null,null,null,null,null,null,null,null,null,null,null,null,null,null,null,"LISIER DE PORC"]
[null,"M.S (%)",7,null,null,null,null,null,null,"Prix 2025",null,"Formule ","$/t","$/kg",null,null,null,null,null,null,null,null,"M.S (%)",7,null,null,null,null,null,null,"Prix 2025",null,"Formule ","$/t","$/kg"]
[null,"N total (kg/t)",3.5,null,null,null,null,null,null,"Nitrate d'ammonium calcique (CAN)",null,"27-0-0",1012,{"$f":"M43/1000","v":1.012},null,null,null,null,null,null,null,null,"N total (kg/t)",3.5,null,null,null,null,null,null,"Nitrate d'ammonium calcique (CAN)",null,"27-0-0",1012,{"$f":"AH43/1000","v":1.012}]
[null,"Azote ammoniacal total ou N-NH4+ (kg/t)",2.4,null,null,null,null,null,null,"Urée",null,"46-0-0",1102,{"$f":"M44/1000","v":1.1020000000000001},null,null,null,null,null,null,null,null,"Azote ammoniacal total ou N-NH4+ (kg/t)",2.4,null,null,null,null,null,null,"Urée",null,"46-0-0",1102,{"$f":"AH44/1000","v":1.1020000000000001}]
[]
[null,"Aspersion basse",null,"Pourcentage d’azote ammoniacal (% N-NH4+) appliqué qui est émis sous forme d’ammoniac (N-NH3) lors des 12 heures suivant l'épandage",null,null,"Émissions cumulatives de N-NH3 (kg/t de lisier épandu)",null,null,{"$f":"$J$3","v":"Nitrate d'ammonium calcique (CAN)"},null,null,null,null,null,{"$f":"$J$4","v":"Urée"},null,null,null,null,null,null,"Pendillards",null,"Pourcentage d’azote ammoniacal (% N-NH4+) appliqué qui est émis sous forme d’ammoniac (N-NH3) lors des 12 heures suivant l'épandage",null,null,"Émissions cumulatives de N-NH3 (kg/t de lisier épandu)",null,null,{"$f":"$J$3","v":"Nitrate d'ammonium calcique (CAN)"},null,null,null,null,null,{"$f":"$J$4","v":"Urée"}]
[null,null,null,null,null,null,null,null,null,"Masse de fertilisant requise pour compenser l'azote perdu (kg/t de lisier épandu)",null,null,"$/t de lisier épandu",null,null,"Masse de fertilisant requise pour compenser l'azote perdu (kg/t de lisier épandu)",null,null,"$/t de lisier épandu",null,null,null,null,null,null,null,null,null,null,null,"Masse de fertilisant requise pour compenser l'azote perdu (kg/t de lisier épandu)",null,null,"$/t de lisier épandu",null,null,"Masse de fertilisant requise pour compenser l'azote perdu (kg/t de lisier épandu)",null,null,"$/t de lisier épandu"]
[null,"Vitesse du vent (km/h)",5,null,null,null,null,null,null,null,null,null,null,null,null,null,null,null,null,null,null,null,"Vitesse du vent (km/h)",5]
[null,"Délai avant incorporation","Température ",10,20,30,10,20,30,10,20,30,10,20,30,10,20,30,10,20,30,null,"Délai avant incorporation","Température ",10,20,30,10,20,30,10,20,30,10,20,30,10,20,30,10,20,30]
[null,"0h",null,5.7,7.9,9.6999999999999993,{"$f":"$C$4*D50/100","v":0.1368},0.18960000000000002,0.23279999999999998,{"$f":"G50/0.27","v":0.5066666666666666},0.70222222222222219,0.86222222222222211,{"$f":"J50*$N$3","v":0.51274666666666657},{"$f":"K50*$N$3","v":0.71064888888888889},0.87256888888888884,{"$f":"G50/0.46","v":0.29739130434782607},0.41217391304347828,0.50608695652173907,{"$f":"P50*$N$4","v":0.32772521739130434},{"$f":"Q50*$N$4","v":0.45421565217391308},0.55770782608695646,null,"0h",null,2.8,3.7,5.3,{"$f":"$X$4*Y50/100","v":6.7199999999999996E-2},{"$f":"$X$4*Z50/100","v":8.8800000000000004E-2},{"$f":"$X$4*AA50/100","v":0.12719999999999998},{"$f":"AB50/0.27","v":0.24888888888888885},{"$f":"AC50/0.27","v":0.3288888888888889},{"$f":"AD50/0.27","v":0.47111111111111098},{"$f":"AE50*$N$3","v":0.25187555555555552},{"$f":"AF50*$N$3","v":0.33283555555555555},{"$f":"AG50*$N$3","v":0.47676444444444432},{"$f":"AB50/0.46","v":0.14608695652173911},{"$f":"AC50/0.46","v":0.19304347826086957},{"$f":"AD50/0.46","v":0.27652173913043471},{"$f":"AK50*$N$4","v":0.16098782608695653},{"$f":"AL50*$N$4","v":0.21273391304347827},{"$f":"AM50*$N$4","v":0.30472695652173909}]
[null,"3h",null,11.9,20.2,31.2,0.28559999999999997,0.48479999999999995,0.74879999999999991,1.0577777777777775,1.7955555555555553,2.773333333333333,{"$f":"J51*$N$3","v":1.0704711111111109},{"$f":"K51*$N$3","v":1.817102222222222},{"$f":"L51*$N$3","v":2.806613333333333},0.62086956521739123,1.0539130434782606,1.6278260869565215,{"$f":"P51*$N$4","v":0.68419826086956514},{"$f":"Q51*$N$4","v":1.1614121739130434},{"$f":"R51*$N$4","v":1.7938643478260869},null,"3h",null,3.9,6.2,10.6,{"$f":"$X$4*Y51/100","v":9.3599999999999989E-2},0.14879999999999999,0.25439999999999996,0.34666666666666662,0.551111111111111,0.94222222222222196,{"$f":"AE51*$N$3","v":0.35082666666666662},0.55772444444444436,0.95352888888888865,0.20347826086956519,0.32347826086956516,0.55304347826086941,{"$f":"AK51*$N$4","v":0.22423304347826087},0.35647304347826081,0.60945391304347818]
[null,"6h",null,16.100000000000001,26.7,38.4,0.38640000000000002,0.64080000000000004,0.92159999999999997,1.431111111111111,2.3733333333333335,3.4133333333333331,1.4482844444444443,2.4018133333333336,3.4542933333333332,0.84,1.3930434782608696,2.0034782608695649,0.92568000000000006,1.5351339130434785,2.2078330434782609,null,"6h",null,4.8,8.1,14.3,0.1152,0.19439999999999999,0.34320000000000001,0.42666666666666664,0.71999999999999986,1.2711111111111111,0.43178666666666665,0.72863999999999984,1.2863644444444444,0.25043478260869562,0.42260869565217385,0.74608695652173906,0.27597913043478262,0.46571478260869564,0.82218782608695651]
[null,"12h",null,20.9,32.200000000000003,41.5,0.50159999999999993,0.77280000000000004,0.996,1.8577777777777773,2.862222222222222,3.6888888888888887,1.8800711111111106,2.8965688888888885,3.7331555555555553,1.0904347826086955,1.68,2.1652173913043478,1.2016591304347826,1.8513600000000001,2.3860695652173916,null,"12h",null,6,10.6,18.600000000000001,0.14399999999999999,0.25439999999999996,0.44640000000000002,0.53333333333333321,0.94222222222222196,1.6533333333333333,0.53973333333333318,0.95352888888888865,1.6731733333333334,0.31304347826086953,0.55304347826086941,0.97043478260869565,0.34497391304347824,0.60945391304347818,1.0694191304347826]
[null,"Sans incorporation",null,20.9,32.200000000000003,41.5,{"$f":"$C$4*D54/100","v":0.50159999999999993},{"$f":"$C$4*E54/100","v":0.77280000000000004},{"$f":"$C$4*F54/100","v":0.996},{"$f":"G54/0.27","v":1.8577777777777773},{"$f":"H54/0.27","v":2.862222222222222},{"$f":"I54/0.27","v":3.6888888888888887},1.8800711111111106,2.8965688888888885,3.7331555555555553,{"$f":"G54/0.46","v":1.0904347826086955},{"$f":"H54/0.46","v":1.68},{"$f":"I54/0.46","v":2.1652173913043478},1.2016591304347826,1.8513600000000001,2.3860695652173916,null,"Sans incorporation",null,6,10.6,18.600000000000001,0.14399999999999999,0.25439999999999996,0.44640000000000002,0.53333333333333321,0.94222222222222196,1.6533333333333333,0.53973333333333318,0.95352888888888865,1.6731733333333334,0.31304347826086953,0.55304347826086941,0.97043478260869565,0.34497391304347824,0.60945391304347818,1.0694191304347826]
[]
[null,"Vitesse du vent (km/h)",10,null,null,null,null,null,null,null,null,null,null,null,null,null,null,null,null,null,null,null,"Vitesse du vent (km/h)",10]
[null,"Délai avant incorporation","Température ",10,20,30,10,20,30,10,20,30,10,20,30,10,20,30,10,20,30,null,"Délai avant incorporation","Température ",10,20,30,10,20,30,10,20,30,10,20,30,10,20,30,10,20,30]
[null,"0h",null,7.2,9.3000000000000007,10.5,{"$f":"$C$4*D58/100","v":0.17280000000000001},0.22320000000000001,0.252,{"$f":"G58/0.27","v":0.64},0.82666666666666666,0.93333333333333324,{"$f":"J58*$N$3","v":0.64768000000000003},{"$f":"K58*$N$3","v":0.8365866666666667},0.94453333333333322,{"$f":"G58/0.46","v":0.37565217391304351},0.48521739130434782,0.54782608695652169,{"$f":"P58*$N$4","v":0.41396869565217398},{"$f":"Q58*$N$4","v":0.53470956521739132},{"$f":"R58*$N$4","v":0.60370434782608695},null,"0h",null,3.4,4.7,6.7,{"$f":"$X$4*Y58/100","v":8.1600000000000006E-2},{"$f":"$X$4*Z58/100","v":0.1128},{"$f":"$X$4*AA58/100","v":0.16079999999999997},{"$f":"AB58/0.27","v":0.30222222222222223},{"$f":"AC58/0.27","v":0.41777777777777775},{"$f":"AD58/0.27","v":0.59555555555555539},{"$f":"AE58*$N$3","v":0.30584888888888889},{"$f":"AF58*$N$3","v":0.42279111111111106},{"$f":"AG58*$N$3","v":0.60270222222222203},{"$f":"AB58/0.46","v":0.1773913043478261},{"$f":"AC58/0.46","v":0.2452173913043478},{"$f":"AD58/0.46","v":0.34956521739130425},{"$f":"AK58*$N$4","v":0.19548521739130437},{"$f":"AL58*$N$4","v":0.27022956521739128},{"$f":"AM58*$N$4","v":0.38522086956521734}]
[null,"3h",null,17.2,27.5,39,0.41279999999999994,0.66,0.93599999999999994,1.5288888888888885,2.4444444444444442,3.4666666666666663,{"$f":"J59*$N$3","v":1.5472355555555553},{"$f":"K59*$N$3","v":2.4737777777777774},{"$f":"L59*$N$3","v":3.5082666666666662},0.89739130434782588,1.4347826086956521,2.034782608695652,{"$f":"P59*$N$4","v":0.98892521739130423},{"$f":"Q59*$N$4","v":1.5811304347826087},{"$f":"R59*$N$4","v":2.2423304347826085},null,"3h",null,5.3,8.9,15.3,{"$f":"$X$4*Y59/100","v":0.12719999999999998},0.21359999999999998,0.36719999999999997,0.47111111111111098,0.79111111111111099,1.3599999999999999,{"$f":"AE59*$N$3","v":0.47676444444444432},0.80060444444444434,1.37632,0.27652173913043471,0.46434782608695646,0.79826086956521725,{"$f":"AK59*$N$4","v":0.30472695652173909},0.51171130434782608,0.87968347826086946]
[null,"6h",null,23,34.9,44.1,0.55199999999999994,0.8375999999999999,1.0584,2.0444444444444443,3.1022222222222218,3.92,2.0689777777777776,3.1394488888888885,3.9670399999999999,1.1999999999999997,1.820869565217391,2.3008695652173912,1.3223999999999998,2.0065982608695649,2.5355582608695655,null,"6h",null,6.8,11.9,20.6,0.16320000000000001,0.28559999999999997,0.49440000000000006,0.60444444444444445,1.0577777777777775,1.8311111111111111,0.61169777777777778,1.0704711111111109,1.8530844444444445,0.3547826086956522,0.62086956521739123,1.0747826086956522,0.39097043478260873,0.68419826086956514,1.1844104347826088]
[null,"12h",null,28.5,39,45.2,0.68399999999999994,0.93599999999999994,1.0848,2.5333333333333328,3.4666666666666663,4.0177777777777779,2.563733333333333,3.5082666666666662,4.0659911111111109,1.4869565217391303,2.034782608695652,2.3582608695652172,1.6386260869565217,2.2423304347826085,2.5988034782608698,null,"12h",null,8.8000000000000007,15.7,26,0.2112,0.37680000000000002,0.624,0.78222222222222215,1.3955555555555557,2.3111111111111109,0.79160888888888881,1.4123022222222223,2.3388444444444443,0.45913043478260868,0.81913043478260872,1.3565217391304347,0.50596173913043485,0.90268173913043492,1.4948869565217391]
[null,"Sans incorporation",null,28.5,39,45.2,{"$f":"$C$4*D62/100","v":0.68399999999999994},{"$f":"$C$4*E62/100","v":0.93599999999999994},{"$f":"$C$4*F62/100","v":1.0848},{"$f":"G62/0.27","v":2.5333333333333328},{"$f":"H62/0.27","v":3.4666666666666663},{"$f":"I62/0.27","v":4.0177777777777779},2.563733333333333,3.5082666666666662,4.0659911111111109,{"$f":"G62/0.46","v":1.4869565217391303},{"$f":"H62/0.46","v":2.034782608695652},{"$f":"I62/0.46","v":2.3582608695652172},1.6386260869565217,2.2423304347826085,2.5988034782608698,null,"Sans incorporation",null,8.8000000000000007,15.7,26,0.2112,0.37680000000000002,0.624,0.78222222222222215,1.3955555555555557,2.3111111111111109,0.79160888888888881,1.4123022222222223,2.3388444444444443,0.45913043478260868,0.81913043478260872,1.3565217391304347,0.50596173913043485,0.90268173913043492,1.4948869565217391]
[]
[null,"Vitesse du vent (km/h)",15,null,null,null,null,null,null,null,null,null,null,null,null,null,null,null,null,null,null,null,"Vitesse du vent (km/h)",15]
[null,"Délai avant incorporation","Température ",10,20,30,10,20,30,10,20,30,10,20,30,10,20,30,10,20,30,null,"Délai avant incorporation","Température ",10,20,30,10,20,30,10,20,30,10,20,30,10,20,30,10,20,30]
[null,"0h",null,8.4,10,10.8,{"$f":"$C$4*D66/100","v":0.2016},0.24,0.25920000000000004,{"$f":"G66/0.27","v":0.74666666666666659},0.88888888888888884,0.96000000000000008,{"$f":"J66*$N$3","v":0.75562666666666656},{"$f":"K66*$N$3","v":0.89955555555555555},0.97152000000000005,{"$f":"G66/0.46","v":0.43826086956521737},0.52173913043478259,0.56347826086956532,{"$f":"P66*$N$4","v":0.48296347826086961},{"$f":"Q66*$N$4","v":0.57495652173913048},{"$f":"R66*$N$4","v":0.62095304347826108},null,"0h",null,4,5.7,7.9,{"$f":"$X$4*Y66/100","v":9.6000000000000002E-2},{"$f":"$X$4*Z66/100","v":0.1368},{"$f":"$X$4*AA66/100","v":0.18960000000000002},{"$f":"AB66/0.27","v":0.35555555555555551},{"$f":"AC66/0.27","v":0.5066666666666666},{"$f":"AD66/0.27","v":0.70222222222222219},{"$f":"AE66*$N$3","v":0.35982222222222221},{"$f":"AF66*$N$3","v":0.51274666666666657},{"$f":"AG66*$N$3","v":0.71064888888888889},{"$f":"AB66/0.46","v":0.20869565217391303},{"$f":"AC66/0.46","v":0.29739130434782607},{"$f":"AD66/0.46","v":0.41217391304347828},{"$f":"AK66*$N$4","v":0.22998260869565218},{"$f":"AL66*$N$4","v":0.32772521739130434},{"$f":"AM66*$N$4","v":0.45421565217391308}]
[null,"3h",null,22.2,33.6,43.9,0.53279999999999994,0.80640000000000001,1.0536000000000001,1.9733333333333329,2.9866666666666664,3.9022222222222225,{"$f":"J67*$N$3","v":1.9970133333333329},{"$f":"K67*$N$3","v":3.0225066666666662},{"$f":"L67*$N$3","v":3.9490488888888891},1.1582608695652172,1.7530434782608695,2.2904347826086959,{"$f":"P67*$N$4","v":1.2764034782608695},{"$f":"Q67*$N$4","v":1.9318539130434784},{"$f":"R67*$N$4","v":2.5240591304347832},null,"3h",null,6.9,11.8,20,{"$f":"$X$4*Y67/100","v":0.1656},0.28320000000000001,0.48,0.61333333333333329,1.0488888888888888,1.7777777777777777,{"$f":"AE67*$N$3","v":0.62069333333333332},1.0614755555555555,1.7991111111111111,0.36,0.6156521739130435,1.0434782608695652,{"$f":"AK67*$N$4","v":0.39672000000000002},0.67844869565217403,1.149913043478261]
[null,"6h",null,29.2,40.4,46.7,0.70079999999999998,0.96959999999999991,1.1208,2.5955555555555554,3.5911111111111107,4.1511111111111108,2.6267022222222223,3.6342044444444439,4.2009244444444445,1.5234782608695652,2.1078260869565213,2.4365217391304346,1.6788730434782611,2.3228243478260868,2.685046956521739,null,"6h",null,9.1,16,26.5,0.21840000000000001,0.38400000000000001,0.6359999999999999,0.80888888888888888,1.4222222222222221,2.3555555555555552,0.81859555555555552,1.4392888888888888,2.3838222222222218,0.4747826086956522,0.83478260869565213,1.3826086956521737,0.52321043478260876,0.91993043478260872,1.5236347826086956]
[null,"12h",null,34.4,42.8,47,0.82559999999999989,1.0271999999999999,1.1279999999999999,3.057777777777777,3.8044444444444436,4.1777777777777771,3.0944711111111105,3.8500977777777772,4.2279111111111103,1.7947826086956518,2.233043478260869,2.4521739130434779,1.9778504347826085,2.4608139130434781,2.702295652173913,null,"12h",null,11.9,20.7,32,0.28559999999999997,0.49680000000000002,0.76800000000000002,1.0577777777777775,1.8399999999999999,2.8444444444444441,1.0704711111111109,1.86208,2.8785777777777777,0.62086956521739123,1.08,1.6695652173913043,0.68419826086956514,1.1901600000000001,1.8398608695652174]
[null,"Sans incorporation",null,34.4,42.8,47,{"$f":"$C$4*D70/100","v":0.82559999999999989},{"$f":"$C$4*E70/100","v":1.0271999999999999},{"$f":"$C$4*F70/100","v":1.1279999999999999},{"$f":"G70/0.27","v":3.057777777777777},{"$f":"H70/0.27","v":3.8044444444444436},{"$f":"I70/0.27","v":4.1777777777777771},3.0944711111111105,3.8500977777777772,4.2279111111111103,{"$f":"G70/0.46","v":1.7947826086956518},{"$f":"H70/0.46","v":2.233043478260869},{"$f":"I70/0.46","v":2.4521739130434779},1.9778504347826085,2.4608139130434781,2.702295652173913,null,"Sans incorporation",null,11.9,20.7,32,0.28559999999999997,0.49680000000000002,0.76800000000000002,1.0577777777777775,1.8399999999999999,2.8444444444444441,1.0704711111111109,1.86208,2.8785777777777777,0.62086956521739123,1.08,1.6695652173913043,0.68419826086956514,1.1901600000000001,1.8398608695652174]
[]
[null,"Vitesse du vent (km/h)",25,null,null,null,null,null,null,null,null,null,null,null,null,null,null,null,null,null,null,null,"Vitesse du vent (km/h)",25]
[null,"Délai avant incorporation","Température ",10,20,30,10,20,30,10,20,30,10,20,30,10,20,30,10,20,30,null,"Délai avant incorporation","Température ",10,20,30,10,20,30,10,20,30,10,20,30,10,20,30,10,20,30]
[null,"0h",null,9.6999999999999993,10.7,11.2,{"$f":"$C$4*D74/100","v":0.23279999999999998},0.25679999999999997,0.26879999999999998,{"$f":"G74/0.27","v":0.86222222222222211},0.95111111111111091,0.99555555555555542,{"$f":"J74*$N$3","v":0.87256888888888884},{"$f":"K74*$N$3","v":0.96252444444444429},1.0075022222222221,{"$f":"G74/0.46","v":0.50608695652173907},0.55826086956521725,0.58434782608695646,{"$f":"P74*$N$4","v":0.55770782608695646},{"$f":"Q74*$N$4","v":0.61520347826086952},{"$f":"R74*$N$4","v":0.6439513043478261},null,"0h",null,5.3,7.4,9.4,{"$f":"$X$4*Y74/100","v":0.12719999999999998},{"$f":"$X$4*Z74/100","v":0.17760000000000001},{"$f":"$X$4*AA74/100","v":0.22559999999999999},{"$f":"AB74/0.27","v":0.47111111111111098},{"$f":"AC74/0.27","v":0.65777777777777779},{"$f":"AD74/0.27","v":0.8355555555555555},{"$f":"AE74*$N$3","v":0.47676444444444432},{"$f":"AF74*$N$3","v":0.6656711111111111},{"$f":"AG74*$N$3","v":0.84558222222222212},{"$f":"AB74/0.46","v":0.27652173913043471},{"$f":"AC74/0.46","v":0.38608695652173913},{"$f":"AD74/0.46","v":0.49043478260869561},{"$f":"AK74*$N$4","v":0.30472695652173909},{"$f":"AL74*$N$4","v":0.42546782608695655},{"$f":"AM74*$N$4","v":0.54045913043478255}]
[null,"3h",null,31.3,42.2,48.3,0.75120000000000009,1.0127999999999999,1.1591999999999998,2.7822222222222224,3.7511111111111104,4.2933333333333321,{"$f":"J75*$N$3","v":2.8156088888888893},{"$f":"K75*$N$3","v":3.7961244444444437},{"$f":"L75*$N$3","v":4.3448533333333321},1.6330434782608696,2.2017391304347824,2.5199999999999996,{"$f":"P75*$N$4","v":1.7996139130434785},{"$f":"Q75*$N$4","v":2.4263165217391305},{"$f":"R75*$N$4","v":2.77704},null,"3h",null,10.6,18.100000000000001,28.7,{"$f":"$X$4*Y75/100","v":0.25439999999999996},0.43440000000000006,0.68879999999999997,0.94222222222222196,1.608888888888889,2.5511111111111107,{"$f":"AE75*$N$3","v":0.95352888888888865},1.6281955555555556,2.5817244444444438,0.55304347826086941,0.94434782608695667,1.497391304347826,{"$f":"AK75*$N$4","v":0.60945391304347818},1.0406713043478264,1.6501252173913044]
[null,"6h",null,38.4,45.9,48.8,0.92159999999999997,1.1015999999999999,1.1711999999999998,3.4133333333333331,4.0799999999999992,4.3377777777777764,3.4542933333333332,4.1289599999999993,4.3898311111111097,2.0034782608695649,2.3947826086956518,2.5460869565217386,2.2078330434782609,2.6390504347826087,2.8057878260869562,null,"6h",null,14.3,24.2,36,{"$f":"$X$4*Y76/100","v":0.34320000000000001},0.58079999999999998,0.86399999999999988,1.2711111111111111,2.1511111111111108,3.1999999999999993,1.2863644444444444,2.176924444444444,3.2383999999999995,0.74608695652173906,1.2626086956521738,1.878260869565217,0.82218782608695651,1.3913947826086956,2.0698434782608692]
[null,"12h",null,41.5,46.4,48.8,0.996,1.1135999999999999,1.1711999999999998,3.6888888888888887,4.1244444444444435,4.3377777777777764,3.7331555555555553,4.1739377777777769,4.3898311111111097,2.1652173913043478,2.4208695652173908,2.5460869565217386,2.3860695652173916,2.667798260869565,2.8057878260869562,null,"12h",null,18.7,29.7,39.9,0.44879999999999998,0.71279999999999999,0.9575999999999999,1.662222222222222,2.6399999999999997,3.546666666666666,1.6821688888888888,2.6716799999999998,3.5892266666666659,0.97565217391304337,1.5495652173913042,2.0817391304347823,1.075168695652174,1.7076208695652173,2.2940765217391301]
[null,"Sans incorporation",null,41.5,46.4,48.8,{"$f":"$C$4*D78/100","v":0.996},{"$f":"$C$4*E78/100","v":1.1135999999999999},{"$f":"$C$4*F78/100","v":1.1711999999999998},{"$f":"G78/0.27","v":3.6888888888888887},{"$f":"H78/0.27","v":4.1244444444444435},{"$f":"I78/0.27","v":4.3377777777777764},3.7331555555555553,4.1739377777777769,4.3898311111111097,{"$f":"G78/0.46","v":2.1652173913043478},{"$f":"H78/0.46","v":2.4208695652173908},{"$f":"I78/0.46","v":2.5460869565217386},2.3860695652173916,2.667798260869565,2.8057878260869562,null,"Sans incorporation",null,18.7,29.7,39.9,0.44879999999999998,0.71279999999999999,0.9575999999999999,1.662222222222222,2.6399999999999997,3.546666666666666,1.6821688888888888,2.6716799999999998,3.5892266666666659,0.97565217391304337,1.5495652173913042,2.0817391304347823,1.075168695652174,1.7076208695652173,2.2940765217391301]

{"sheet":"Base de données","index":6,"n_rows":481,"n_cols":16,"rows_kept":481,"cut":false,"hidden":true,"merged":[]}
["Type fumier","M.S","Méthode","Incorporé","Température","Vent","% pertes"]
["Vache",3.5,"Aspersion basse","0h",10,5,{"$f":"'Lisier de vache'!D10/100","v":4.8000000000000001E-2},null,null,"Prix 2025","Formule","%",null,"Analyses ","Oui","--------"]
["Vache",3.5,"Aspersion basse","3h",10,5,{"$f":"'Lisier de vache'!D11/100","v":9.6999999999999989E-2},null,null,"Nitrate d'ammonium calcique (CAN)","27-0-0",0.27,null,null,"Non"]
["Vache",3.5,"Aspersion basse","6h",10,5,{"$f":"'Lisier de vache'!D12/100","v":0.129},null,null,"Urée","46-0-0",0.46]
["Vache",3.5,"Aspersion basse","12h",10,5,{"$f":"'Lisier de vache'!D13/100","v":0.161}]
["Vache",3.5,"Aspersion basse","Sans",10,5,{"$f":"'Lisier de vache'!D14/100","v":0.161}]
["Vache",3.5,"Aspersion basse","0h",20,5,{"$f":"'Lisier de vache'!E10/100","v":6.0999999999999999E-2}]
["Vache",3.5,"Aspersion basse","3h",20,5,{"$f":"'Lisier de vache'!E11/100","v":0.155}]
["Vache",3.5,"Aspersion basse","6h",20,5,{"$f":"'Lisier de vache'!E12/100","v":0.2}]
["Vache",3.5,"Aspersion basse","12h",20,5,{"$f":"'Lisier de vache'!E13/100","v":0.23100000000000001}]
["Vache",3.5,"Aspersion basse","Sans",20,5,{"$f":"'Lisier de vache'!E14/100","v":0.23100000000000001}]
["Vache",3.5,"Aspersion basse","0h",30,5,{"$f":"'Lisier de vache'!F10/100","v":7.0999999999999994E-2},null,null,"Engrais organique ","Matière sèche (% sur base humide)","Ntotal (kg/t)","N-NH4 (kg/t)","Fumier"]
["Vache",3.5,"Aspersion basse","3h",30,5,{"$f":"'Lisier de vache'!F11/100","v":0.22699999999999998},null,null,"Lisier - porc à l'engraissement",3.5,3.5,2.4,"Porc"]
["Vache",3.5,"Aspersion basse","6h",30,5,{"$f":"'Lisier de vache'!F12/100","v":0.26700000000000002},null,null,"Lisier - Bovins laitiers ",7,2.6,1.4,"Vache"]
["Vache",3.5,"Aspersion basse","12h",30,5,{"$f":"'Lisier de vache'!F13/100","v":0.27899999999999997}]
["Vache",3.5,"Aspersion basse","Sans",30,5,{"$f":"'Lisier de vache'!F14/100","v":0.27899999999999997}]
["Vache",3.5,"Aspersion basse","0h",10,10,{"$f":"'Lisier de vache'!D18/100","v":5.7000000000000002E-2}]
["Vache",3.5,"Aspersion basse","3h",10,10,{"$f":"'Lisier de vache'!D19/100","v":0.13500000000000001}]
["Vache",3.5,"Aspersion basse","6h",10,10,{"$f":"'Lisier de vache'!D20/100","v":0.17600000000000002}]
["Vache",3.5,"Aspersion basse","12h",10,10,{"$f":"'Lisier de vache'!D21/100","v":0.21}]
["Vache",3.5,"Aspersion basse","Sans",10,10,{"$f":"'Lisier de vache'!D22/100","v":0.21}]
["Vache",3.5,"Aspersion basse","0h",20,10,{"$f":"'Lisier de vache'!E18/100","v":6.9000000000000006E-2}]
["Vache",3.5,"Aspersion basse","3h",20,10,{"$f":"'Lisier de vache'!E19/100","v":0.20399999999999999}]
["Vache",3.5,"Aspersion basse","6h",20,10,{"$f":"'Lisier de vache'!E20/100","v":0.248}]
["Vache",3.5,"Aspersion basse","12h",20,10,{"$f":"'Lisier de vache'!E21/100","v":0.26700000000000002}]
["Vache",3.5,"Aspersion basse","Sans",20,10,{"$f":"'Lisier de vache'!E22/100","v":0.26700000000000002}]
["Vache",3.5,"Aspersion basse","0h",30,10,{"$f":"'Lisier de vache'!F18/100","v":7.400000000000001E-2}]
["Vache",3.5,"Aspersion basse","3h",30,10,{"$f":"'Lisier de vache'!F19/100","v":0.27200000000000002}]
["Vache",3.5,"Aspersion basse","6h",30,10,{"$f":"'Lisier de vache'!F20/100","v":0.29399999999999998}]
["Vache",3.5,"Aspersion basse","12h",30,10,{"$f":"'Lisier de vache'!F21/100","v":0.29699999999999999}]
["Vache",3.5,"Aspersion basse","Sans",30,10,{"$f":"'Lisier de vache'!F22/100","v":0.29699999999999999}]
["Vache",3.5,"Aspersion basse","0h",10,15,{"$f":"'Lisier de vache'!D26/100","v":6.4000000000000001E-2}]
["Vache",3.5,"Aspersion basse","3h",10,15,{"$f":"'Lisier de vache'!D27/100","v":0.16899999999999998}]
["Vache",3.5,"Aspersion basse","6h",10,15,{"$f":"'Lisier de vache'!D28/100","v":0.245}]
["Vache",3.5,"Aspersion basse","12h",10,15,{"$f":"'Lisier de vache'!D29/100","v":0.24299999999999999}]
["Vache",3.5,"Aspersion basse","Sans",10,15,{"$f":"'Lisier de vache'!D30/100","v":0.24299999999999999}]
["Vache",3.5,"Aspersion basse","0h",20,15,{"$f":"'Lisier de vache'!E26/100","v":7.2000000000000008E-2}]
["Vache",3.5,"Aspersion basse","3h",20,15,{"$f":"'Lisier de vache'!E27/100","v":0.24100000000000002}]
["Vache",3.5,"Aspersion basse","6h",20,15,{"$f":"'Lisier de vache'!E28/100","v":0.27600000000000002}]
["Vache",3.5,"Aspersion basse","12h",20,15,{"$f":"'Lisier de vache'!E29/100","v":0.28499999999999998}]
["Vache",3.5,"Aspersion basse","Sans",20,15,{"$f":"'Lisier de vache'!E30/100","v":0.28499999999999998}]
["Vache",3.5,"Aspersion basse","0h",30,15,{"$f":"'Lisier de vache'!F26/100","v":7.5999999999999998E-2}]
["Vache",3.5,"Aspersion basse","3h",30,15,{"$f":"'Lisier de vache'!F27/100","v":0.29600000000000004}]
["Vache",3.5,"Aspersion basse","6h",30,15,{"$f":"'Lisier de vache'!F28/100","v":0.30499999999999999}]
["Vache",3.5,"Aspersion basse","12h",30,15,{"$f":"'Lisier de vache'!F29/100","v":0.30499999999999999}]
["Vache",3.5,"Aspersion basse","Sans",30,15,{"$f":"'Lisier de vache'!F30/100","v":0.30499999999999999}]
["Vache",3.5,"Aspersion basse","0h",10,25,{"$f":"'Lisier de vache'!D34/100","v":7.0999999999999994E-2}]
["Vache",3.5,"Aspersion basse","3h",10,25,{"$f":"'Lisier de vache'!D35/100","v":0.22699999999999998}]
["Vache",3.5,"Aspersion basse","6h",10,25,{"$f":"'Lisier de vache'!D36/100","v":0.26700000000000002}]
["Vache",3.5,"Aspersion basse","12h",10,25,{"$f":"'Lisier de vache'!D37/100","v":0.27899999999999997}]
["Vache",3.5,"Aspersion basse","Sans",10,25,{"$f":"'Lisier de vache'!D38/100","v":0.27899999999999997}]
["Vache",3.5,"Aspersion basse","0h",20,25,{"$f":"'Lisier de vache'!E34/100","v":7.4999999999999997E-2}]
["Vache",3.5,"Aspersion basse","3h",20,25,{"$f":"'Lisier de vache'!E35/100","v":0.28800000000000003}]
["Vache",3.5,"Aspersion basse","6h",20,25,{"$f":"'Lisier de vache'!E36/100","v":0.30099999999999999}]
["Vache",3.5,"Aspersion basse","12h",20,25,{"$f":"'Lisier de vache'!E37/100","v":0.30199999999999999}]
["Vache",3.5,"Aspersion basse","Sans",20,25,{"$f":"'Lisier de vache'!E38/100","v":0.30199999999999999}]
["Vache",3.5,"Aspersion basse","0h",30,25,{"$f":"'Lisier de vache'!F34/100","v":7.8E-2}]
["Vache",3.5,"Aspersion basse","3h",30,25,{"$f":"'Lisier de vache'!F35/100","v":0.313}]
["Vache",3.5,"Aspersion basse","6h",30,25,{"$f":"'Lisier de vache'!F36/100","v":0.314}]
["Vache",3.5,"Aspersion basse","12h",30,25,{"$f":"'Lisier de vache'!F37/100","v":0.314}]
["Vache",3.5,"Aspersion basse","Sans",30,25,{"$f":"'Lisier de vache'!F38/100","v":0.314}]
["Vache",3.5,"Pendillards","0h",10,5,{"$f":"'Lisier de vache'!Y10/100","v":2.7000000000000003E-2}]
["Vache",3.5,"Pendillards","3h",10,5,{"$f":"'Lisier de vache'!Y11/100","v":3.6000000000000004E-2}]
["Vache",3.5,"Pendillards","6h",10,5,{"$f":"'Lisier de vache'!Y12/100","v":4.2999999999999997E-2}]
["Vache",3.5,"Pendillards","12h",10,5,{"$f":"'Lisier de vache'!Y13/100","v":5.2999999999999999E-2}]
["Vache",3.5,"Pendillards","Sans",10,5,{"$f":"'Lisier de vache'!Y14/100","v":5.2999999999999999E-2}]
["Vache",3.5,"Pendillards","0h",20,5,{"$f":"'Lisier de vache'!Z10/100","v":3.4000000000000002E-2}]
["Vache",3.5,"Pendillards","3h",20,5,{"$f":"'Lisier de vache'!Z11/100","v":5.4000000000000006E-2}]
["Vache",3.5,"Pendillards","6h",20,5,{"$f":"'Lisier de vache'!Z12/100","v":6.9000000000000006E-2}]
["Vache",3.5,"Pendillards","12h",20,5,{"$f":"'Lisier de vache'!Z13/100","v":8.8000000000000009E-2}]
["Vache",3.5,"Pendillards","Sans",20,5,{"$f":"'Lisier de vache'!Z14/100","v":8.8000000000000009E-2}]
["Vache",3.5,"Pendillards","0h",30,5,{"$f":"'Lisier de vache'!AA10/100","v":4.4999999999999998E-2}]
["Vache",3.5,"Pendillards","3h",30,5,{"$f":"'Lisier de vache'!AA11/100","v":8.6999999999999994E-2}]
["Vache",3.5,"Pendillards","6h",30,5,{"$f":"'Lisier de vache'!AA12/100","v":0.115}]
["Vache",3.5,"Pendillards","12h",30,5,{"$f":"'Lisier de vache'!AA13/100","v":0.14599999999999999}]
["Vache",3.5,"Pendillards","Sans",30,5,{"$f":"'Lisier de vache'!AA14/100","v":0.14599999999999999}]
["Vache",3.5,"Pendillards","0h",10,10,{"$f":"'Lisier de vache'!Y18/100","v":3.1E-2}]
["Vache",3.5,"Pendillards","3h",10,10,{"$f":"'Lisier de vache'!Y19/100","v":4.7E-2}]
["Vache",3.5,"Pendillards","6h",10,10,{"$f":"'Lisier de vache'!Y20/100","v":5.9000000000000004E-2}]
["Vache",3.5,"Pendillards","12h",10,10,{"$f":"'Lisier de vache'!Y21/100","v":7.4999999999999997E-2}]
["Vache",3.5,"Pendillards","Sans",10,10,{"$f":"'Lisier de vache'!Y22/100","v":7.4999999999999997E-2}]
["Vache",3.5,"Pendillards","0h",20,10,{"$f":"'Lisier de vache'!Z18/100","v":4.0999999999999995E-2}]
["Vache",3.5,"Pendillards","3h",20,10,{"$f":"'Lisier de vache'!Z19/100","v":7.4999999999999997E-2}]
["Vache",3.5,"Pendillards","6h",20,10,{"$f":"'Lisier de vache'!Z20/100","v":9.8000000000000004E-2}]
["Vache",3.5,"Pendillards","12h",20,10,{"$f":"'Lisier de vache'!Z21/100","v":0.125}]
["Vache",3.5,"Pendillards","Sans",20,10,{"$f":"'Lisier de vache'!Z22/100","v":0.125}]
["Vache",3.5,"Pendillards","0h",30,10,{"$f":"'Lisier de vache'!AA18/100","v":5.4000000000000006E-2}]
["Vache",3.5,"Pendillards","3h",30,10,{"$f":"'Lisier de vache'!AA19/100","v":0.122}]
["Vache",3.5,"Pendillards","6h",30,10,{"$f":"'Lisier de vache'!AA20/100","v":0.16}]
["Vache",3.5,"Pendillards","12h",30,10,{"$f":"'Lisier de vache'!AA21/100","v":0.19399999999999998}]
["Vache",3.5,"Pendillards","Sans",30,10,{"$f":"'Lisier de vache'!AA22/100","v":0.19399999999999998}]
["Vache",3.5,"Pendillards","0h",10,15,{"$f":"'Lisier de vache'!Y26/100","v":3.6000000000000004E-2}]
["Vache",3.5,"Pendillards","3h",10,15,{"$f":"'Lisier de vache'!Y27/100","v":5.9000000000000004E-2}]
["Vache",3.5,"Pendillards","6h",10,15,{"$f":"'Lisier de vache'!Y28/100","v":7.6999999999999999E-2}]
["Vache",3.5,"Pendillards","12h",10,15,{"$f":"'Lisier de vache'!Y29/100","v":9.8000000000000004E-2}]
["Vache",3.5,"Pendillards","Sans",10,15,{"$f":"'Lisier de vache'!Y30/100","v":9.8000000000000004E-2}]
["Vache",3.5,"Pendillards","0h",20,15,{"$f":"'Lisier de vache'!Z26/100","v":4.8000000000000001E-2}]
["Vache",3.5,"Pendillards","3h",20,15,{"$f":"'Lisier de vache'!Z27/100","v":9.6000000000000002E-2}]
["Vache",3.5,"Pendillards","6h",20,15,{"$f":"'Lisier de vache'!Z28/100","v":0.128}]
["Vache",3.5,"Pendillards","12h",20,15,{"$f":"'Lisier de vache'!Z29/100","v":0.16}]
["Vache",3.5,"Pendillards","Sans",20,15,{"$f":"'Lisier de vache'!Z30/100","v":0.16}]
["Vache",3.5,"Pendillards","0h",30,15,{"$f":"'Lisier de vache'!AA26/100","v":6.0999999999999999E-2}]
["Vache",3.5,"Pendillards","3h",30,15,{"$f":"'Lisier de vache'!AA27/100","v":0.154}]
["Vache",3.5,"Pendillards","6h",30,15,{"$f":"'Lisier de vache'!AA28/100","v":0.19899999999999998}]
["Vache",3.5,"Pendillards","12h",30,15,{"$f":"'Lisier de vache'!AA29/100","v":0.23}]
["Vache",3.5,"Pendillards","Sans",30,15,{"$f":"'Lisier de vache'!AA30/100","v":0.23}]
["Vache",3.5,"Pendillards","0h",10,25,{"$f":"'Lisier de vache'!Y34/100","v":4.4999999999999998E-2}]
["Vache",3.5,"Pendillards","3h",10,25,{"$f":"'Lisier de vache'!Y35/100","v":8.6999999999999994E-2}]
["Vache",3.5,"Pendillards","6h",10,25,{"$f":"'Lisier de vache'!Y36/100","v":0.11599999999999999}]
["Vache",3.5,"Pendillards","12h",10,25,{"$f":"'Lisier de vache'!Y37/100","v":0.14599999999999999}]
["Vache",3.5,"Pendillards","Sans",10,25,{"$f":"'Lisier de vache'!Y38/100","v":0.14599999999999999}]
["Vache",3.5,"Pendillards","0h",20,25,{"$f":"'Lisier de vache'!Z34/100","v":5.9000000000000004E-2}]
["Vache",3.5,"Pendillards","3h",20,25,{"$f":"'Lisier de vache'!Z35/100","v":0.14099999999999999}]
["Vache",3.5,"Pendillards","6h",20,25,{"$f":"'Lisier de vache'!Z36/100","v":0.184}]
["Vache",3.5,"Pendillards","12h",20,25,{"$f":"'Lisier de vache'!Z37/100","v":0.217}]
["Vache",3.5,"Pendillards","Sans",20,25,{"$f":"'Lisier de vache'!Z38/100","v":0.217}]
["Vache",3.5,"Pendillards","0h",30,25,{"$f":"'Lisier de vache'!AA34/100","v":6.9000000000000006E-2}]
["Vache",3.5,"Pendillards","3h",30,25,{"$f":"'Lisier de vache'!AA35/100","v":0.21199999999999999}]
["Vache",3.5,"Pendillards","6h",30,25,{"$f":"'Lisier de vache'!AA36/100","v":0.254}]
["Vache",3.5,"Pendillards","12h",30,25,{"$f":"'Lisier de vache'!AA37/100","v":0.27100000000000002}]
["Vache",3.5,"Pendillards","Sans",30,25,{"$f":"'Lisier de vache'!AA38/100","v":0.27100000000000002}]
["Vache",7,"Aspersion basse","0h",10,5,{"$f":"'Lisier de vache'!D50/100","v":7.2999999999999995E-2}]
["Vache",7,"Aspersion basse","3h",10,5,{"$f":"'Lisier de vache'!D51/100","v":0.16300000000000001}]
["Vache",7,"Aspersion basse","6h",10,5,{"$f":"'Lisier de vache'!D52/100","v":0.22399999999999998}]
["Vache",7,"Aspersion basse","12h",10,5,{"$f":"'Lisier de vache'!D53/100","v":0.29199999999999998}]
["Vache",7,"Aspersion basse","Sans",10,5,{"$f":"'Lisier de vache'!D54/100","v":0.29199999999999998}]
["Vache",7,"Aspersion basse","0h",20,5,{"$f":"'Lisier de vache'!E50/100","v":0.105}]
["Vache",7,"Aspersion basse","3h",20,5,{"$f":"'Lisier de vache'!E51/100","v":0.28199999999999997}]
["Vache",7,"Aspersion basse","6h",20,5,{"$f":"'Lisier de vache'!E52/100","v":0.377}]
["Vache",7,"Aspersion basse","12h",20,5,{"$f":"'Lisier de vache'!E53/100","v":0.45500000000000002}]
["Vache",7,"Aspersion basse","Sans",20,5,{"$f":"'Lisier de vache'!E54/100","v":0.45500000000000002}]
["Vache",7,"Aspersion basse","0h",30,5,{"$f":"'Lisier de vache'!F50/100","v":0.13100000000000001}]
["Vache",7,"Aspersion basse","3h",30,5,{"$f":"'Lisier de vache'!F51/100","v":0.442}]
["Vache",7,"Aspersion basse","6h",30,5,{"$f":"'Lisier de vache'!F52/100","v":0.54500000000000004}]
["Vache",7,"Aspersion basse","12h",30,5,{"$f":"'Lisier de vache'!F53/100","v":0.59}]
["Vache",7,"Aspersion basse","Sans",30,5,{"$f":"'Lisier de vache'!F54/100","v":0.59}]
["Vache",7,"Aspersion basse","0h",10,10,{"$f":"'Lisier de vache'!D58/100","v":9.5000000000000001E-2}]
["Vache",7,"Aspersion basse","3h",10,10,{"$f":"'Lisier de vache'!D59/100","v":0.23899999999999999}]
["Vache",7,"Aspersion basse","6h",10,10,{"$f":"'Lisier de vache'!D60/100","v":0.32299999999999995}]
["Vache",7,"Aspersion basse","12h",10,10,{"$f":"'Lisier de vache'!D61/100","v":0.40299999999999997}]
["Vache",7,"Aspersion basse","Sans",10,10,{"$f":"'Lisier de vache'!D62/100","v":0.40299999999999997}]
["Vache",7,"Aspersion basse","0h",20,10,{"$f":"'Lisier de vache'!E58/100","v":0.125}]
["Vache",7,"Aspersion basse","3h",20,10,{"$f":"'Lisier de vache'!E59/100","v":0.38799999999999996}]
["Vache",7,"Aspersion basse","6h",20,10,{"$f":"'Lisier de vache'!E60/100","v":0.49399999999999999}]
["Vache",7,"Aspersion basse","12h",20,10,{"$f":"'Lisier de vache'!E61/100","v":0.55399999999999994}]
["Vache",7,"Aspersion basse","Sans",20,10,{"$f":"'Lisier de vache'!E62/100","v":0.55399999999999994}]
["Vache",7,"Aspersion basse","0h",30,10,{"$f":"'Lisier de vache'!F58/100","v":0.14199999999999999}]
["Vache",7,"Aspersion basse","3h",30,10,{"$f":"'Lisier de vache'!F59/100","v":0.55399999999999994}]
["Vache",7,"Aspersion basse","6h",30,10,{"$f":"'Lisier de vache'!F60/100","v":0.628}]
["Vache",7,"Aspersion basse","12h",30,10,{"$f":"'Lisier de vache'!F61/100","v":0.64300000000000002}]
["Vache",7,"Aspersion basse","Sans",30,10,{"$f":"'Lisier de vache'!F62/100","v":0.64300000000000002}]
["Vache",7,"Aspersion basse","0h",10,15,{"$f":"'Lisier de vache'!D66/100","v":0.111}]
["Vache",7,"Aspersion basse","3h",10,15,{"$f":"'Lisier de vache'!D67/100","v":0.312}]
["Vache",7,"Aspersion basse","6h",10,15,{"$f":"'Lisier de vache'!D68/100","v":0.41200000000000003}]
["Vache",7,"Aspersion basse","12h",10,15,{"$f":"'Lisier de vache'!D69/100","v":0.48700000000000004}]
["Vache",7,"Aspersion basse","Sans",10,15,{"$f":"'Lisier de vache'!D70/100","v":0.48700000000000004}]
["Vache",7,"Aspersion basse","0h",20,15,{"$f":"'Lisier de vache'!E66/100","v":0.13500000000000001}]
["Vache",7,"Aspersion basse","3h",20,15,{"$f":"'Lisier de vache'!E67/100","v":0.47600000000000003}]
["Vache",7,"Aspersion basse","6h",20,15,{"$f":"'Lisier de vache'!E68/100","v":0.57299999999999995}]
["Vache",7,"Aspersion basse","12h",20,15,{"$f":"'Lisier de vache'!E69/100","v":0.60899999999999999}]
["Vache",7,"Aspersion basse","Sans",20,15,{"$f":"'Lisier de vache'!E70/100","v":0.60899999999999999}]
["Vache",7,"Aspersion basse","0h",30,15,{"$f":"'Lisier de vache'!F66/100","v":0.14699999999999999}]
["Vache",7,"Aspersion basse","3h",30,15,{"$f":"'Lisier de vache'!F67/100","v":0.625}]
["Vache",7,"Aspersion basse","6h",30,15,{"$f":"'Lisier de vache'!F68/100","v":0.66500000000000004}]
["Vache",7,"Aspersion basse","12h",30,15,{"$f":"'Lisier de vache'!F69/100","v":0.66900000000000004}]
["Vache",7,"Aspersion basse","Sans",30,15,{"$f":"'Lisier de vache'!F70/100","v":0.66900000000000004}]
["Vache",7,"Aspersion basse","0h",10,25,{"$f":"'Lisier de vache'!D74/100","v":0.13200000000000001}]
["Vache",7,"Aspersion basse","3h",10,25,{"$f":"'Lisier de vache'!D75/100","v":0.442}]
["Vache",7,"Aspersion basse","6h",10,25,{"$f":"'Lisier de vache'!D76/100","v":0.54500000000000004}]
["Vache",7,"Aspersion basse","12h",10,25,{"$f":"'Lisier de vache'!D77/100","v":0.59}]
["Vache",7,"Aspersion basse","Sans",10,25,{"$f":"'Lisier de vache'!D78/100","v":0.59}]
["Vache",7,"Aspersion basse","0h",20,25,{"$f":"'Lisier de vache'!E74/100","v":0.14499999999999999}]
["Vache",7,"Aspersion basse","3h",20,25,{"$f":"'Lisier de vache'!E75/100","v":0.6}]
["Vache",7,"Aspersion basse","6h",20,25,{"$f":"'Lisier de vache'!E76/100","v":0.65300000000000002}]
["Vache",7,"Aspersion basse","12h",20,25,{"$f":"'Lisier de vache'!E77/100","v":0.66}]
["Vache",7,"Aspersion basse","Sans",20,25,{"$f":"'Lisier de vache'!E78/100","v":0.66}]
["Vache",7,"Aspersion basse","0h",30,25,{"$f":"'Lisier de vache'!F74/100","v":0.152}]
["Vache",7,"Aspersion basse","3h",30,25,{"$f":"'Lisier de vache'!F75/100","v":0.68799999999999994}]
["Vache",7,"Aspersion basse","6h",30,25,{"$f":"'Lisier de vache'!F76/100","v":0.69499999999999995}]
["Vache",7,"Aspersion basse","12h",30,25,{"$f":"'Lisier de vache'!F77/100","v":0.69499999999999995}]
["Vache",7,"Aspersion basse","Sans",30,25,{"$f":"'Lisier de vache'!F78/100","v":0.69499999999999995}]
["Vache",7,"Pendillards","0h",10,5,{"$f":"'Lisier de vache'!Y50/100","v":3.1E-2}]
["Vache",7,"Pendillards","3h",10,5,{"$f":"'Lisier de vache'!Y51/100","v":4.7E-2}]
["Vache",7,"Pendillards","6h",10,5,{"$f":"'Lisier de vache'!Y52/100","v":0.06}]
["Vache",7,"Pendillards","12h",10,5,{"$f":"'Lisier de vache'!Y53/100","v":7.6999999999999999E-2}]
["Vache",7,"Pendillards","Sans",10,5,{"$f":"'Lisier de vache'!Y54/100","v":7.6999999999999999E-2}]
["Vache",7,"Pendillards","0h",20,5,{"$f":"'Lisier de vache'!Z50/100","v":4.4000000000000004E-2}]
["Vache",7,"Pendillards","3h",20,5,{"$f":"'Lisier de vache'!Z51/100","v":0.08}]
["Vache",7,"Pendillards","6h",20,5,{"$f":"'Lisier de vache'!Z52/100","v":0.10800000000000001}]
["Vache",7,"Pendillards","12h",20,5,{"$f":"'Lisier de vache'!Z53/100","v":0.14400000000000002}]
["Vache",7,"Pendillards","Sans",20,5,{"$f":"'Lisier de vache'!Z54/100","v":0.14400000000000002}]
["Vache",7,"Pendillards","0h",30,5,{"$f":"'Lisier de vache'!AA50/100","v":6.7000000000000004E-2}]
["Vache",7,"Pendillards","3h",30,5,{"$f":"'Lisier de vache'!AA51/100","v":0.14400000000000002}]
["Vache",7,"Pendillards","6h",30,5,{"$f":"'Lisier de vache'!AA52/100","v":0.19699999999999998}]
["Vache",7,"Pendillards","12h",30,5,{"$f":"'Lisier de vache'!AA53/100","v":0.26}]
["Vache",7,"Pendillards","Sans",30,5,{"$f":"'Lisier de vache'!AA54/100","v":0.26}]
["Vache",7,"Pendillards","0h",10,10,{"$f":"'Lisier de vache'!Y58/100","v":3.9E-2}]
["Vache",7,"Pendillards","3h",10,10,{"$f":"'Lisier de vache'!Y59/100","v":6.7000000000000004E-2}]
["Vache",7,"Pendillards","6h",10,10,{"$f":"'Lisier de vache'!Y60/100","v":8.900000000000001E-2}]
["Vache",7,"Pendillards","12h",10,10,{"$f":"'Lisier de vache'!Y61/100","v":0.11800000000000001}]
["Vache",7,"Pendillards","Sans",10,10,{"$f":"'Lisier de vache'!Y62/100","v":0.11800000000000001}]
["Vache",7,"Pendillards","0h",20,10,{"$f":"'Lisier de vache'!Z58/100","v":5.9000000000000004E-2}]
["Vache",7,"Pendillards","3h",20,10,{"$f":"'Lisier de vache'!Z59/100","v":0.11900000000000001}]
["Vache",7,"Pendillards","6h",20,10,{"$f":"'Lisier de vache'!Z60/100","v":0.16300000000000001}]
["Vache",7,"Pendillards","12h",20,10,{"$f":"'Lisier de vache'!Z61/100","v":0.217}]
["Vache",7,"Pendillards","Sans",20,10,{"$f":"'Lisier de vache'!Z62/100","v":0.217}]
["Vache",7,"Pendillards","0h",30,10,{"$f":"'Lisier de vache'!AA58/100","v":8.8000000000000009E-2}]
["Vache",7,"Pendillards","3h",30,10,{"$f":"'Lisier de vache'!AA59/100","v":0.21299999999999999}]
["Vache",7,"Pendillards","6h",30,10,{"$f":"'Lisier de vache'!AA60/100","v":0.28899999999999998}]
["Vache",7,"Pendillards","12h",30,10,{"$f":"'Lisier de vache'!AA61/100","v":0.36599999999999999}]
["Vache",7,"Pendillards","Sans",30,10,{"$f":"'Lisier de vache'!AA62/100","v":0.36599999999999999}]
["Vache",7,"Pendillards","0h",10,15,{"$f":"'Lisier de vache'!Y66/100","v":4.8000000000000001E-2}]
["Vache",7,"Pendillards","3h",10,15,{"$f":"'Lisier de vache'!Y67/100","v":0.09}]
["Vache",7,"Pendillards","6h",10,15,{"$f":"'Lisier de vache'!Y68/100","v":0.122}]
["Vache",7,"Pendillards","12h",10,15,{"$f":"'Lisier de vache'!Y69/100","v":0.16300000000000001}]
["Vache",7,"Pendillards","Sans",10,15,{"$f":"'Lisier de vache'!Y70/100","v":0.16300000000000001}]
["Vache",7,"Pendillards","0h",20,15,{"$f":"'Lisier de vache'!Z66/100","v":7.2999999999999995E-2}]
["Vache",7,"Pendillards","3h",20,15,{"$f":"'Lisier de vache'!Z67/100","v":0.16200000000000001}]
["Vache",7,"Pendillards","6h",20,15,{"$f":"'Lisier de vache'!Z68/100","v":0.222}]
["Vache",7,"Pendillards","12h",20,15,{"$f":"'Lisier de vache'!Z69/100","v":0.28899999999999998}]
["Vache",7,"Pendillards","Sans",20,15,{"$f":"'Lisier de vache'!Z70/100","v":0.28899999999999998}]
["Vache",7,"Pendillards","0h",30,15,{"$f":"'Lisier de vache'!AA66/100","v":0.105}]
["Vache",7,"Pendillards","3h",30,15,{"$f":"'Lisier de vache'!AA67/100","v":0.27899999999999997}]
["Vache",7,"Pendillards","6h",30,15,{"$f":"'Lisier de vache'!AA68/100","v":0.374}]
["Vache",7,"Pendillards","12h",30,15,{"$f":"'Lisier de vache'!AA69/100","v":0.45299999999999996}]
["Vache",7,"Pendillards","Sans",30,15,{"$f":"'Lisier de vache'!AA70/100","v":0.45299999999999996}]
["Vache",7,"Pendillards","0h",10,25,{"$f":"'Lisier de vache'!Y74/100","v":6.7000000000000004E-2}]
["Vache",7,"Pendillards","3h",10,25,{"$f":"'Lisier de vache'!Y75/100","v":0.14400000000000002}]
["Vache",7,"Pendillards","6h",10,25,{"$f":"'Lisier de vache'!Y76/100","v":0.19699999999999998}]
["Vache",7,"Pendillards","12h",10,25,{"$f":"'Lisier de vache'!Y77/100","v":0.26}]
["Vache",7,"Pendillards","Sans",10,25,{"$f":"'Lisier de vache'!Y78/100","v":0.26}]
["Vache",7,"Pendillards","0h",20,25,{"$f":"'Lisier de vache'!Z74/100","v":9.8000000000000004E-2}]
["Vache",7,"Pendillards","3h",20,25,{"$f":"'Lisier de vache'!Z75/100","v":0.252}]
["Vache",7,"Pendillards","6h",20,25,{"$f":"'Lisier de vache'!Z76/100","v":0.34}]
["Vache",7,"Pendillards","12h",20,25,{"$f":"'Lisier de vache'!Z77/100","v":0.42}]
["Vache",7,"Pendillards","Sans",20,25,{"$f":"'Lisier de vache'!Z78/100","v":0.42}]
["Vache",7,"Pendillards","0h",30,25,{"$f":"'Lisier de vache'!AA74/100","v":0.127}]
["Vache",7,"Pendillards","3h",30,25,{"$f":"'Lisier de vache'!AA75/100","v":0.40500000000000003}]
["Vache",7,"Pendillards","6h",30,25,{"$f":"'Lisier de vache'!AA76/100","v":0.51100000000000001}]
["Vache",7,"Pendillards","12h",30,25,{"$f":"'Lisier de vache'!AA77/100","v":0.56700000000000006}]
["Vache",7,"Pendillards","Sans",30,25,{"$f":"'Lisier de vache'!AA78/100","v":0.56700000000000006}]
["Porc",3.5,"Aspersion basse","0h",10,5,{"$f":"'Lisier de porc'!D10/100","v":3.4000000000000002E-2}]
["Porc",3.5,"Aspersion basse","3h",10,5,{"$f":"'Lisier de porc'!D11/100","v":5.7000000000000002E-2}]
["Porc",3.5,"Aspersion basse","6h",10,5,{"$f":"'Lisier de porc'!D12/100","v":7.2000000000000008E-2}]
["Porc",3.5,"Aspersion basse","12h",10,5,{"$f":"'Lisier de porc'!D13/100","v":8.8000000000000009E-2}]
["Porc",3.5,"Aspersion basse","Sans",10,5,{"$f":"'Lisier de porc'!D14/100","v":8.8000000000000009E-2}]
["Porc",3.5,"Aspersion basse","0h",20,5,{"$f":"'Lisier de porc'!E10/100","v":0.04}]
["Porc",3.5,"Aspersion basse","3h",20,5,{"$f":"'Lisier de porc'!E11/100","v":8.5000000000000006E-2}]
["Porc",3.5,"Aspersion basse","6h",20,5,{"$f":"'Lisier de porc'!E12/100","v":0.106}]
["Porc",3.5,"Aspersion basse","12h",20,5,{"$f":"'Lisier de porc'!E13/100","v":0.121}]
["Porc",3.5,"Aspersion basse","Sans",20,5,{"$f":"'Lisier de porc'!E14/100","v":0.121}]
["Porc",3.5,"Aspersion basse","0h",30,5,{"$f":"'Lisier de porc'!E10/100","v":0.04}]
["Porc",3.5,"Aspersion basse","3h",30,5,{"$f":"'Lisier de porc'!E11/100","v":8.5000000000000006E-2}]
["Porc",3.5,"Aspersion basse","6h",30,5,{"$f":"'Lisier de porc'!E12/100","v":0.106}]
["Porc",3.5,"Aspersion basse","12h",30,5,{"$f":"'Lisier de porc'!E13/100","v":0.121}]
["Porc",3.5,"Aspersion basse","Sans",30,5,{"$f":"'Lisier de porc'!E14/100","v":0.121}]
["Porc",3.5,"Aspersion basse","0h",10,10,{"$f":"'Lisier de porc'!D18/100","v":3.7999999999999999E-2}]
["Porc",3.5,"Aspersion basse","3h",10,10,{"$f":"'Lisier de porc'!D19/100","v":7.4999999999999997E-2}]
["Porc",3.5,"Aspersion basse","6h",10,10,{"$f":"'Lisier de porc'!D20/100","v":9.5000000000000001E-2}]
["Porc",3.5,"Aspersion basse","12h",10,10,{"$f":"'Lisier de porc'!D21/100","v":0.111}]
["Porc",3.5,"Aspersion basse","Sans",10,10,{"$f":"'Lisier de porc'!D22/100","v":0.111}]
["Porc",3.5,"Aspersion basse","0h",20,10,{"$f":"'Lisier de porc'!E18/100","v":4.2999999999999997E-2}]
["Porc",3.5,"Aspersion basse","3h",20,10,{"$f":"'Lisier de porc'!E19/100","v":0.10800000000000001}]
["Porc",3.5,"Aspersion basse","6h",20,10,{"$f":"'Lisier de porc'!E20/100","v":0.129}]
["Porc",3.5,"Aspersion basse","12h",20,10,{"$f":"'Lisier de porc'!E21/100","v":0.13800000000000001}]
["Porc",3.5,"Aspersion basse","Sans",20,10,{"$f":"'Lisier de porc'!E22/100","v":0.13800000000000001}]
["Porc",3.5,"Aspersion basse","0h",30,10,{"$f":"'Lisier de porc'!E18/100","v":4.2999999999999997E-2}]
["Porc",3.5,"Aspersion basse","3h",30,10,{"$f":"'Lisier de porc'!E19/100","v":0.10800000000000001}]
["Porc",3.5,"Aspersion basse","6h",30,10,{"$f":"'Lisier de porc'!E20/100","v":0.129}]
["Porc",3.5,"Aspersion basse","12h",30,10,{"$f":"'Lisier de porc'!E21/100","v":0.13800000000000001}]
["Porc",3.5,"Aspersion basse","Sans",30,10,{"$f":"'Lisier de porc'!E22/100","v":0.13800000000000001}]
["Porc",3.5,"Aspersion basse","0h",10,15,{"$f":"'Lisier de porc'!D26/100","v":4.0999999999999995E-2}]
["Porc",3.5,"Aspersion basse","3h",10,15,{"$f":"'Lisier de porc'!D27/100","v":9.0999999999999998E-2}]
["Porc",3.5,"Aspersion basse","6h",10,15,{"$f":"'Lisier de porc'!D28/100","v":0.113}]
["Porc",3.5,"Aspersion basse","12h",10,15,{"$f":"'Lisier de porc'!D29/100","v":0.127}]
["Porc",3.5,"Aspersion basse","Sans",10,15,{"$f":"'Lisier de porc'!D30/100","v":0.127}]
["Porc",3.5,"Aspersion basse","0h",20,15,{"$f":"'Lisier de porc'!E26/100","v":4.4999999999999998E-2}]
["Porc",3.5,"Aspersion basse","3h",20,15,{"$f":"'Lisier de porc'!E27/100","v":0.126}]
["Porc",3.5,"Aspersion basse","6h",20,15,{"$f":"'Lisier de porc'!E28/100","v":0.14300000000000002}]
["Porc",3.5,"Aspersion basse","12h",20,15,{"$f":"'Lisier de porc'!E29/100","v":0.14699999999999999}]
["Porc",3.5,"Aspersion basse","Sans",20,15,{"$f":"'Lisier de porc'!E30/100","v":0.14699999999999999}]
["Porc",3.5,"Aspersion basse","0h",30,15,{"$f":"'Lisier de porc'!F26/100","v":4.7E-2}]
["Porc",3.5,"Aspersion basse","3h",30,15,{"$f":"'Lisier de porc'!F27/100","v":0.152}]
["Porc",3.5,"Aspersion basse","6h",30,15,{"$f":"'Lisier de porc'!F28/100","v":0.156}]
["Porc",3.5,"Aspersion basse","12h",30,15,{"$f":"'Lisier de porc'!F29/100","v":0.156}]
["Porc",3.5,"Aspersion basse","Sans",30,15,{"$f":"'Lisier de porc'!F30/100","v":0.156}]
["Porc",3.5,"Aspersion basse","0h",10,25,{"$f":"'Lisier de porc'!D34/100","v":4.4000000000000004E-2}]
["Porc",3.5,"Aspersion basse","3h",10,25,{"$f":"'Lisier de porc'!D35/100","v":0.11900000000000001}]
["Porc",3.5,"Aspersion basse","6h",10,25,{"$f":"'Lisier de porc'!D36/100","v":0.13800000000000001}]
["Porc",3.5,"Aspersion basse","12h",10,25,{"$f":"'Lisier de porc'!D37/100","v":0.14400000000000002}]
["Porc",3.5,"Aspersion basse","Sans",10,25,{"$f":"'Lisier de porc'!D38/100","v":0.14400000000000002}]
["Porc",3.5,"Aspersion basse","0h",20,25,{"$f":"'Lisier de porc'!E34/100","v":4.7E-2}]
["Porc",3.5,"Aspersion basse","3h",20,25,{"$f":"'Lisier de porc'!E35/100","v":0.14800000000000002}]
["Porc",3.5,"Aspersion basse","6h",20,25,{"$f":"'Lisier de porc'!E36/100","v":0.154}]
["Porc",3.5,"Aspersion basse","12h",20,25,{"$f":"'Lisier de porc'!E37/100","v":0.155}]
["Porc",3.5,"Aspersion basse","Sans",20,25,{"$f":"'Lisier de porc'!E38/100","v":0.155}]
["Porc",3.5,"Aspersion basse","0h",30,25,{"$f":"'Lisier de porc'!E34/100","v":4.7E-2}]
["Porc",3.5,"Aspersion basse","3h",30,25,{"$f":"'Lisier de porc'!E35/100","v":0.14800000000000002}]
["Porc",3.5,"Aspersion basse","6h",30,25,{"$f":"'Lisier de porc'!E36/100","v":0.154}]
["Porc",3.5,"Aspersion basse","12h",30,25,{"$f":"'Lisier de porc'!E37/100","v":0.155}]
["Porc",3.5,"Aspersion basse","Sans",30,25,{"$f":"'Lisier de porc'!E38/100","v":0.155}]
["Porc",3.5,"Pendillards","0h",10,5,{"$f":"'Lisier de porc'!Y10/100","v":2.3E-2}]
["Porc",3.5,"Pendillards","3h",10,5,{"$f":"'Lisier de porc'!Y11/100","v":2.7999999999999997E-2}]
["Porc",3.5,"Pendillards","6h",10,5,{"$f":"'Lisier de porc'!Y12/100","v":3.1E-2}]
["Porc",3.5,"Pendillards","12h",10,5,{"$f":"'Lisier de porc'!Y13/100","v":3.6000000000000004E-2}]
["Porc",3.5,"Pendillards","Sans",10,5,{"$f":"'Lisier de porc'!Y14/100","v":3.6000000000000004E-2}]
["Porc",3.5,"Pendillards","0h",20,5,{"$f":"'Lisier de porc'!Z10/100","v":2.7000000000000003E-2}]
["Porc",3.5,"Pendillards","3h",20,5,{"$f":"'Lisier de porc'!Z11/100","v":3.6000000000000004E-2}]
["Porc",3.5,"Pendillards","6h",20,5,{"$f":"'Lisier de porc'!Z12/100","v":4.4000000000000004E-2}]
["Porc",3.5,"Pendillards","12h",20,5,{"$f":"'Lisier de porc'!Z13/100","v":5.2999999999999999E-2}]
["Porc",3.5,"Pendillards","Sans",20,5,{"$f":"'Lisier de porc'!Z14/100","v":5.2999999999999999E-2}]
["Porc",3.5,"Pendillards","0h",30,5,{"$f":"'Lisier de porc'!AA10/100","v":3.2000000000000001E-2}]
["Porc",3.5,"Pendillards","3h",30,5,{"$f":"'Lisier de porc'!AA11/100","v":5.2000000000000005E-2}]
["Porc",3.5,"Pendillards","6h",30,5,{"$f":"'Lisier de porc'!AA12/100","v":6.6000000000000003E-2}]
["Porc",3.5,"Pendillards","12h",30,5,{"$f":"'Lisier de porc'!AA13/100","v":0.08}]
["Porc",3.5,"Pendillards","Sans",30,5,{"$f":"'Lisier de porc'!AA14/100","v":0.08}]
["Porc",3.5,"Pendillards","0h",10,10,{"$f":"'Lisier de porc'!Y18/100","v":2.5000000000000001E-2}]
["Porc",3.5,"Pendillards","3h",10,10,{"$f":"'Lisier de porc'!Y19/100","v":3.3000000000000002E-2}]
["Porc",3.5,"Pendillards","6h",10,10,{"$f":"'Lisier de porc'!Y20/100","v":3.9E-2}]
["Porc",3.5,"Pendillards","12h",10,10,{"$f":"'Lisier de porc'!Y21/100","v":4.5999999999999999E-2}]
["Porc",3.5,"Pendillards","Sans",10,10,{"$f":"'Lisier de porc'!Y22/100","v":4.5999999999999999E-2}]
["Porc",3.5,"Pendillards","0h",20,10,{"$f":"'Lisier de porc'!Z18/100","v":0.03}]
["Porc",3.5,"Pendillards","3h",20,10,{"$f":"'Lisier de porc'!Z19/100","v":4.5999999999999999E-2}]
["Porc",3.5,"Pendillards","6h",20,10,{"$f":"'Lisier de porc'!Z20/100","v":5.7000000000000002E-2}]
["Porc",3.5,"Pendillards","12h",20,10,{"$f":"'Lisier de porc'!Z21/100","v":7.0000000000000007E-2}]
["Porc",3.5,"Pendillards","Sans",20,10,{"$f":"'Lisier de porc'!Z22/100","v":7.0000000000000007E-2}]
["Porc",3.5,"Pendillards","0h",30,10,{"$f":"'Lisier de porc'!AA18/100","v":3.7000000000000005E-2}]
["Porc",3.5,"Pendillards","3h",30,10,{"$f":"'Lisier de porc'!AA19/100","v":6.9000000000000006E-2}]
["Porc",3.5,"Pendillards","6h",30,10,{"$f":"'Lisier de porc'!AA20/100","v":8.6999999999999994E-2}]
["Porc",3.5,"Pendillards","12h",30,10,{"$f":"'Lisier de porc'!AA21/100","v":0.10300000000000001}]
["Porc",3.5,"Pendillards","Sans",30,10,{"$f":"'Lisier de porc'!AA22/100","v":0.10300000000000001}]
["Porc",3.5,"Pendillards","0h",10,15,{"$f":"'Lisier de porc'!Y26/100","v":2.7999999999999997E-2}]
["Porc",3.5,"Pendillards","3h",10,15,{"$f":"'Lisier de porc'!Y27/100","v":3.9E-2}]
["Porc",3.5,"Pendillards","6h",10,15,{"$f":"'Lisier de porc'!Y28/100","v":4.7E-2}]
["Porc",3.5,"Pendillards","12h",10,15,{"$f":"'Lisier de porc'!Y29/100","v":5.7999999999999996E-2}]
["Porc",3.5,"Pendillards","Sans",10,15,{"$f":"'Lisier de porc'!Y30/100","v":5.7999999999999996E-2}]
["Porc",3.5,"Pendillards","0h",20,15,{"$f":"'Lisier de porc'!Z26/100","v":3.3000000000000002E-2}]
["Porc",3.5,"Pendillards","3h",20,15,{"$f":"'Lisier de porc'!Z27/100","v":5.7000000000000002E-2}]
["Porc",3.5,"Pendillards","6h",20,15,{"$f":"'Lisier de porc'!Z28/100","v":7.2000000000000008E-2}]
["Porc",3.5,"Pendillards","12h",20,15,{"$f":"'Lisier de porc'!Z29/100","v":8.6999999999999994E-2}]
["Porc",3.5,"Pendillards","Sans",20,15,{"$f":"'Lisier de porc'!Z30/100","v":8.6999999999999994E-2}]
["Porc",3.5,"Pendillards","0h",30,15,{"$f":"'Lisier de porc'!AA26/100","v":0.04}]
["Porc",3.5,"Pendillards","3h",30,15,{"$f":"'Lisier de porc'!AA27/100","v":8.4000000000000005E-2}]
["Porc",3.5,"Pendillards","6h",30,15,{"$f":"'Lisier de porc'!AA28/100","v":0.105}]
["Porc",3.5,"Pendillards","12h",30,15,{"$f":"'Lisier de porc'!AA29/100","v":0.12}]
["Porc",3.5,"Pendillards","Sans",30,15,{"$f":"'Lisier de porc'!AA30/100","v":0.12}]
["Porc",3.5,"Pendillards","0h",10,25,{"$f":"'Lisier de porc'!Y34/100","v":3.2000000000000001E-2}]
["Porc",3.5,"Pendillards","3h",10,25,{"$f":"'Lisier de porc'!Y35/100","v":5.2000000000000005E-2}]
["Porc",3.5,"Pendillards","6h",10,25,{"$f":"'Lisier de porc'!Y36/100","v":6.6000000000000003E-2}]
["Porc",3.5,"Pendillards","12h",10,25,{"$f":"'Lisier de porc'!Y37/100","v":0.08}]
["Porc",3.5,"Pendillards","Sans",10,25,{"$f":"'Lisier de porc'!Y38/100","v":0.08}]
["Porc",3.5,"Pendillards","0h",20,25,{"$f":"'Lisier de porc'!Z34/100","v":3.9E-2}]
["Porc",3.5,"Pendillards","3h",20,25,{"$f":"'Lisier de porc'!Z35/100","v":7.8E-2}]
["Porc",3.5,"Pendillards","6h",20,25,{"$f":"'Lisier de porc'!Z36/100","v":9.8000000000000004E-2}]
["Porc",3.5,"Pendillards","12h",20,25,{"$f":"'Lisier de porc'!Z37/100","v":0.114}]
["Porc",3.5,"Pendillards","Sans",20,25,{"$f":"'Lisier de porc'!Z38/100","v":0.114}]
["Porc",3.5,"Pendillards","0h",30,25,{"$f":"'Lisier de porc'!AA34/100","v":4.4000000000000004E-2}]
["Porc",3.5,"Pendillards","3h",30,25,{"$f":"'Lisier de porc'!AA35/100","v":0.11199999999999999}]
["Porc",3.5,"Pendillards","6h",30,25,{"$f":"'Lisier de porc'!AA36/100","v":0.13200000000000001}]
["Porc",3.5,"Pendillards","12h",30,25,{"$f":"'Lisier de porc'!AA37/100","v":0.14000000000000001}]
["Porc",3.5,"Pendillards","Sans",30,25,{"$f":"'Lisier de porc'!AA38/100","v":0.14000000000000001}]
["Porc",7,"Aspersion basse","0h",10,5,{"$f":"'Lisier de porc'!D50/100","v":5.7000000000000002E-2}]
["Porc",7,"Aspersion basse","3h",10,5,{"$f":"'Lisier de porc'!D51/100","v":0.11900000000000001}]
["Porc",7,"Aspersion basse","6h",10,5,{"$f":"'Lisier de porc'!D52/100","v":0.161}]
["Porc",7,"Aspersion basse","12h",10,5,{"$f":"'Lisier de porc'!D53/100","v":0.20899999999999999}]
["Porc",7,"Aspersion basse","Sans",10,5,{"$f":"'Lisier de porc'!D54/100","v":0.20899999999999999}]
["Porc",7,"Aspersion basse","0h",20,5,{"$f":"'Lisier de porc'!E50/100","v":7.9000000000000001E-2}]
["Porc",7,"Aspersion basse","3h",20,5,{"$f":"'Lisier de porc'!E51/100","v":0.20199999999999999}]
["Porc",7,"Aspersion basse","6h",20,5,{"$f":"'Lisier de porc'!E52/100","v":0.26700000000000002}]
["Porc",7,"Aspersion basse","12h",20,5,{"$f":"'Lisier de porc'!E53/100","v":0.32200000000000001}]
["Porc",7,"Aspersion basse","Sans",20,5,{"$f":"'Lisier de porc'!E54/100","v":0.32200000000000001}]
["Porc",7,"Aspersion basse","0h",30,5,{"$f":"'Lisier de porc'!F50/100","v":9.6999999999999989E-2}]
["Porc",7,"Aspersion basse","3h",30,5,{"$f":"'Lisier de porc'!F51/100","v":0.312}]
["Porc",7,"Aspersion basse","6h",30,5,{"$f":"'Lisier de porc'!F52/100","v":0.38400000000000001}]
["Porc",7,"Aspersion basse","12h",30,5,{"$f":"'Lisier de porc'!F53/100","v":0.41499999999999998}]
["Porc",7,"Aspersion basse","Sans",30,5,{"$f":"'Lisier de porc'!F54/100","v":0.41499999999999998}]
["Porc",7,"Aspersion basse","0h",10,10,{"$f":"'Lisier de porc'!D50/100","v":5.7000000000000002E-2}]
["Porc",7,"Aspersion basse","3h",10,10,{"$f":"'Lisier de porc'!D51/100","v":0.11900000000000001}]
["Porc",7,"Aspersion basse","6h",10,10,{"$f":"'Lisier de porc'!D52/100","v":0.161}]
["Porc",7,"Aspersion basse","12h",10,10,{"$f":"'Lisier de porc'!D53/100","v":0.20899999999999999}]
["Porc",7,"Aspersion basse","Sans",10,10,{"$f":"'Lisier de porc'!D54/100","v":0.20899999999999999}]
["Porc",7,"Aspersion basse","0h",20,10,{"$f":"'Lisier de porc'!E50/100","v":7.9000000000000001E-2}]
["Porc",7,"Aspersion basse","3h",20,10,{"$f":"'Lisier de porc'!E51/100","v":0.20199999999999999}]
["Porc",7,"Aspersion basse","6h",20,10,{"$f":"'Lisier de porc'!E52/100","v":0.26700000000000002}]
["Porc",7,"Aspersion basse","12h",20,10,{"$f":"'Lisier de porc'!E53/100","v":0.32200000000000001}]
["Porc",7,"Aspersion basse","Sans",20,10,{"$f":"'Lisier de porc'!E54/100","v":0.32200000000000001}]
["Porc",7,"Aspersion basse","0h",30,10,{"$f":"'Lisier de porc'!F50/100","v":9.6999999999999989E-2}]
["Porc",7,"Aspersion basse","3h",30,10,{"$f":"'Lisier de porc'!F51/100","v":0.312}]
["Porc",7,"Aspersion basse","6h",30,10,{"$f":"'Lisier de porc'!F52/100","v":0.38400000000000001}]
["Porc",7,"Aspersion basse","12h",30,10,{"$f":"'Lisier de porc'!F53/100","v":0.41499999999999998}]
["Porc",7,"Aspersion basse","Sans",30,10,{"$f":"'Lisier de porc'!F54/100","v":0.41499999999999998}]
["Porc",7,"Aspersion basse","0h",10,15,{"$f":"'Lisier de porc'!D66/100","v":8.4000000000000005E-2}]
["Porc",7,"Aspersion basse","3h",10,15,{"$f":"'Lisier de porc'!D67/100","v":0.222}]
["Porc",7,"Aspersion basse","6h",10,15,{"$f":"'Lisier de porc'!D68/100","v":0.29199999999999998}]
["Porc",7,"Aspersion basse","12h",10,15,{"$f":"'Lisier de porc'!D69/100","v":0.34399999999999997}]
["Porc",7,"Aspersion basse","Sans",10,15,{"$f":"'Lisier de porc'!D70/100","v":0.34399999999999997}]
["Porc",7,"Aspersion basse","0h",20,15,{"$f":"'Lisier de porc'!E66/100","v":0.1}]
["Porc",7,"Aspersion basse","3h",20,15,{"$f":"'Lisier de porc'!E67/100","v":0.33600000000000002}]
["Porc",7,"Aspersion basse","6h",20,15,{"$f":"'Lisier de porc'!E68/100","v":0.40399999999999997}]
["Porc",7,"Aspersion basse","12h",20,15,{"$f":"'Lisier de porc'!E69/100","v":0.42799999999999999}]
["Porc",7,"Aspersion basse","Sans",20,15,{"$f":"'Lisier de porc'!E70/100","v":0.42799999999999999}]
["Porc",7,"Aspersion basse","0h",30,15,{"$f":"'Lisier de porc'!F66/100","v":0.10800000000000001}]
["Porc",7,"Aspersion basse","3h",30,15,{"$f":"'Lisier de porc'!F67/100","v":0.439}]
["Porc",7,"Aspersion basse","6h",30,15,{"$f":"'Lisier de porc'!F68/100","v":0.46700000000000003}]
["Porc",7,"Aspersion basse","12h",30,15,{"$f":"'Lisier de porc'!F69/100","v":0.47}]
["Porc",7,"Aspersion basse","Sans",30,15,{"$f":"'Lisier de porc'!F70/100","v":0.47}]
["Porc",7,"Aspersion basse","0h",10,25,{"$f":"'Lisier de porc'!D74/100","v":9.6999999999999989E-2}]
["Porc",7,"Aspersion basse","3h",10,25,{"$f":"'Lisier de porc'!D75/100","v":0.313}]
["Porc",7,"Aspersion basse","6h",10,25,{"$f":"'Lisier de porc'!D76/100","v":0.38400000000000001}]
["Porc",7,"Aspersion basse","12h",10,25,{"$f":"'Lisier de porc'!D77/100","v":0.41499999999999998}]
["Porc",7,"Aspersion basse","Sans",10,25,{"$f":"'Lisier de porc'!D78/100","v":0.41499999999999998}]
["Porc",7,"Aspersion basse","0h",20,25,{"$f":"'Lisier de porc'!E74/100","v":0.107}]
["Porc",7,"Aspersion basse","3h",20,25,{"$f":"'Lisier de porc'!E75/100","v":0.42200000000000004}]
["Porc",7,"Aspersion basse","6h",20,25,{"$f":"'Lisier de porc'!E76/100","v":0.45899999999999996}]
["Porc",7,"Aspersion basse","12h",20,25,{"$f":"'Lisier de porc'!E77/100","v":0.46399999999999997}]
["Porc",7,"Aspersion basse","Sans",20,25,{"$f":"'Lisier de porc'!E78/100","v":0.46399999999999997}]
["Porc",7,"Aspersion basse","0h",30,25,{"$f":"'Lisier de porc'!F74/100","v":0.11199999999999999}]
["Porc",7,"Aspersion basse","3h",30,25,{"$f":"'Lisier de porc'!F75/100","v":0.48299999999999998}]
["Porc",7,"Aspersion basse","6h",30,25,{"$f":"'Lisier de porc'!F76/100","v":0.48799999999999999}]
["Porc",7,"Aspersion basse","12h",30,25,{"$f":"'Lisier de porc'!F77/100","v":0.48799999999999999}]
["Porc",7,"Aspersion basse","Sans",30,25,{"$f":"'Lisier de porc'!F78/100","v":0.48799999999999999}]
["Porc",7,"Pendillards","0h",10,5,{"$f":"'Lisier de porc'!Y50/100","v":2.7999999999999997E-2}]
["Porc",7,"Pendillards","3h",10,5,{"$f":"'Lisier de porc'!Y51/100","v":3.9E-2}]
["Porc",7,"Pendillards","6h",10,5,{"$f":"'Lisier de porc'!Y52/100","v":4.8000000000000001E-2}]
["Porc",7,"Pendillards","12h",10,5,{"$f":"'Lisier de porc'!Y53/100","v":0.06}]
["Porc",7,"Pendillards","Sans",10,5,{"$f":"'Lisier de porc'!Y54/100","v":0.06}]
["Porc",7,"Pendillards","0h",20,5,{"$f":"'Lisier de porc'!Z50/100","v":3.7000000000000005E-2}]
["Porc",7,"Pendillards","3h",20,5,{"$f":"'Lisier de porc'!Z51/100","v":6.2E-2}]
["Porc",7,"Pendillards","6h",20,5,{"$f":"'Lisier de porc'!Z52/100","v":8.1000000000000003E-2}]
["Porc",7,"Pendillards","12h",20,5,{"$f":"'Lisier de porc'!Z53/100","v":0.106}]
["Porc",7,"Pendillards","Sans",20,5,{"$f":"'Lisier de porc'!Z54/100","v":0.106}]
["Porc",7,"Pendillards","0h",30,5,{"$f":"'Lisier de porc'!AA50/100","v":5.2999999999999999E-2}]
["Porc",7,"Pendillards","3h",30,5,{"$f":"'Lisier de porc'!AA51/100","v":0.106}]
["Porc",7,"Pendillards","6h",30,5,{"$f":"'Lisier de porc'!AA52/100","v":0.14300000000000002}]
["Porc",7,"Pendillards","12h",30,5,{"$f":"'Lisier de porc'!AA53/100","v":0.18600000000000003}]
["Porc",7,"Pendillards","Sans",30,5,{"$f":"'Lisier de porc'!AA54/100","v":0.18600000000000003}]
["Porc",7,"Pendillards","0h",10,10,{"$f":"'Lisier de porc'!Y58/100","v":3.4000000000000002E-2}]
["Porc",7,"Pendillards","3h",10,10,{"$f":"'Lisier de porc'!Y59/100","v":5.2999999999999999E-2}]
["Porc",7,"Pendillards","6h",10,10,{"$f":"'Lisier de porc'!Y60/100","v":6.8000000000000005E-2}]
["Porc",7,"Pendillards","12h",10,10,{"$f":"'Lisier de porc'!Y61/100","v":8.8000000000000009E-2}]
["Porc",7,"Pendillards","Sans",10,10,{"$f":"'Lisier de porc'!Y62/100","v":8.8000000000000009E-2}]
["Porc",7,"Pendillards","0h",20,10,{"$f":"'Lisier de porc'!Z58/100","v":4.7E-2}]
["Porc",7,"Pendillards","3h",20,10,{"$f":"'Lisier de porc'!Z59/100","v":8.900000000000001E-2}]
["Porc",7,"Pendillards","6h",20,10,{"$f":"'Lisier de porc'!Z60/100","v":0.11900000000000001}]
["Porc",7,"Pendillards","12h",20,10,{"$f":"'Lisier de porc'!Z61/100","v":0.157}]
["Porc",7,"Pendillards","Sans",20,10,{"$f":"'Lisier de porc'!Z62/100","v":0.157}]
["Porc",7,"Pendillards","0h",30,10,{"$f":"'Lisier de porc'!AA58/100","v":6.7000000000000004E-2}]
["Porc",7,"Pendillards","3h",30,10,{"$f":"'Lisier de porc'!AA59/100","v":0.153}]
["Porc",7,"Pendillards","6h",30,10,{"$f":"'Lisier de porc'!AA60/100","v":0.20600000000000002}]
["Porc",7,"Pendillards","12h",30,10,{"$f":"'Lisier de porc'!AA61/100","v":0.26}]
["Porc",7,"Pendillards","Sans",30,10,{"$f":"'Lisier de porc'!AA62/100","v":0.26}]
["Porc",7,"Pendillards","0h",10,15,{"$f":"'Lisier de porc'!Y66/100","v":0.04}]
["Porc",7,"Pendillards","3h",10,15,{"$f":"'Lisier de porc'!Y67/100","v":6.9000000000000006E-2}]
["Porc",7,"Pendillards","6h",10,15,{"$f":"'Lisier de porc'!Y68/100","v":9.0999999999999998E-2}]
["Porc",7,"Pendillards","12h",10,15,{"$f":"'Lisier de porc'!Y69/100","v":0.11900000000000001}]
["Porc",7,"Pendillards","Sans",10,15,{"$f":"'Lisier de porc'!Y70/100","v":0.11900000000000001}]
["Porc",7,"Pendillards","0h",20,15,{"$f":"'Lisier de porc'!Z66/100","v":5.7000000000000002E-2}]
["Porc",7,"Pendillards","3h",20,15,{"$f":"'Lisier de porc'!Z67/100","v":0.11800000000000001}]
["Porc",7,"Pendillards","6h",20,15,{"$f":"'Lisier de porc'!Z68/100","v":0.16}]
["Porc",7,"Pendillards","12h",20,15,{"$f":"'Lisier de porc'!Z69/100","v":0.20699999999999999}]
["Porc",7,"Pendillards","Sans",20,15,{"$f":"'Lisier de porc'!Z70/100","v":0.20699999999999999}]
["Porc",7,"Pendillards","0h",30,15,{"$f":"'Lisier de porc'!AA66/100","v":7.9000000000000001E-2}]
["Porc",7,"Pendillards","3h",30,15,{"$f":"'Lisier de porc'!AA67/100","v":0.2}]
["Porc",7,"Pendillards","6h",30,15,{"$f":"'Lisier de porc'!AA68/100","v":0.26500000000000001}]
["Porc",7,"Pendillards","12h",30,15,{"$f":"'Lisier de porc'!AA69/100","v":0.32}]
["Porc",7,"Pendillards","Sans",30,15,{"$f":"'Lisier de porc'!AA70/100","v":0.32}]
["Porc",7,"Pendillards","0h",10,25,{"$f":"'Lisier de porc'!Y74/100","v":5.2999999999999999E-2}]
["Porc",7,"Pendillards","3h",10,25,{"$f":"'Lisier de porc'!Y75/100","v":0.106}]
["Porc",7,"Pendillards","6h",10,25,{"$f":"'Lisier de porc'!Y76/100","v":0.14300000000000002}]
["Porc",7,"Pendillards","12h",10,25,{"$f":"'Lisier de porc'!Y77/100","v":0.187}]
["Porc",7,"Pendillards","Sans",10,25,{"$f":"'Lisier de porc'!Y78/100","v":0.187}]
["Porc",7,"Pendillards","0h",20,25,{"$f":"'Lisier de porc'!Z74/100","v":7.400000000000001E-2}]
["Porc",7,"Pendillards","3h",20,25,{"$f":"'Lisier de porc'!Z75/100","v":0.18100000000000002}]
["Porc",7,"Pendillards","6h",20,25,{"$f":"'Lisier de porc'!Z76/100","v":0.24199999999999999}]
["Porc",7,"Pendillards","12h",20,25,{"$f":"'Lisier de porc'!Z77/100","v":0.29699999999999999}]
["Porc",7,"Pendillards","Sans",20,25,{"$f":"'Lisier de porc'!Z78/100","v":0.29699999999999999}]
["Porc",7,"Pendillards","0h",30,25,{"$f":"'Lisier de porc'!AA74/100","v":9.4E-2}]
["Porc",7,"Pendillards","3h",30,25,{"$f":"'Lisier de porc'!AA75/100","v":0.28699999999999998}]
["Porc",7,"Pendillards","6h",30,25,{"$f":"'Lisier de porc'!AA76/100","v":0.36}]
["Porc",7,"Pendillards","12h",30,25,{"$f":"'Lisier de porc'!AA77/100","v":0.39899999999999997}]
["Porc",7,"Pendillards","Sans",30,25,{"$f":"'Lisier de porc'!AA78/100","v":0.39899999999999997}]

{"sheet":"Lisier de vache_72h","index":7,"n_rows":78,"n_cols":42,"rows_kept":78,"cut":false,"hidden":true,"merged":[[45,36,45,41],[46,9,46,11],[46,12,46,14],[46,15,46,17],[46,18,46,20],[46,30,46,32],[46,33,46,35],[46,36,46,38],[46,39,46,41],[43,9,43,10],[43,30,43,31],[45,1,46,2],[45,3,46,5],[45,6,46,8],[45,9,45,14],[45,15,45,20],[45,22,46,23],[45,24,46,26],[45,27,46,29],[45,30,45,35],[40,1,40,2],[40,22,40,23],[41,9,41,10],[41,30,41,31],[42,9,42,10],[42,30,42,31],[5,36,5,41],[6,9,6,11],[6,12,6,14],[6,15,6,17],[6,18,6,20],[6,30,6,32],[6,33,6,35],[6,36,6,38],[6,39,6,41],[3,9,3,10],[3,30,3,31],[5,1,6,2],[5,3,6,5],[5,6,6,8],[5,9,5,14],[5,15,5,20],[5,22,6,23],[5,24,6,26],[5,27,6,29],[5,30,5,35],[0,1,0,2],[0,22,0,23],[1,9,1,10],[1,30,1,31],[2,9,2,10],[2,30,2,31]]}
[null,"LISIER DE VACHE",null,null,null,null,null,null,null,null,null,null,null,null,null,null,null,null,null,null,null,null,"LISIER DE VACHE"]
[null,"M.S (%)",3.5,null,null,null,null,null,null,"Prix 2025",null,"Formule ","$/t","$/kg",null,null,null,null,null,null,null,null,"M.S (%)",3.5,null,null,null,null,null,null,"Prix 2025",null,"Formule ","$/t","$/kg"]
[null,"N total (kg/t)",2.6,null,null,null,null,null,null,"Nitrate d'ammonium calcique (CAN)",null,"27-0-0",1012,{"$f":"M3/1000","v":1.012},null,null,null,null,null,null,null,null,"N total (kg/t)",2.6,null,null,null,null,null,null,"Nitrate d'ammonium calcique (CAN)",null,"27-0-0",1012,{"$f":"AH3/1000","v":1.012}]
[null,"Azote ammoniacal total ou N-NH4+ (kg/t)",1.4,null,null,null,null,null,null,"Urée",null,"46-0-0",1102,{"$f":"M4/1000","v":1.1020000000000001},null,null,null,null,null,null,null,null,"Azote ammoniacal total ou N-NH4+ (kg/t)",1.4,null,null,null,null,null,null,"Urée",null,"46-0-0",1102,{"$f":"AH4/1000","v":1.1020000000000001}]
[]
[null,"Aspersion basse",null,"Pourcentage d’azote ammoniacal (% N-NH4+) appliqué qui est émis sous forme d’ammoniac (N-NH3) lors des 72 heures suivant l'épandage",null,null,"Émissions cumulatives de N-NH3 (kg/t de lisier épandu)",null,null,{"$f":"$J$3","v":"Nitrate d'ammonium calcique (CAN)"},null,null,null,null,null,{"$f":"$J$4","v":"Urée"},null,null,null,null,null,null,"Pendillards",null,"Pourcentage d’azote ammoniacal (% N-NH4+) appliqué qui est émis sous forme d’ammoniac (N-NH3) lors des 72 heures suivant l'épandage",null,null,"Émissions cumulatives de N-NH3 (kg/t de lisier épandu)",null,null,{"$f":"$J$3","v":"Nitrate d'ammonium calcique (CAN)"},null,null,null,null,null,{"$f":"$J$4","v":"Urée"}]
[null,null,null,null,null,null,null,null,null,"Masse de fertilisant requise pour compenser l'azote perdu (kg/t de lisier épandu)",null,null,"$/t de lisier épandu",null,null,"Masse de fertilisant requise pour compenser l'azote perdu (kg/t de lisier épandu)",null,null,"$/t de lisier épandu",null,null,null,null,null,null,null,null,null,null,null,"Masse de fertilisant requise pour compenser l'azote perdu (kg/t de lisier épandu)",null,null,"$/t de lisier épandu",null,null,"Masse de fertilisant requise pour compenser l'azote perdu (kg/t de lisier épandu)",null,null,"$/t de lisier épandu"]
[null,"Vitesse du vent (km/h)",5,null,null,null,null,null,null,null,null,null,null,null,null,null,null,null,null,null,null,null,"Vitesse du vent (km/h)",5]
[null,"Délai avant incorporation","Température ",10,20,30,10,20,30,10,20,30,10,20,30,10,20,30,10,20,30,null,"Délai avant incorporation","Température ",10,20,30,10,20,30,10,20,30,10,20,30,10,20,30,10,20,30]
[null,"0h",null,10.8,11.8,12.5,{"$f":"$C$4*D10/100","v":0.1512},{"$f":"$C$4*E10/100","v":0.16519999999999999},0.17499999999999999,{"$f":"G10/0.27","v":0.55999999999999994},0.61185185185185176,0.64814814814814803,{"$f":"J10*$N$3","v":0.56672},{"$f":"K10*$N$3","v":0.61919407407407401},0.6559259259259258,{"$f":"G10/0.46","v":0.32869565217391306},0.35913043478260864,0.38043478260869562,{"$f":"P10*$N$4","v":0.3622226086956522},{"$f":"Q10*$N$4","v":0.39576173913043478},0.41923913043478261,null,"0h",null,8.6999999999999993,9.5,10.6,{"$f":"$C$4*Y10/100","v":0.12179999999999998},{"$f":"$C$4*Z10/100","v":0.13299999999999998},0.14839999999999998,{"$f":"AB10/0.27","v":0.45111111111111102},0.49259259259259247,0.54962962962962947,{"$f":"AE10*$N$3","v":0.45652444444444434},{"$f":"AF10*$N$3","v":0.49850370370370356},0.55622518518518504,{"$f":"AB10/0.46","v":0.26478260869565212},0.28913043478260864,0.32260869565217387,{"$f":"AK10*$N$4","v":0.29179043478260869},{"$f":"AL10*$N$4","v":0.31862173913043473},0.35551478260869562]
[null,"3h",null,15.5,20.7,27.2,0.217,0.28979999999999995,0.38079999999999997,0.8037037037037037,1.073333333333333,1.4103703703703703,{"$f":"J11*$N$3","v":0.81334814814814815},1.086213333333333,1.4272948148148148,0.47173913043478261,0.62999999999999989,0.8278260869565216,{"$f":"P11*$N$4","v":0.51985652173913044},0.69425999999999999,0.9122643478260869,null,"3h",null,9.6,11.5,14.6,{"$f":"$C$4*Y11/100","v":0.13439999999999999},0.16099999999999998,0.20439999999999997,0.49777777777777771,0.59629629629629621,0.75703703703703684,{"$f":"AE11*$N$3","v":0.50375111111111104},0.60345185185185179,0.76612148148148129,0.29217391304347823,0.34999999999999992,0.44434782608695644,{"$f":"AK11*$N$4","v":0.32197565217391305},0.38569999999999993,0.48967130434782602]
[null,"6h",null,18.5,24.9,30.9,0.25900000000000001,0.34859999999999991,0.43259999999999998,0.95925925925925926,1.2911111111111107,1.602222222222222,0.97077037037037039,1.306604444444444,1.6214488888888887,0.56304347826086953,0.75782608695652154,0.94043478260869562,0.62047391304347832,0.8351243478260868,1.0363591304347826,null,"6h",null,10.3,12.9,17.3,0.14419999999999999,0.18059999999999998,0.2422,0.53407407407407403,0.66888888888888876,0.89703703703703697,0.54048296296296294,0.67691555555555538,0.90780148148148143,0.31347826086956521,0.39260869565217388,0.52652173913043476,0.34545304347826089,0.43265478260869566,0.58022695652173917]
[null,"24h",null,23.3,28.6,32.200000000000003,0.32619999999999999,0.40039999999999998,0.45079999999999998,1.208148148148148,1.4829629629629628,1.6696296296296294,1.2226459259259257,1.5007585185185184,1.6896651851851849,0.70913043478260862,0.87043478260869556,0.97999999999999987,0.78146173913043482,0.95921913043478257,1.07996,null,"24h",null,12.3,16.399999999999999,22,0.17219999999999999,0.22959999999999997,0.308,0.63777777777777767,0.85037037037037022,1.1407407407407406,0.64543111111111096,0.86057481481481468,1.1544296296296295,0.37434782608695649,0.4991304347826086,0.66956521739130426,0.41253130434782609,0.55004173913043475,0.73786086956521735]
[null,"Sans incorporation",null,23.6,28.6,32.200000000000003,0.33039999999999997,0.40039999999999998,0.45079999999999998,1.2237037037037035,1.4829629629629628,1.6696296296296294,{"$f":"J14*$N$3","v":1.238388148148148},1.5007585185185184,1.6896651851851849,0.71826086956521729,0.87043478260869556,0.97999999999999987,0.79152347826086955,0.95921913043478257,1.07996,null,"Sans incorporation",null,12.8,17.100000000000001,22.4,{"$f":"$C$4*Y14/100","v":0.17919999999999997},0.2394,0.31359999999999993,0.66370370370370357,0.8866666666666666,1.1614814814814811,0.67166814814814801,0.89730666666666659,1.1754192592592589,0.38956521739130429,0.52043478260869558,0.6817391304347824,0.42930086956521735,0.57351913043478253,0.75127652173913029]
[null,null,null,null,null,null,null,null,null,null,null,null,null,null,0,null,null,0,null,null,0,null,null,null,null,null,null,{"$f":"(AB14-AB10)/AB14","v":0.3203125},0.44444444444444453,{"$f":"(AD14-AD10)/AD14","v":0.5267857142857143}]
[null,"Vitesse du vent (km/h)",10,null,null,null,null,null,null,null,null,null,null,null,null,null,null,null,null,null,null,null,"Vitesse du vent (km/h)",10]
[null,"Délai avant incorporation","Température ",10,20,30,10,20,30,10,20,30,10,20,30,10,20,30,10,20,30,null,"Délai avant incorporation","Température ",10,20,30,10,20,30,10,20,30,10,20,30,10,20,30,10,20,30]
[null,"0h",null,11.5,12.3,12.8,{"$f":"$C$4*D18/100","v":0.16099999999999998},0.17219999999999999,0.17919999999999997,{"$f":"G18/0.27","v":0.59629629629629621},0.63777777777777767,0.66370370370370357,{"$f":"J18*$N$3","v":0.60345185185185179},{"$f":"K18*$N$3","v":0.64543111111111096},0.67166814814814801,{"$f":"G18/0.46","v":0.34999999999999992},0.37434782608695649,0.38956521739130429,{"$f":"P18*$N$4","v":0.38569999999999993},{"$f":"Q18*$N$4","v":0.41253130434782609},0.42930086956521735,null,"0h",null,9.1999999999999993,10.199999999999999,11.3,{"$f":"$C$4*Y18/100","v":0.1288},{"$f":"$C$4*Z18/100","v":0.14279999999999998},0.15820000000000001,{"$f":"AB18/0.27","v":0.47703703703703698},0.52888888888888874,0.58592592592592596,{"$f":"AE18*$N$3","v":0.48276148148148146},{"$f":"AF18*$N$3","v":0.53523555555555546},0.59295703703703706,{"$f":"AB18/0.46","v":0.27999999999999997},0.31043478260869561,0.34391304347826085,{"$f":"AK18*$N$4","v":0.30856},{"$f":"AL18*$N$4","v":0.34209913043478257},0.37899217391304346]
[null,"3h",null,18.8,25.1,31.4,0.26319999999999999,0.35139999999999999,0.43959999999999994,0.97481481481481469,1.3014814814814815,1.6281481481481479,{"$f":"J19*$N$3","v":0.9865125925925925},1.3170992592592592,1.6476859259259258,0.5721739130434782,0.76391304347826083,0.95565217391304325,{"$f":"P19*$N$4","v":0.63053565217391305},0.84183217391304355,1.0531286956521737,null,"3h",null,10.8,13.4,17.7,{"$f":"$C$4*Y19/100","v":0.1512},0.18759999999999999,0.24779999999999996,0.55999999999999994,0.69481481481481477,0.91777777777777758,{"$f":"AE19*$N$3","v":0.56672},0.70315259259259255,0.9287911111111109,0.32869565217391306,0.40782608695652167,0.53869565217391291,{"$f":"AK19*$N$4","v":0.3622226086956522},0.44942434782608692,0.59364260869565211]
[null,"6h",null,22.7,29.2,33.5,0.31779999999999997,0.40879999999999994,0.46899999999999997,1.1770370370370369,1.5140740740740737,1.7370370370370367,1.1911614814814813,1.5322429629629626,1.7578814814814812,0.69086956521739118,0.88869565217391289,1.0195652173913043,0.76133826086956513,0.97934260869565204,1.1235608695652175,null,"6h",null,11.9,15.7,21.3,0.1666,0.21979999999999997,0.29820000000000002,0.61703703703703694,0.81407407407407395,1.1044444444444443,0.62444148148148138,0.82384296296296289,1.1176977777777777,0.36217391304347823,0.47782608695652162,0.64826086956521745,0.39911565217391304,0.52656434782608685,0.71438347826086968]
[null,"24h",null,27.1,31.2,33.700000000000003,0.37939999999999996,0.43680000000000002,0.4718,1.4051851851851849,1.6177777777777778,1.7474074074074073,1.4220474074074072,1.637191111111111,1.7683762962962961,0.82478260869565201,0.94956521739130439,1.0256521739130435,0.90891043478260858,1.0464208695652175,1.1302686956521741,null,"24h",null,14.9,20.100000000000001,25.9,0.20860000000000001,0.28139999999999998,0.36259999999999998,0.77259259259259261,1.0422222222222222,1.3429629629629627,0.78186370370370373,1.0547288888888888,1.3590785185185184,0.45347826086956522,0.61173913043478256,0.78826086956521735,0.49973304347826092,0.67413652173913041,0.86866347826086954]
[null,"Sans incorporation",null,27.2,31.2,33.700000000000003,0.38079999999999997,0.43680000000000002,0.4718,1.4103703703703703,1.6177777777777778,1.7474074074074073,{"$f":"J22*$N$3","v":1.4272948148148148},1.637191111111111,1.7683762962962961,0.8278260869565216,0.94956521739130439,1.0256521739130435,0.9122643478260869,1.0464208695652175,1.1302686956521741,null,"Sans incorporation",null,15.5,20.6,26.1,{"$f":"$C$4*Y22/100","v":0.217},0.28839999999999999,0.3654,0.8037037037037037,1.0681481481481481,1.3533333333333333,0.81334814814814815,1.0809659259259259,1.3695733333333333,0.47173913043478261,0.62695652173913041,0.79434782608695653,0.51985652173913044,0.69090608695652178,0.87537130434782617]
[null,null,null,null,null,null,null,null,null,null,null,null,null,null,null,null,null,null,null,null,null,null,null,null,null,null,null,{"$f":"(AB22-AB18)/AB22","v":0.40645161290322579},0.50485436893203883,{"$f":"(AD22-AD18)/AD22","v":0.56704980842911878}]
[null,"Vitesse du vent (km/h)",15,null,null,null,null,null,null,null,null,null,null,null,null,null,null,null,null,null,null,null,"Vitesse du vent (km/h)",15]
[null,"Délai avant incorporation","Température ",10,20,30,10,20,30,10,20,30,10,20,30,10,20,30,10,20,30,null,"Délai avant incorporation","Température ",10,20,30,10,20,30,10,20,30,10,20,30,10,20,30,10,20,30]
[null,"0h",null,11.9,12.6,12.9,{"$f":"$C$4*D26/100","v":0.1666},0.17639999999999997,0.18059999999999998,{"$f":"G26/0.27","v":0.61703703703703694},0.65333333333333321,0.66888888888888876,{"$f":"J26*$N$3","v":0.62444148148148138},{"$f":"K26*$N$3","v":0.66117333333333317},0.67691555555555538,{"$f":"G26/0.46","v":0.36217391304347823},0.38347826086956516,0.39260869565217388,{"$f":"P26*$N$4","v":0.39911565217391304},{"$f":"Q26*$N$4","v":0.42259304347826082},0.43265478260869566,null,"0h",null,9.6999999999999993,10.8,11.7,{"$f":"$C$4*Y26/100","v":0.13579999999999998},{"$f":"$C$4*Z26/100","v":0.1512},0.1638,{"$f":"AB26/0.27","v":0.50296296296296283},0.55999999999999994,0.60666666666666658,{"$f":"AE26*$N$3","v":0.50899851851851841},{"$f":"AF26*$N$3","v":0.56672},0.61394666666666653,{"$f":"AB26/0.46","v":0.29521739130434776},0.32869565217391306,0.35608695652173911,{"$f":"AK26*$N$4","v":0.32532956521739126},{"$f":"AL26*$N$4","v":0.3622226086956522},0.39240782608695651]
[null,"3h",null,21.9,28.5,33.6,0.30659999999999998,0.39899999999999997,0.47039999999999998,1.1355555555555554,1.4777777777777776,1.7422222222222221,{"$f":"J27*$N$3","v":1.1491822222222221},1.495511111111111,1.7631288888888887,0.66652173913043467,0.86739130434782596,1.0226086956521738,{"$f":"P27*$N$4","v":0.73450695652173903},0.95586521739130426,1.1269147826086956,null,"3h",null,12,15.4,20.6,{"$f":"$C$4*Y27/100","v":0.16799999999999998},0.21559999999999999,0.28839999999999999,0.62222222222222212,0.79851851851851841,1.0681481481481481,{"$f":"AE27*$N$3","v":0.62968888888888874},0.80810074074074068,1.0809659259259259,0.36521739130434777,0.46869565217391301,0.62695652173913041,{"$f":"AK27*$N$4","v":0.4024695652173913},0.51650260869565223,0.69090608695652178]
[null,"6h",null,26.2,31.8,34.5,0.36680000000000001,0.44519999999999998,0.48299999999999998,1.3585185185185185,1.6488888888888886,1.7888888888888888,1.3748207407407407,1.6686755555555552,1.8103555555555555,0.79739130434782612,0.96782608695652161,1.0499999999999998,0.87872521739130449,1.066544347826087,1.1570999999999998,null,"6h",null,13.7,18.399999999999999,24.7,0.19179999999999997,0.2576,0.3458,0.71037037037037021,0.95407407407407396,1.2807407407407407,0.71889481481481465,0.96552296296296292,1.2961096296296297,0.41695652173913034,0.55999999999999994,0.75173913043478258,0.45948608695652166,0.61712,0.8284165217391305]
[null,"24h",null,29.4,32.700000000000003,34.5,0.41159999999999997,0.45779999999999998,0.48299999999999998,1.5244444444444443,1.6955555555555555,1.7888888888888888,1.5427377777777775,1.7159022222222222,1.8103555555555555,0.89478260869565207,0.99521739130434772,1.0499999999999998,0.98605043478260868,1.0967295652173912,1.1570999999999998,null,"24h",null,17.399999999999999,23.2,28.5,0.24359999999999996,0.32479999999999998,0.39899999999999997,0.90222222222222204,1.2029629629629628,1.4777777777777776,0.91304888888888869,1.2173985185185183,1.495511111111111,0.52956521739130424,0.70608695652173903,0.86739130434782596,0.58358086956521737,0.7781078260869565,0.95586521739130426]
[null,"Sans incorporation",null,29.5,32.700000000000003,34.5,0.41299999999999998,0.45779999999999998,0.48299999999999998,1.5296296296296295,1.6955555555555555,1.7888888888888888,{"$f":"J30*$N$3","v":1.5479851851851851},1.7159022222222222,1.8103555555555555,0.89782608695652166,0.99521739130434772,1.0499999999999998,0.98940434782608699,1.0967295652173912,1.1570999999999998,null,"Sans incorporation",null,18.100000000000001,23.5,28.5,{"$f":"$C$4*Y30/100","v":0.25340000000000001},0.32899999999999996,0.39899999999999997,0.93851851851851853,1.2185185185185183,1.4777777777777776,0.94978074074074081,1.2331407407407406,1.495511111111111,0.55086956521739128,0.71521739130434769,0.86739130434782596,0.60705826086956527,0.78816956521739123,0.95586521739130426]
[null,null,null,null,null,null,null,null,null,null,null,null,null,null,null,null,null,null,null,null,null,null,null,null,null,null,null,{"$f":"(AB30-AB26)/AB30","v":0.4640883977900554},0.54042553191489351,{"$f":"(AD30-AD26)/AD30","v":0.58947368421052626}]
[null,"Vitesse du vent (km/h)",25,null,null,null,null,null,null,null,null,null,null,null,null,null,null,null,null,null,null,null,"Vitesse du vent (km/h)",25]
[null,"Délai avant incorporation","Température ",10,20,30,10,20,30,10,20,30,10,20,30,10,20,30,10,20,30,null,"Délai avant incorporation","Température ",10,20,30,10,20,30,10,20,30,10,20,30,10,20,30,10,20,30]
[null,"0h",null,12.5,12.9,13.1,{"$f":"$C$4*D34/100","v":0.17499999999999999},0.18059999999999998,0.18340000000000001,{"$f":"G34/0.27","v":0.64814814814814803},0.66888888888888876,0.67925925925925923,{"$f":"J34*$N$3","v":0.6559259259259258},{"$f":"K34*$N$3","v":0.67691555555555538},0.68741037037037034,{"$f":"G34/0.46","v":0.38043478260869562},0.39260869565217388,0.39869565217391306,{"$f":"P34*$N$4","v":0.41923913043478261},{"$f":"Q34*$N$4","v":0.43265478260869566},0.43936260869565225,null,"0h",null,10.6,11.6,12.3,{"$f":"$C$4*Y34/100","v":0.14839999999999998},{"$f":"$C$4*Z34/100","v":0.16239999999999999},0.17219999999999999,{"$f":"AB34/0.27","v":0.54962962962962947},0.60148148148148139,0.63777777777777767,{"$f":"AE34*$N$3","v":0.55622518518518504},{"$f":"AF34*$N$3","v":0.60869925925925916},0.64543111111111096,{"$f":"AB34/0.46","v":0.32260869565217387},0.35304347826086951,0.37434782608695649,{"$f":"AK34*$N$4","v":0.35551478260869562},{"$f":"AL34*$N$4","v":0.38905391304347825},0.41253130434782609]
[null,"3h",null,27.2,32.9,35.299999999999997,0.38079999999999997,0.46059999999999995,0.49419999999999997,1.4103703703703703,1.7059259259259256,1.8303703703703702,{"$f":"J35*$N$3","v":1.4272948148148148},1.7263970370370367,1.8523348148148147,0.8278260869565216,1.0013043478260868,1.0743478260869563,{"$f":"P35*$N$4","v":0.9122643478260869},1.1034373913043478,1.1839313043478259,null,"3h",null,14.6,19.399999999999999,25.8,{"$f":"$C$4*Y35/100","v":0.20439999999999997},0.27159999999999995,0.36119999999999997,0.75703703703703684,1.0059259259259257,1.3377777777777775,{"$f":"AE35*$N$3","v":0.76612148148148129},1.0179970370370368,1.3538311111111108,0.44434782608695644,0.59043478260869553,0.78521739130434776,{"$f":"AK35*$N$4","v":0.48967130434782602},0.65065913043478252,0.86530956521739133]
[null,"6h",null,30.9,34.200000000000003,35.4,0.43259999999999998,0.4788,0.49559999999999993,1.602222222222222,1.7733333333333332,1.8355555555555552,1.6214488888888887,1.7946133333333332,1.8575822222222218,0.94043478260869562,1.0408695652173912,1.0773913043478258,1.0363591304347826,1.1470382608695651,1.1872852173913042,null,"6h",null,17.3,23.4,29.8,0.2422,0.3276,0.41720000000000002,0.89703703703703697,1.2133333333333332,1.5451851851851852,0.90780148148148143,1.2278933333333331,1.5637274074074075,0.52652173913043476,0.71217391304347821,0.90695652173913044,0.58022695652173917,0.78481565217391303,0.99946608695652184]
[null,"24h",null,32.200000000000003,34.299999999999997,35.4,0.45079999999999998,0.48019999999999996,0.49559999999999993,1.6696296296296294,1.7785185185185182,1.8355555555555552,1.6896651851851849,1.7998607407407403,1.8575822222222218,0.97999999999999987,1.0439130434782606,1.0773913043478258,1.07996,1.1503921739130434,1.1872852173913042,null,"24h",null,22,27.6,31.5,0.308,0.38640000000000002,0.44099999999999995,1.1407407407407406,1.431111111111111,1.6333333333333331,1.1544296296296295,1.4482844444444443,1.6529333333333331,0.66956521739130426,0.84,0.95869565217391284,0.73786086956521735,0.92568000000000006,1.056482608695652]
[null,"Sans incorporation",null,32.200000000000003,34.299999999999997,35.4,0.45079999999999998,0.48019999999999996,0.49559999999999993,1.6696296296296294,1.7785185185185182,1.8355555555555552,{"$f":"J38*$N$3","v":1.6896651851851849},1.7998607407407403,1.8575822222222218,0.97999999999999987,1.0439130434782606,1.0773913043478258,1.07996,1.1503921739130434,1.1872852173913042,null,"Sans incorporation",null,22.4,27.6,31.5,{"$f":"$C$4*Y38/100","v":0.31359999999999993},0.38640000000000002,0.44099999999999995,1.1614814814814811,1.431111111111111,1.6333333333333331,1.1754192592592589,1.4482844444444443,1.6529333333333331,0.6817391304347824,0.84,0.95869565217391284,0.75127652173913029,0.92568000000000006,1.056482608695652]
[null,null,null,null,null,null,null,null,null,null,null,null,null,null,null,null,null,null,null,null,null,null,null,null,null,null,null,{"$f":"(AB38-AB34)/AB38","v":0.5267857142857143},0.57971014492753625,{"$f":"(AD38-AD34)/AD38","v":0.60952380952380947}]
[]
[null,"LISIER DE VACHE",null,null,null,null,null,null,null,null,null,null,null,null,null,null,null,null,null,null,null,null,"LISIER DE VACHE"]
[null,"M.S (%)",7,null,null,null,null,null,null,"Prix 2025",null,"Formule ","$/t","$/kg",null,null,null,null,null,null,null,null,"M.S (%)",7,null,null,null,null,null,null,"Prix 2025",null,"Formule ","$/t","$/kg"]
[null,"N total (kg/t)",2.6,null,null,null,null,null,null,"Nitrate d'ammonium calcique (CAN)",null,"27-0-0",1012,{"$f":"M43/1000","v":1.012},null,null,null,null,null,null,null,null,"N total (kg/t)",2.6,null,null,null,null,null,null,"Nitrate d'ammonium calcique (CAN)",null,"27-0-0",1012,{"$f":"AH43/1000","v":1.012}]
[null,"Azote ammoniacal total ou N-NH4+ (kg/t)",1.4,null,null,null,null,null,null,"Urée",null,"46-0-0",1102,{"$f":"M44/1000","v":1.1020000000000001},null,null,null,null,null,null,null,null,"Azote ammoniacal total ou N-NH4+ (kg/t)",1.4,null,null,null,null,null,null,"Urée",null,"46-0-0",1102,{"$f":"AH44/1000","v":1.1020000000000001}]
[]
[null,"Aspersion basse",null,"Pourcentage d’azote ammoniacal (% N-NH4+) appliqué qui est émis sous forme d’ammoniac (N-NH3) lors des 72 heures suivant l'épandage",null,null,"Émissions cumulatives de N-NH3 (kg/t de lisier épandu)",null,null,{"$f":"$J$3","v":"Nitrate d'ammonium calcique (CAN)"},null,null,null,null,null,{"$f":"$J$4","v":"Urée"},null,null,null,null,null,null,"Pendillards",null,"Pourcentage d’azote ammoniacal (% N-NH4+) appliqué qui est émis sous forme d’ammoniac (N-NH3) lors des 72 heures suivant l'épandage",null,null,"Émissions cumulatives de N-NH3 (kg/t de lisier épandu)",null,null,{"$f":"$J$3","v":"Nitrate d'ammonium calcique (CAN)"},null,null,null,null,null,{"$f":"$J$4","v":"Urée"}]
[null,null,null,null,null,null,null,null,null,"Masse de fertilisant requise pour compenser l'azote perdu (kg/t de lisier épandu)",null,null,"$/t de lisier épandu",null,null,"Masse de fertilisant requise pour compenser l'azote perdu (kg/t de lisier épandu)",null,null,"$/t de lisier épandu",null,null,null,null,null,null,null,null,null,null,null,"Masse de fertilisant requise pour compenser l'azote perdu (kg/t de lisier épandu)",null,null,"$/t de lisier épandu",null,null,"Masse de fertilisant requise pour compenser l'azote perdu (kg/t de lisier épandu)",null,null,"$/t de lisier épandu"]
[null,"Vitesse du vent (km/h)",5,"km/h",null,null,null,null,null,null,null,null,null,null,null,null,null,null,null,null,null,null,"Vitesse du vent (km/h)",5,"km/h"]
[null,"Délai avant incorporation","Température ",10,20,30,10,20,30,10,20,30,10,20,30,10,20,30,10,20,30,null,"Délai avant incorporation","Température ",10,20,30,10,20,30,10,20,30,10,20,30,10,20,30,10,20,30]
[null,"0h",null,14,16.399999999999999,18.3,{"$f":"$C$4*D50/100","v":0.19599999999999998},0.22959999999999997,0.25619999999999998,{"$f":"G50/0.27","v":0.72592592592592575},0.85037037037037022,0.94888888888888878,{"$f":"J50*$N$3","v":0.73463703703703687},{"$f":"K50*$N$3","v":0.86057481481481468},0.96027555555555544,{"$f":"G50/0.46","v":0.42608695652173906},0.4991304347826086,0.55695652173913035,{"$f":"P50*$N$4","v":0.4695478260869565},{"$f":"Q50*$N$4","v":0.55004173913043475},0.61376608695652168,null,"0h",null,9.5,11.2,13.5,{"$f":"$C$4*Y50/100","v":0.13299999999999998},{"$f":"$C$4*Z50/100","v":0.15679999999999997},0.18899999999999997,{"$f":"AB50/0.27","v":0.49259259259259247},0.58074074074074056,0.69999999999999984,{"$f":"AE50*$N$3","v":0.49850370370370356},{"$f":"AF50*$N$3","v":0.58770962962962947},0.70839999999999981,{"$f":"AB50/0.46","v":0.28913043478260864},0.3408695652173912,0.41086956521739121,{"$f":"AK50*$N$4","v":0.31862173913043473},{"$f":"AL50*$N$4","v":0.37563826086956514},0.45277826086956513]
[null,"3h",null,22.6,33.200000000000003,47.6,0.31640000000000001,0.46480000000000005,0.66639999999999999,1.1718518518518519,1.7214814814814816,2.4681481481481478,{"$f":"J51*$N$3","v":1.1859140740740741},1.7421392592592595,2.4977659259259255,0.6878260869565217,1.0104347826086957,1.4486956521739129,{"$f":"P51*$N$4","v":0.75798434782608692},1.1134991304347828,1.5964626086956522,null,"3h",null,11.2,14.7,20.8,{"$f":"$C$4*Y51/100","v":0.15679999999999997},0.20579999999999998,0.29119999999999996,0.58074074074074056,0.76222222222222213,1.0785185185185182,{"$f":"AE51*$N$3","v":0.58770962962962947},0.77136888888888877,1.0914607407407404,0.3408695652173912,0.44739130434782604,0.63304347826086949,{"$f":"AK51*$N$4","v":0.37563826086956514},0.49302521739130434,0.6976139130434782]
[null,"6h",null,28.4,42.1,57.3,0.39759999999999995,0.58939999999999992,0.8021999999999998,1.4725925925925922,2.1829629629629625,2.9711111111111101,1.4902637037037034,2.2091585185185183,3.0067644444444435,0.86434782608695637,1.2813043478260868,1.7439130434782604,0.95251130434782605,1.4119973913043478,1.921792173913043,null,"6h",null,12.4,17.399999999999999,25.9,0.1736,0.24359999999999996,0.36259999999999998,0.64296296296296296,0.90222222222222204,1.3429629629629627,0.65067851851851854,0.91304888888888869,1.3590785185185184,0.37739130434782608,0.52956521739130424,0.78826086956521735,0.41588521739130435,0.58358086956521737,0.86866347826086954]
[null,"24h",null,39.1,52.3,62.1,0.5474,0.73219999999999985,0.86939999999999995,2.0274074074074071,2.7118518518518511,3.2199999999999998,2.0517362962962959,2.7443940740740733,3.2586399999999998,1.19,1.5917391304347823,1.89,1.31138,1.7540965217391302,2.0827800000000001,null,"24h",null,16,24.1,36.1,0.22399999999999998,0.33740000000000003,0.50539999999999996,0.82962962962962949,1.2496296296296296,1.8718518518518517,0.8395851851851851,1.2646251851851853,1.8943140740740738,0.48695652173913034,0.73347826086956525,1.0986956521739129,0.5366260869565217,0.80829304347826092,1.210762608695652]
[null,"Sans incorporation",null,40.200000000000003,52.6,62.1,0.56279999999999997,0.73640000000000005,0.86939999999999995,2.0844444444444443,2.7274074074074073,3.2199999999999998,2.1094577777777777,2.7601362962962961,3.2586399999999998,1.2234782608695651,1.6008695652173914,1.89,1.3482730434782608,1.7641582608695654,2.0827800000000001,null,"Sans incorporation",null,17.100000000000001,25.6,37.4,{"$f":"$C$4*Y54/100","v":0.2394},0.35839999999999994,0.52359999999999995,0.8866666666666666,1.3274074074074071,1.939259259259259,0.89730666666666659,1.343336296296296,1.96253037037037,0.52043478260869558,0.77913043478260857,1.1382608695652172,0.57351913043478253,0.85860173913043469,1.2543634782608695]
[]
[null,"Vitesse du vent (km/h)",10,"km/h",null,null,null,null,null,null,null,null,null,null,null,null,null,null,null,null,null,null,"Vitesse du vent (km/h)",10,"km/h"]
[null,"Délai avant incorporation","Température ",10,20,30,10,20,30,10,20,30,10,20,30,10,20,30,10,20,30,null,"Délai avant incorporation","Température ",10,20,30,10,20,30,10,20,30,10,20,30,10,20,30,10,20,30]
[null,"0h",null,15.7,17.8,19.100000000000001,{"$f":"$C$4*D58/100","v":0.21979999999999997},0.24919999999999998,0.26740000000000003,{"$f":"G58/0.27","v":0.81407407407407395},0.92296296296296276,0.99037037037037046,{"$f":"J58*$N$3","v":0.82384296296296289},{"$f":"K58*$N$3","v":0.93403851851851838},1.0022548148148149,{"$f":"G58/0.46","v":0.47782608695652162},0.5417391304347825,0.58130434782608698,{"$f":"P58*$N$4","v":0.52656434782608685},{"$f":"Q58*$N$4","v":0.59699652173913031},0.6405973913043479,null,"0h",null,10.6,12.7,15.2,{"$f":"$C$4*Y58/100","v":0.14839999999999998},{"$f":"$C$4*Z58/100","v":0.17779999999999999},0.21279999999999999,{"$f":"AB58/0.27","v":0.54962962962962947},0.65851851851851839,0.78814814814814804,{"$f":"AE58*$N$3","v":0.55622518518518504},{"$f":"AF58*$N$3","v":0.66642074074074065},0.79760592592592583,{"$f":"AB58/0.46","v":0.32260869565217387},0.38652173913043475,0.46260869565217388,{"$f":"AK58*$N$4","v":0.35551478260869562},{"$f":"AL58*$N$4","v":0.42594695652173914},0.50979478260869571]
[null,"3h",null,29.3,42.6,58,0.41019999999999995,0.59640000000000004,0.81199999999999983,1.5192592592592591,2.2088888888888887,3.0074074074074066,{"$f":"J59*$N$3","v":1.5374903703703702},2.2353955555555554,3.0434962962962957,0.89173913043478248,1.2965217391304349,1.7652173913043474,{"$f":"P59*$N$4","v":0.98269652173913036},1.4287669565217394,1.945269565217391,null,"3h",null,13.3,18.5,27,{"$f":"$C$4*Y59/100","v":0.1862},0.25900000000000001,0.37799999999999995,0.68962962962962959,0.95925925925925926,1.3999999999999997,{"$f":"AE59*$N$3","v":0.69790518518518518},0.97077037037037039,1.4167999999999996,0.40478260869565219,0.56304347826086953,0.82173913043478242,{"$f":"AK59*$N$4","v":0.44607043478260877},0.62047391304347832,0.90555652173913026]
[null,"6h",null,37.4,52.7,64.900000000000006,0.52359999999999995,0.73780000000000001,0.90859999999999996,1.939259259259259,2.7325925925925922,3.3651851851851848,1.96253037037037,2.7653837037037032,3.4055674074074069,1.1382608695652172,1.6039130434782609,1.9752173913043476,1.2543634782608695,1.7675121739130437,2.1766895652173912,null,"6h",null,15.5,22.7,34.299999999999997,0.217,0.31779999999999997,0.48019999999999996,0.8037037037037037,1.1770370370370369,1.7785185185185182,0.81334814814814815,1.1911614814814813,1.7998607407407403,0.47173913043478261,0.69086956521739118,1.0439130434782606,0.51985652173913044,0.76133826086956513,1.1503921739130434]
[null,"24h",null,48.3,59.4,66.400000000000006,0.67619999999999991,0.83160000000000001,0.92960000000000009,2.5044444444444438,3.0799999999999996,3.4429629629629632,2.5344977777777773,3.1169599999999997,3.484278518518519,1.4699999999999998,1.8078260869565217,2.0208695652173914,1.6199399999999999,1.992224347826087,2.2269982608695655,null,"24h",null,21.1,31.9,45.4,0.2954,0.44659999999999994,0.63559999999999994,1.094074074074074,1.6540740740740738,2.3540740740740738,1.1072029629629629,1.6739229629629626,2.3823229629629625,0.64217391304347826,0.9708695652173911,1.3817391304347824,0.70767565217391315,1.0698982608695651,1.5226765217391303]
[null,"Sans incorporation",null,48.8,59.4,66.400000000000006,0.68319999999999992,0.83160000000000001,0.92960000000000009,2.5303703703703699,3.0799999999999996,3.4429629629629632,2.5607348148148144,3.1169599999999997,3.484278518518519,1.4852173913043476,1.8078260869565217,2.0208695652173914,1.6367095652173911,1.992224347826087,2.2269982608695655,null,"Sans incorporation",null,22.5,33.4,46.1,{"$f":"$C$4*Y62/100","v":0.31499999999999995},0.46759999999999996,0.64539999999999997,1.1666666666666663,1.7318518518518515,2.3903703703703703,1.1806666666666663,1.7526340740740738,2.4190548148148148,0.684782608695652,1.0165217391304346,1.4030434782608694,0.75463043478260861,1.120206956521739,1.5461539130434783]
[]
[null,"Vitesse du vent (km/h)",15,"km/h",null,null,null,null,null,null,null,null,null,null,null,null,null,null,null,null,null,null,"Vitesse du vent (km/h)",15,"km/h"]
[null,"Délai avant incorporation","Température ",10,20,30,10,20,30,10,20,30,10,20,30,10,20,30,10,20,30,null,"Délai avant incorporation","Température ",10,20,30,10,20,30,10,20,30,10,20,30,10,20,30,10,20,30]
[null,"0h",null,16.899999999999999,18.600000000000001,19.600000000000001,{"$f":"$C$4*D66/100","v":0.23659999999999998},0.26039999999999996,0.27440000000000003,{"$f":"G66/0.27","v":0.87629629629629613},0.96444444444444422,1.0162962962962963,{"$f":"J66*$N$3","v":0.88681185185185174},{"$f":"K66*$N$3","v":0.97601777777777754},1.0284918518518518,{"$f":"G66/0.46","v":0.51434782608695639},0.56608695652173902,0.59652173913043482,{"$f":"P66*$N$4","v":0.56681130434782601},{"$f":"Q66*$N$4","v":0.62382782608695642},0.65736695652173927,null,"0h",null,11.6,14,16.399999999999999,{"$f":"$C$4*Y66/100","v":0.16239999999999999},{"$f":"$C$4*Z66/100","v":0.19599999999999998},0.22959999999999997,{"$f":"AB66/0.27","v":0.60148148148148139},0.72592592592592575,0.85037037037037022,{"$f":"AE66*$N$3","v":0.60869925925925916},{"$f":"AF66*$N$3","v":0.73463703703703687},0.86057481481481468,{"$f":"AB66/0.46","v":0.35304347826086951},0.42608695652173906,0.4991304347826086,{"$f":"AK66*$N$4","v":0.38905391304347825},{"$f":"AL66*$N$4","v":0.4695478260869565},0.55004173913043475]
[null,"3h",null,35.799999999999997,50.7,64.7,0.50119999999999987,0.70979999999999999,0.90579999999999994,1.8562962962962957,2.6288888888888886,3.3548148148148145,{"$f":"J67*$N$3","v":1.8785718518518513},2.6604355555555554,3.3950725925925922,1.089565217391304,1.5430434782608695,1.9691304347826084,{"$f":"P67*$N$4","v":1.200700869565217},1.7004339130434782,2.1699817391304346,null,"3h",null,15.7,22.5,32.9,{"$f":"$C$4*Y67/100","v":0.21979999999999997},0.31499999999999995,0.46059999999999995,0.81407407407407395,1.1666666666666663,1.7059259259259256,{"$f":"AE67*$N$3","v":0.82384296296296289},1.1806666666666663,1.7263970370370367,0.47782608695652162,0.684782608695652,1.0013043478260868,{"$f":"AK67*$N$4","v":0.52656434782608685},0.75463043478260861,1.1034373913043478]
[null,"6h",null,45.3,59.9,68.5,0.63419999999999999,0.83860000000000001,0.95899999999999996,2.3488888888888888,3.1059259259259258,3.5518518518518514,2.3770755555555554,3.1431970370370368,3.5944740740740735,1.3786956521739129,1.8230434782608695,2.0847826086956518,1.5193226086956522,2.0089939130434784,2.2974304347826084,null,"6h",null,18.8,28.2,41.9,0.26319999999999999,0.39479999999999998,0.58660000000000001,0.97481481481481469,1.4622222222222221,2.1725925925925926,0.9865125925925925,1.4797688888888887,2.1986637037037036,0.5721739130434782,0.8582608695652173,1.2752173913043479,0.63053565217391305,0.94580347826086952,1.4052895652173913]
[null,"24h",null,54.6,63.5,68.8,0.76439999999999997,0.8889999999999999,0.96319999999999995,2.8311111111111109,3.2925925925925918,3.5674074074074071,2.8650844444444443,3.3321037037037029,3.6102162962962963,1.6617391304347824,1.9326086956521735,2.0939130434782607,1.8312365217391304,2.1297347826086952,2.3074921739130434,null,"24h",null,26.2,38.9,52.1,0.36680000000000001,0.54459999999999997,0.72939999999999994,1.3585185185185185,2.0170370370370367,2.7014814814814812,1.3748207407407407,2.0412414814814812,2.733899259259259,0.79739130434782612,1.1839130434782608,1.5856521739130434,0.87872521739130449,1.3046721739130436,1.747388695652174]
[null,"Sans incorporation",null,54.8,63.5,68.8,0.76719999999999988,0.8889999999999999,0.96319999999999995,2.8414814814814808,3.2925925925925918,3.5674074074074071,2.8755792592592586,3.3321037037037029,3.6102162962962963,1.6678260869565213,1.9326086956521735,2.0939130434782607,1.8379443478260866,2.1297347826086952,2.3074921739130434,null,"Sans incorporation",null,27.8,40,52.4,{"$f":"$C$4*Y70/100","v":0.38919999999999999},0.56000000000000005,0.73360000000000003,1.4414814814814814,2.074074074074074,2.7170370370370369,1.4587792592592592,2.0989629629629629,2.7496414814814814,0.84608695652173904,1.2173913043478262,1.5947826086956522,0.93238782608695647,1.3415652173913046,1.757450434782609]
[]
[null,"Vitesse du vent (km/h)",25,"km/h",null,null,null,null,null,null,null,null,null,null,null,null,null,null,null,null,null,null,"Vitesse du vent (km/h)",25,"km/h"]
[null,"Délai avant incorporation","Température ",10,20,30,10,20,30,10,20,30,10,20,30,10,20,30,10,20,30,null,"Délai avant incorporation","Température ",10,20,30,10,20,30,10,20,30,10,20,30,10,20,30,10,20,30]
[null,"0h",null,18.3,19.399999999999999,20.100000000000001,{"$f":"$C$4*D74/100","v":0.25619999999999998},0.27159999999999995,0.28139999999999998,{"$f":"G74/0.27","v":0.94888888888888878},1.0059259259259257,1.0422222222222222,{"$f":"J74*$N$3","v":0.96027555555555544},{"$f":"K74*$N$3","v":1.0179970370370368},1.0547288888888888,{"$f":"G74/0.46","v":0.55695652173913035},0.59043478260869553,0.61173913043478256,{"$f":"P74*$N$4","v":0.61376608695652168},{"$f":"Q74*$N$4","v":0.65065913043478252},0.67413652173913041,null,"0h",null,13.5,15.9,17.899999999999999,{"$f":"$C$4*Y74/100","v":0.18899999999999997},{"$f":"$C$4*Z74/100","v":0.22259999999999999},0.25059999999999993,{"$f":"AB74/0.27","v":0.69999999999999984},0.82444444444444431,0.92814814814814783,{"$f":"AE74*$N$3","v":0.70839999999999981},{"$f":"AF74*$N$3","v":0.83433777777777762},0.93928592592592564,{"$f":"AB74/0.46","v":0.41086956521739121},0.48391304347826081,0.54478260869565198,{"$f":"AK74*$N$4","v":0.45277826086956513},{"$f":"AL74*$N$4","v":0.53327217391304349},0.60035043478260852]
[null,"3h",null,47.6,62.4,70.599999999999994,0.66639999999999999,0.87360000000000004,0.98839999999999995,2.4681481481481478,3.2355555555555555,3.6607407407407404,{"$f":"J75*$N$3","v":2.4977659259259255},3.2743822222222221,3.7046696296296293,1.4486956521739129,1.8991304347826088,2.1486956521739127,{"$f":"P75*$N$4","v":1.5964626086956522},2.092841739130435,2.3678626086956518,null,"3h",null,20.9,30.5,44.2,{"$f":"$C$4*Y75/100","v":0.29259999999999997},0.42699999999999994,0.61880000000000002,1.0837037037037036,1.581481481481481,2.2918518518518516,{"$f":"AE75*$N$3","v":1.096708148148148},1.6004592592592588,2.3193540740740737,0.63608695652173908,0.92826086956521725,1.3452173913043477,{"$f":"AK75*$N$4","v":0.70096782608695651},1.0229434782608695,1.4824295652173913]
[null,"6h",null,57.3,67.400000000000006,71.2,0.8021999999999998,0.94359999999999999,0.99679999999999991,2.9711111111111101,3.4948148148148146,3.6918518518518511,3.0067644444444435,3.5367525925925922,3.7361540740740735,1.7439130434782604,2.0513043478260871,2.16695652173913,1.921792173913043,2.2605373913043483,2.3879860869565213,null,"6h",null,26,38.9,54.2,0.36399999999999999,0.54459999999999997,0.75879999999999992,1.3481481481481481,2.0170370370370367,2.8103703703703697,1.3643259259259259,2.0412414814814812,2.8440948148148144,0.79130434782608694,1.1839130434782608,1.649565217391304,0.87201739130434786,1.3046721739130436,1.8178208695652172]
[null,"24h",null,62.1,68,71.2,0.86939999999999995,0.95199999999999985,0.99679999999999991,3.2199999999999998,3.5259259259259252,3.6918518518518511,3.2586399999999998,3.5682370370370364,3.7361540740740735,1.89,2.0695652173913039,2.16695652173913,2.0827800000000001,2.2806608695652173,2.3879860869565213,null,"24h",null,36.200000000000003,49.7,60.3,0.50680000000000003,0.69579999999999997,0.84419999999999984,1.8770370370370371,2.5770370370370368,3.126666666666666,1.8995614814814816,2.6079614814814813,3.1641866666666663,1.1017391304347826,1.5126086956521738,1.8352173913043475,1.2141165217391305,1.6668947826086957,2.0224095652173912]
[null,"Sans incorporation",null,62.1,68,71.2,0.86939999999999995,0.95199999999999985,0.99679999999999991,3.2199999999999998,3.5259259259259252,3.6918518518518511,3.2586399999999998,3.5682370370370364,3.7361540740740735,1.89,2.0695652173913039,2.16695652173913,2.0827800000000001,2.2806608695652173,2.3879860869565213,null,"Sans incorporation",null,37.5,50.1,60.3,{"$f":"$C$4*Y78/100","v":0.52500000000000002},0.70140000000000002,0.84419999999999984,1.9444444444444444,2.5977777777777775,3.126666666666666,1.9677777777777778,2.6289511111111108,3.1641866666666663,1.1413043478260869,1.5247826086956522,1.8352173913043475,1.2577173913043478,1.6803104347826088,2.0224095652173912]

{"sheet":"Lisier de porc__72h","index":8,"n_rows":78,"n_cols":42,"rows_kept":78,"cut":false,"hidden":true,"merged":[[45,36,45,41],[46,9,46,11],[46,12,46,14],[46,15,46,17],[46,18,46,20],[46,30,46,32],[46,33,46,35],[46,36,46,38],[46,39,46,41],[43,9,43,10],[43,30,43,31],[45,1,46,2],[45,3,46,5],[45,6,46,8],[45,9,45,14],[45,15,45,20],[45,22,46,23],[45,24,46,26],[45,27,46,29],[45,30,45,35],[40,1,40,2],[40,22,40,23],[41,9,41,10],[41,30,41,31],[42,9,42,10],[42,30,42,31],[5,36,5,41],[6,9,6,11],[6,12,6,14],[6,15,6,17],[6,18,6,20],[6,30,6,32],[6,33,6,35],[6,36,6,38],[6,39,6,41],[3,9,3,10],[3,30,3,31],[5,1,6,2],[5,3,6,5],[5,6,6,8],[5,9,5,14],[5,15,5,20],[5,22,6,23],[5,24,6,26],[5,27,6,29],[5,30,5,35],[0,1,0,2],[0,22,0,23],[1,9,1,10],[1,30,1,31],[2,9,2,10],[2,30,2,31]]}
[null,"LISIER DE PORC",null,null,null,null,null,null,null,null,null,null,null,null,null,null,null,null,null,null,null,null,"LISIER DE PORC"]
[null,"M.S (%)",3.5,null,null,null,null,null,null,"Prix 2025",null,"Formule ","$/t","$/kg",null,null,null,null,null,null,null,null,"M.S (%)",3.5,null,null,null,null,null,null,"Prix 2025",null,"Formule ","$/t","$/kg"]
[null,"N total (kg/t)",3.5,null,null,null,null,null,null,"Nitrate d'ammonium calcique (CAN)",null,"27-0-0",1012,{"$f":"M3/1000","v":1.012},null,null,null,null,null,null,null,null,"N total (kg/t)",3.5,null,null,null,null,null,null,"Nitrate d'ammonium calcique (CAN)",null,"27-0-0",1012,{"$f":"AH3/1000","v":1.012}]
[null,"Azote ammoniacal total ou N-NH4+ (kg/t)",2.4,null,null,null,null,null,null,"Urée",null,"46-0-0",1102,{"$f":"M4/1000","v":1.1020000000000001},null,null,null,null,null,null,null,null,"Azote ammoniacal total ou N-NH4+ (kg/t)",2.4,null,null,null,null,null,null,"Urée",null,"46-0-0",1102,{"$f":"AH4/1000","v":1.1020000000000001}]
[]
[null,"Aspersion basse",null,"Pourcentage d’azote ammoniacal (% N-NH4+) appliqué qui est émis sous forme d’ammoniac (N-NH3) lors des 72 heures suivant l'épandage",null,null,"Émissions cumulatives de N-NH3 (kg/t de lisier épandu)",null,null,{"$f":"$J$3","v":"Nitrate d'ammonium calcique (CAN)"},null,null,null,null,null,{"$f":"$J$4","v":"Urée"},null,null,null,null,null,null,"Pendillards",null,"Pourcentage d’azote ammoniacal (% N-NH4+) appliqué qui est émis sous forme d’ammoniac (N-NH3) lors des 72 heures suivant l'épandage",null,null,"Émissions cumulatives de NH3 (kg/t_lisier_épandu)",null,null,{"$f":"$J$3","v":"Nitrate d'ammonium calcique (CAN)"},null,null,null,null,null,{"$f":"$J$4","v":"Urée"}]
[null,null,null,null,null,null,null,null,null,"Masse de fertilisant requise pour compenser l'azote perdu (kg/t de lisier épandu)",null,null,"$/t de lisier épandu",null,null,"Masse de fertilisant requise pour compenser l'azote perdu (kg/t de lisier épandu)",null,null,"$/t de lisier épandu",null,null,null,null,null,null,null,null,null,null,null,"Masse de fertilisant requise pour compenser l'azote perdu (kg/t de lisier épandu)",null,null,"$/t de lisier épandu",null,null,"Masse de fertilisant requise pour compenser l'azote perdu (kg/t de lisier épandu)",null,null,"$/t de lisier épandu"]
[null,"Vitesse du vent (km/h)",5,null,null,null,null,null,null,null,null,null,null,null,null,null,null,null,null,null,null,null,"Vitesse du vent (km/h)",5]
[null,"Délai avant incorporation","Température ",10,20,30,10,20,30,10,20,30,10,20,30,10,20,30,10,20,30,null,"Délai avant incorporation","Température ",10,20,30,10,20,30,10,20,30,10,20,30,10,20,30,10,20,30]
[null,"0h",null,9.1999999999999993,9.6,10,{"$f":"$C$4*D10/100","v":0.2208},0.23039999999999999,0.24,{"$f":"G10/0.27","v":0.81777777777777771},0.85333333333333328,0.88888888888888884,{"$f":"J10*$N$3","v":0.82759111111111106},{"$f":"K10*$N$3","v":0.8635733333333333},0.89955555555555555,{"$f":"G10/0.46","v":0.48},0.50086956521739123,0.52173913043478259,{"$f":"P10*$N$4","v":0.52895999999999999},{"$f":"Q10*$N$4","v":0.55195826086956523},0.57495652173913048,null,"0h",null,8.1999999999999993,8.6,9.1,{"$f":"$X$4*Y10/100","v":0.19679999999999997},{"$f":"$X$4*Z10/100","v":0.20639999999999997},0.21840000000000001,{"$f":"AB10/0.27","v":0.7288888888888887},0.76444444444444426,0.80888888888888888,{"$f":"AE10*$N$3","v":0.73763555555555538},{"$f":"AF10*$N$3","v":0.77361777777777763},0.81859555555555552,{"$f":"AB10/0.46","v":0.42782608695652169},0.44869565217391294,0.4747826086956522,{"$f":"AK10*$N$4","v":0.47146434782608693},{"$f":"AL10*$N$4","v":0.49446260869565212},0.52321043478260876]
[null,"3h",null,11.4,13.9,17,0.27360000000000001,0.33360000000000001,0.40799999999999997,1.0133333333333332,1.2355555555555555,1.5111111111111108,{"$f":"J11*$N$3","v":1.0254933333333331},1.2503822222222223,1.5292444444444442,0.59478260869565214,0.72521739130434781,0.88695652173913031,{"$f":"P11*$N$4","v":0.65545043478260867},0.79918956521739137,0.97742608695652167,null,"3h",null,8.6,9.5,11,{"$f":"$X$4*Y11/100","v":0.20639999999999997},0.22800000000000001,0.26400000000000001,0.76444444444444426,0.84444444444444444,0.97777777777777775,{"$f":"AE11*$N$3","v":0.77361777777777763},0.85457777777777777,0.98951111111111112,0.44869565217391294,0.49565217391304345,0.57391304347826089,{"$f":"AK11*$N$4","v":0.49446260869565212},0.54620869565217389,0.63245217391304354]
[null,"6h",null,12.8,15.9,18.8,0.30719999999999997,0.38159999999999994,0.45119999999999999,1.1377777777777776,1.4133333333333331,1.671111111111111,1.1514311111111108,1.4302933333333332,1.6911644444444442,0.66782608695652168,0.82956521739130418,0.98086956521739121,0.73594434782608698,0.91418086956521727,1.0809182608695651,null,"6h",null,8.9,10.199999999999999,12.3,0.21359999999999998,0.24479999999999996,0.29520000000000002,0.79111111111111099,0.90666666666666651,1.0933333333333333,0.80060444444444434,0.91754666666666651,1.1064533333333333,0.46434782608695646,0.53217391304347816,0.64173913043478259,0.51171130434782608,0.58645565217391293,0.7071965217391305]
[null,"24h",null,15.1,17.600000000000001,19.399999999999999,0.36239999999999994,0.4224,0.46559999999999996,1.342222222222222,1.5644444444444443,1.7244444444444442,1.3583288888888887,1.5832177777777776,1.7451377777777777,0.78782608695652157,0.91826086956521735,1.0121739130434781,0.86818434782608689,1.0119234782608697,1.1154156521739129,null,"24h",null,9.9,11.8,14.5,0.23760000000000001,0.28320000000000001,0.34799999999999998,0.88,1.0488888888888888,1.2888888888888888,0.89056000000000002,1.0614755555555555,1.3043555555555555,0.51652173913043475,0.6156521739130435,0.75652173913043474,0.56920695652173914,0.67844869565217403,0.83368695652173919]
[null,"Sans incorporation",null,15.3,17.7,19.3,0.36719999999999997,0.42479999999999996,0.4632,1.3599999999999999,1.573333333333333,1.7155555555555555,1.37632,1.592213333333333,1.7361422222222223,0.79826086956521725,0.92347826086956508,1.0069565217391303,0.87968347826086946,1.0176730434782608,1.1096660869565216,null,"Sans incorporation",null,10.1,12.2,14.7,0.24239999999999998,0.29279999999999995,0.35279999999999995,0.89777777777777767,1.0844444444444441,1.3066666666666664,0.90855111111111098,1.0974577777777774,1.3223466666666663,0.52695652173913032,0.63652173913043464,0.76695652173913031,0.58070608695652171,0.70144695652173905,0.84518608695652164]
[]
[null,"Vitesse du vent (km/h)",10,null,null,null,null,null,null,null,null,null,null,null,null,null,null,null,null,null,null,null,"Vitesse du vent (km/h)",10]
[null,"Délai avant incorporation","Température ",10,20,30,10,20,30,10,20,30,10,20,30,10,20,30,10,20,30,null,"Délai avant incorporation","Température ",10,20,30,10,20,30,10,20,30,10,20,30,10,20,30,10,20,30]
[null,"0h",null,9.5,9.9,10.1,{"$f":"$C$4*D18/100","v":0.22800000000000001},0.23760000000000001,0.24239999999999998,{"$f":"G18/0.27","v":0.84444444444444444},0.88,0.89777777777777767,{"$f":"J18*$N$3","v":0.85457777777777777},{"$f":"K18*$N$3","v":0.89056000000000002},0.90855111111111098,{"$f":"G18/0.46","v":0.49565217391304345},{"$f":"H18/0.46","v":0.51652173913043475},0.52695652173913032,{"$f":"P18*$N$4","v":0.54620869565217389},{"$f":"Q18*$N$4","v":0.56920695652173914},0.58070608695652171,null,"0h",null,8.4,8.9,9.4,{"$f":"$X$4*Y18/100","v":0.2016},{"$f":"$X$4*Z18/100","v":0.21359999999999998},0.22559999999999999,{"$f":"AB18/0.27","v":0.74666666666666659},0.79111111111111099,0.8355555555555555,{"$f":"AE18*$N$3","v":0.75562666666666656},{"$f":"AF18*$N$3","v":0.80060444444444434},0.84558222222222212,{"$f":"AB18/0.46","v":0.43826086956521737},0.46434782608695646,0.49043478260869561,{"$f":"AK18*$N$4","v":0.48296347826086961},{"$f":"AL18*$N$4","v":0.51171130434782608},0.54045913043478255]
[null,"3h",null,13,16,19,0.312,0.38400000000000001,0.45600000000000002,1.1555555555555554,1.4222222222222221,1.6888888888888889,{"$f":"J19*$N$3","v":1.1694222222222221},1.4392888888888888,1.7091555555555555,0.67826086956521736,0.83478260869565213,0.9913043478260869,{"$f":"P19*$N$4","v":0.74744347826086954},0.91993043478260872,1.0924173913043478,null,"3h",null,9.1999999999999993,10.4,12.4,{"$f":"$X$4*Y19/100","v":0.2208},0.24960000000000002,0.29759999999999998,0.81777777777777771,0.9244444444444444,1.102222222222222,{"$f":"AE19*$N$3","v":0.82759111111111106},0.93553777777777769,1.1154488888888887,0.48,0.54260869565217396,0.64695652173913032,{"$f":"AK19*$N$4","v":0.52895999999999999},0.59795478260869572,0.71294608695652162]
[null,"6h",null,14.9,18,20,0.35759999999999997,0.43199999999999994,0.48,1.3244444444444443,1.5999999999999996,1.7777777777777777,1.3403377777777776,1.6191999999999998,1.7991111111111111,0.777391304347826,0.93913043478260849,1.0434782608695652,0.85668521739130432,1.0349217391304346,1.149913043478261,null,"6h",null,9.6999999999999993,11.5,14.2,0.23279999999999998,0.27599999999999997,0.34079999999999999,0.86222222222222211,1.0222222222222221,1.2622222222222221,0.87256888888888884,1.0344888888888888,1.2773688888888888,0.50608695652173907,0.59999999999999987,0.74086956521739122,0.55770782608695646,0.6611999999999999,0.81643826086956517]
[null,"24h",null,16.899999999999999,18.899999999999999,20.100000000000001,0.40559999999999996,0.45359999999999995,0.4824,1.5022222222222219,1.6799999999999997,1.7866666666666666,1.5202488888888885,1.7001599999999997,1.8081066666666668,0.88173913043478247,0.98608695652173894,1.048695652173913,0.97167652173913033,1.0866678260869564,1.1556626086956523,null,"24h",null,11.1,13.6,16.399999999999999,0.26639999999999997,0.32640000000000002,0.39359999999999995,0.98666666666666647,1.2088888888888889,1.4577777777777774,0.99850666666666643,1.2233955555555556,1.4752711111111108,0.57913043478260862,0.7095652173913044,0.85565217391304338,0.63820173913043476,0.78194086956521747,0.94292869565217385]
[null,"Sans incorporation",null,17,18.899999999999999,20.100000000000001,0.40799999999999997,0.45359999999999995,0.4824,1.5111111111111108,1.6799999999999997,1.7866666666666666,1.5292444444444442,1.7001599999999997,1.8081066666666668,0.88695652173913031,0.98608695652173894,1.048695652173913,0.97742608695652167,1.0866678260869564,1.1556626086956523,null,"Sans incorporation",null,11.4,13.9,16.5,0.27360000000000001,0.33360000000000001,0.39600000000000002,1.0133333333333332,1.2355555555555555,1.4666666666666666,1.0254933333333331,1.2503822222222223,1.4842666666666666,0.59478260869565214,0.72521739130434781,0.86086956521739133,0.65545043478260867,0.79918956521739137,0.9486782608695653]
[]
[null,"Vitesse du vent (km/h)",15,null,null,null,null,null,null,null,null,null,null,null,null,null,null,null,null,null,null,null,"Vitesse du vent (km/h)",15]
[null,"Délai avant incorporation","Température ",10,20,30,10,20,30,10,20,30,10,20,30,10,20,30,10,20,30,null,"Délai avant incorporation","Température ",10,20,30,10,20,30,10,20,30,10,20,30,10,20,30,10,20,30]
[null,"0h",null,9.6999999999999993,10,10.199999999999999,{"$f":"$C$4*D26/100","v":0.23279999999999998},0.24,0.24479999999999996,{"$f":"G26/0.27","v":0.86222222222222211},0.88888888888888884,0.90666666666666651,{"$f":"J26*$N$3","v":0.87256888888888884},{"$f":"K26*$N$3","v":0.89955555555555555},0.91754666666666651,{"$f":"G26/0.46","v":0.50608695652173907},0.52173913043478259,0.53217391304347816,{"$f":"P26*$N$4","v":0.55770782608695646},{"$f":"Q26*$N$4","v":0.57495652173913048},0.58645565217391293,null,"0h",null,8.6,9.1999999999999993,9.6,{"$f":"$X$4*Y26/100","v":0.20639999999999997},{"$f":"$X$4*Z26/100","v":0.2208},0.23039999999999999,{"$f":"AB26/0.27","v":0.76444444444444426},0.81777777777777771,0.85333333333333328,{"$f":"AE26*$N$3","v":0.77361777777777763},{"$f":"AF26*$N$3","v":0.82759111111111106},0.8635733333333333,{"$f":"AB26/0.46","v":0.44869565217391294},0.48,0.50086956521739123,{"$f":"AK26*$N$4","v":0.49446260869565212},{"$f":"AL26*$N$4","v":0.52895999999999999},0.55195826086956523]
[null,"3h",null,14.5,17.600000000000001,20.100000000000001,0.34799999999999998,0.4224,0.4824,1.2888888888888888,1.5644444444444443,1.7866666666666666,{"$f":"J27*$N$3","v":1.3043555555555555},1.5832177777777776,1.8081066666666668,0.75652173913043474,0.91826086956521735,1.048695652173913,{"$f":"P27*$N$4","v":0.83368695652173919},1.0119234782608697,1.1556626086956523,null,"3h",null,9.6999999999999993,11.4,13.8,{"$f":"$X$4*Y27/100","v":0.23279999999999998},0.27360000000000001,0.33119999999999999,0.86222222222222211,1.0133333333333332,1.2266666666666666,{"$f":"AE27*$N$3","v":0.87256888888888884},1.0254933333333331,1.2413866666666666,0.50608695652173907,0.59478260869565214,0.72,{"$f":"AK27*$N$4","v":0.55770782608695646},0.65545043478260867,0.79344000000000003]
[null,"6h",null,16.5,19.2,20.5,0.39600000000000002,0.46079999999999999,0.49199999999999994,1.4666666666666666,1.7066666666666666,1.822222222222222,1.4842666666666666,1.7271466666666666,1.8440888888888887,0.86086956521739133,1.0017391304347825,1.0695652173913042,0.9486782608695653,1.1039165217391305,1.1786608695652172,null,"6h",null,10.5,12.8,15.8,0.252,0.30719999999999997,0.37920000000000004,0.93333333333333324,1.1377777777777776,1.4044444444444444,0.94453333333333322,1.1514311111111108,1.4212977777777778,0.54782608695652169,0.66782608695652168,0.82434782608695656,0.60370434782608695,0.73594434782608698,0.90843130434782615]
[null,"24h",null,18.100000000000001,19.600000000000001,20.5,0.43440000000000006,0.47039999999999998,0.49199999999999994,1.608888888888889,1.7422222222222221,1.822222222222222,1.6281955555555556,1.7631288888888887,1.8440888888888887,0.94434782608695667,1.0226086956521738,1.0695652173913042,1.0406713043478264,1.1269147826086956,1.1786608695652172,null,"24h",null,12.3,15.1,17.600000000000001,0.29520000000000002,0.36239999999999994,0.4224,1.0933333333333333,1.342222222222222,1.5644444444444443,1.1064533333333333,1.3583288888888887,1.5832177777777776,0.64173913043478259,0.78782608695652157,0.91826086956521735,0.7071965217391305,0.86818434782608689,1.0119234782608697]
[null,"Sans incorporation",null,18.100000000000001,19.600000000000001,20.5,{"$f":"$C$4*D30/100","v":0.43440000000000006},{"$f":"$C$4*E30/100","v":0.47039999999999998},{"$f":"$C$4*F30/100","v":0.49199999999999994},{"$f":"G30/0.27","v":1.608888888888889},{"$f":"H30/0.27","v":1.7422222222222221},{"$f":"I30/0.27","v":1.822222222222222},{"$f":"J30*$N$3","v":1.6281955555555556},{"$f":"K30*$N$3","v":1.7631288888888887},{"$f":"L30*$N$3","v":1.8440888888888887},{"$f":"G30/0.46","v":0.94434782608695667},{"$f":"H30/0.46","v":1.0226086956521738},{"$f":"I30/0.46","v":1.0695652173913042},{"$f":"P30*$N$4","v":1.0406713043478264},{"$f":"Q30*$N$4","v":1.1269147826086956},{"$f":"R30*$N$4","v":1.1786608695652172},null,"Sans incorporation",null,12.6,15.2,17.600000000000001,0.3024,0.36479999999999996,0.4224,1.1199999999999999,1.3511111111111109,1.5644444444444443,1.13344,1.3673244444444443,1.5832177777777776,0.65739130434782611,0.79304347826086941,0.91826086956521735,0.72444521739130441,0.87393391304347812,1.0119234782608697]
[]
[null,"Vitesse du vent (km/h)",25,null,null,null,null,null,null,null,null,null,null,null,null,null,null,null,null,null,null,null,"Vitesse du vent (km/h)",25]
[null,"Délai avant incorporation","Température ",10,20,30,10,20,30,10,20,30,10,20,30,10,20,30,10,20,30,null,"Délai avant incorporation","Température ",10,20,30,10,20,30,10,20,30,10,20,30,10,20,30,10,20,30]
[null,"0h",null,10,10.199999999999999,10.3,{"$f":"$C$4*D34/100","v":0.24},0.24479999999999996,0.24720000000000003,{"$f":"G34/0.27","v":0.88888888888888884},0.90666666666666651,0.91555555555555557,{"$f":"J34*$N$3","v":0.89955555555555555},{"$f":"K34*$N$3","v":0.91754666666666651},0.92654222222222227,{"$f":"G34/0.46","v":0.52173913043478259},0.53217391304347816,0.53739130434782612,{"$f":"P34*$N$4","v":0.57495652173913048},{"$f":"Q34*$N$4","v":0.58645565217391293},0.59220521739130438,null,"0h",null,9.1,9.5,9.9,{"$f":"$X$4*Y34/100","v":0.21840000000000001},{"$f":"$X$4*Z34/100","v":0.22800000000000001},0.23760000000000001,{"$f":"AB34/0.27","v":0.80888888888888888},0.84444444444444444,0.88,{"$f":"AE34*$N$3","v":0.81859555555555552},{"$f":"AF34*$N$3","v":0.85457777777777777},0.89056000000000002,{"$f":"AB34/0.46","v":0.4747826086956522},0.49565217391304345,0.51652173913043475,{"$f":"AK34*$N$4","v":0.52321043478260876},{"$f":"AL34*$N$4","v":0.54620869565217389},0.56920695652173914]
[null,"3h",null,17,19.7,20.8,0.40799999999999997,0.47279999999999994,0.49920000000000003,1.5111111111111108,1.7511111111111108,1.8488888888888888,{"$f":"J35*$N$3","v":1.5292444444444442},1.7721244444444442,1.8710755555555554,0.88695652173913031,1.0278260869565217,1.0852173913043479,{"$f":"P35*$N$4","v":0.97742608695652167},1.1326643478260869,1.1959095652173914,null,"3h",null,11,13.3,16.3,{"$f":"$X$4*Y35/100","v":0.26400000000000001},0.31920000000000004,0.39119999999999999,0.97777777777777775,1.1822222222222223,1.4488888888888887,{"$f":"AE35*$N$3","v":0.98951111111111112},1.1964088888888889,1.4662755555555553,0.57391304347826089,0.69391304347826088,0.85043478260869565,{"$f":"AK35*$N$4","v":0.63245217391304354},0.76469217391304356,0.93717913043478274]
[null,"6h",null,18.8,20.3,20.9,0.45119999999999999,0.48719999999999997,0.50159999999999993,1.671111111111111,1.8044444444444443,1.8577777777777773,1.6911644444444442,1.8260977777777776,1.8800711111111106,0.98086956521739121,1.0591304347826085,1.0904347826086955,1.0809182608695651,1.1671617391304347,1.2016591304347826,null,"6h",null,12.3,15.2,18.2,0.29520000000000002,0.36479999999999996,0.43680000000000002,1.0933333333333333,1.3511111111111109,1.6177777777777778,1.1064533333333333,1.3673244444444443,1.637191111111111,0.64173913043478259,0.79304347826086941,0.94956521739130439,0.7071965217391305,0.87393391304347812,1.0464208695652175]
[null,"24h",null,19.399999999999999,20.399999999999999,20.9,0.46559999999999996,0.48959999999999992,0.50159999999999993,1.7244444444444442,1.813333333333333,1.8577777777777773,1.7451377777777777,1.835093333333333,1.8800711111111106,1.0121739130434781,1.0643478260869563,1.0904347826086955,1.1154156521739129,1.1729113043478259,1.2016591304347826,null,"24h",null,14.5,17.2,19.100000000000001,0.34799999999999998,0.41279999999999994,0.45840000000000003,1.2888888888888888,1.5288888888888885,1.6977777777777778,1.3043555555555555,1.5472355555555553,1.7181511111111112,0.75652173913043474,0.89739130434782588,0.99652173913043485,0.83368695652173919,0.98892521739130423,1.0981669565217393]
[null,"Sans incorporation",null,19.399999999999999,20.399999999999999,20.9,0.46559999999999996,0.48959999999999992,0.50159999999999993,1.7244444444444442,1.813333333333333,1.8577777777777773,1.7451377777777777,1.835093333333333,1.8800711111111106,1.0121739130434781,1.0643478260869563,1.0904347826086955,{"$f":"P38*$N$4","v":1.1154156521739129},1.1729113043478259,1.2016591304347826,null,"Sans incorporation",null,14.7,17.2,19.100000000000001,0.35279999999999995,0.41279999999999994,0.45840000000000003,1.3066666666666664,1.5288888888888885,1.6977777777777778,1.3223466666666663,1.5472355555555553,1.7181511111111112,0.76695652173913031,0.89739130434782588,0.99652173913043485,0.84518608695652164,0.98892521739130423,1.0981669565217393]
[]
[]
[null,"LISIER DE PORC",null,null,null,null,null,null,null,null,null,null,null,null,null,null,null,null,null,null,null,null,"LISIER DE PORC"]
[null,"M.S (%)",7,null,null,null,null,null,null,"Prix 2025",null,"Formule ","$/t","$/kg",null,null,null,null,null,null,null,null,"M.S (%)",7,null,null,null,null,null,null,"Prix 2025",null,"Formule ","$/t","$/kg"]
[null,"N total (kg/t)",3.5,null,null,null,null,null,null,"Nitrate d'ammonium calcique (CAN)",null,"27-0-0",1012,{"$f":"M43/1000","v":1.012},null,null,null,null,null,null,null,null,"N total (kg/t)",3.5,null,null,null,null,null,null,"Nitrate d'ammonium calcique (CAN)",null,"27-0-0",1012,{"$f":"AH43/1000","v":1.012}]
[null,"Azote ammoniacal total ou N-NH4+ (kg/t)",2.4,null,null,null,null,null,null,"Urée",null,"46-0-0",1102,{"$f":"M44/1000","v":1.1020000000000001},null,null,null,null,null,null,null,null,"Azote ammoniacal total ou N-NH4+ (kg/t)",2.4,null,null,null,null,null,null,"Urée",null,"46-0-0",1102,{"$f":"AH44/1000","v":1.1020000000000001}]
[]
[null,"Aspersion basse",null,"Pourcentage d’azote ammoniacal (% N-NH4+) appliqué qui est émis sous forme d’ammoniac (N-NH3) lors des 72 heures suivant l'épandage",null,null,"Émissions cumulatives de NH3 (kg/t_lisier_épandu)",null,null,{"$f":"$J$3","v":"Nitrate d'ammonium calcique (CAN)"},null,null,null,null,null,{"$f":"$J$4","v":"Urée"},null,null,null,null,null,null,"Pendillards",null,"Pourcentage d’azote ammoniacal (% N-NH4+) appliqué qui est émis sous forme d’ammoniac (N-NH3) lors des 72 heures suivant l'épandage",null,null,"Émissions cumulatives de NH3 (kg/t_lisier_épandu)",null,null,{"$f":"$J$3","v":"Nitrate d'ammonium calcique (CAN)"},null,null,null,null,null,{"$f":"$J$4","v":"Urée"}]
[null,null,null,null,null,null,null,null,null,"Masse de fertilisant requise pour compenser l'azote perdu (kg/t de lisier épandu)",null,null,"$/t de lisier épandu",null,null,"Masse de fertilisant requise pour compenser l'azote perdu (kg/t de lisier épandu)",null,null,"$/t de lisier épandu",null,null,null,null,null,null,null,null,null,null,null,"Masse de fertilisant requise pour compenser l'azote perdu (kg/t de lisier épandu)",null,null,"$/t de lisier épandu",null,null,"Masse de fertilisant requise pour compenser l'azote perdu (kg/t de lisier épandu)",null,null,"$/t de lisier épandu"]
[null,"Vitesse du vent (km/h)",5,null,null,null,null,null,null,null,null,null,null,null,null,null,null,null,null,null,null,null,"Vitesse du vent (km/h)",5]
[null,"Délai avant incorporation","Température ",10,20,30,10,20,30,10,20,30,10,20,30,10,20,30,10,20,30,null,"Délai avant incorporation","Température ",10,20,30,10,20,30,10,20,30,10,20,30,10,20,30,10,20,30]
[null,"0h",null,12.1,13.7,15,{"$f":"$C$4*D50/100","v":0.29039999999999999},0.32879999999999998,0.36,{"$f":"G50/0.27","v":1.0755555555555554},1.2177777777777776,1.3333333333333333,{"$f":"J50*$N$3","v":1.088462222222222},{"$f":"K50*$N$3","v":1.232391111111111},1.3493333333333333,{"$f":"G50/0.46","v":0.63130434782608691},0.71478260869565213,0.78260869565217384,{"$f":"P50*$N$4","v":0.69569739130434782},{"$f":"Q50*$N$4","v":0.78769043478260869},0.86243478260869566,null,"0h",null,9,10.1,11.7,{"$f":"$X$4*Y50/100","v":0.21599999999999997},{"$f":"$X$4*Z50/100","v":0.24239999999999998},0.28079999999999999,{"$f":"AB50/0.27","v":0.79999999999999982},0.89777777777777767,1.0399999999999998,{"$f":"AE50*$N$3","v":0.80959999999999988},{"$f":"AF50*$N$3","v":0.90855111111111098},1.0524799999999999,{"$f":"AB50/0.46","v":0.46956521739130425},0.52695652173913032,0.61043478260869566,{"$f":"AK50*$N$4","v":0.51746086956521731},{"$f":"AL50*$N$4","v":0.58070608695652171},0.67269913043478269]
[null,"3h",null,18,25.3,35.299999999999997,0.43199999999999994,0.60719999999999996,0.84719999999999984,1.5999999999999996,2.2488888888888887,3.1377777777777771,{"$f":"J51*$N$3","v":1.6191999999999998},2.2758755555555554,3.1754311111111106,0.93913043478260849,1.3199999999999998,1.8417391304347821,{"$f":"P51*$N$4","v":1.0349217391304346},1.4546399999999999,2.0295965217391299,null,"3h",null,10.1,12.6,16.8,{"$f":"$X$4*Y51/100","v":0.24239999999999998},0.3024,0.4032,0.89777777777777767,1.1199999999999999,1.4933333333333332,{"$f":"AE51*$N$3","v":0.90855111111111098},1.13344,1.5112533333333331,0.52695652173913032,0.65739130434782611,0.87652173913043474,{"$f":"AK51*$N$4","v":0.58070608695652171},0.72444521739130441,0.96592695652173921]
[null,"6h",null,22,31.6,42,0.52800000000000002,0.75840000000000007,1.008,1.9555555555555555,2.8088888888888888,3.7333333333333329,1.9790222222222222,2.8425955555555555,3.7781333333333329,1.1478260869565218,1.6486956521739131,2.1913043478260867,1.2649043478260871,1.8168626086956523,2.4148173913043478,null,"6h",null,11,14.4,20.3,0.26400000000000001,0.34560000000000002,0.48719999999999997,0.97777777777777775,1.28,1.8044444444444443,0.98951111111111112,1.2953600000000001,1.8260977777777776,0.57391304347826089,0.75130434782608702,1.0591304347826085,0.63245217391304354,0.82793739130434796,1.1671617391304347]
[null,"24h",null,29.5,38.6,45.4,0.70799999999999996,0.9264,1.0895999999999999,2.6222222222222218,3.431111111111111,4.0355555555555549,2.6536888888888885,3.4722844444444445,4.0839822222222217,1.5391304347826085,2.0139130434782606,2.3686956521739129,1.6961217391304346,2.2193321739130432,2.610302608695652,null,"24h",null,13.5,19.100000000000001,27.4,0.32400000000000001,0.45840000000000003,0.65759999999999996,1.2,1.6977777777777778,2.4355555555555553,1.2143999999999999,1.7181511111111112,2.464782222222222,0.70434782608695656,0.99652173913043485,1.4295652173913043,0.77619130434782624,1.0981669565217393,1.5753808695652174]
[null,"Sans incorporation",null,30.2,38.799999999999997,45.4,0.72479999999999989,0.93119999999999992,1.0895999999999999,2.684444444444444,3.4488888888888884,4.0355555555555549,2.7166577777777774,3.4902755555555554,4.0839822222222217,1.5756521739130431,2.0243478260869563,2.3686956521739129,1.7363686956521738,2.2308313043478258,2.610302608695652,null,"Sans incorporation",null,14.2,20.100000000000001,28.3,0.34079999999999999,0.4824,0.67920000000000003,1.2622222222222221,1.7866666666666666,2.5155555555555553,1.2773688888888888,1.8081066666666668,2.5457422222222221,0.74086956521739122,1.048695652173913,1.4765217391304348,0.81643826086956517,1.1556626086956523,1.6271269565217392]
[]
[null,"Vitesse du vent (km/h)",10,null,null,null,null,null,null,null,null,null,null,null,null,null,null,null,null,null,null,null,"Vitesse du vent (km/h)",10]
[null,"Délai avant incorporation","Température ",10,20,30,10,20,30,10,20,30,10,20,30,10,20,30,10,20,30,null,"Délai avant incorporation","Température ",10,20,30,10,20,30,10,20,30,10,20,30,10,20,30,10,20,30]
[null,"0h",null,13.2,14.7,15.6,{"$f":"$C$4*D58/100","v":0.31679999999999997},0.35279999999999995,0.37439999999999996,{"$f":"G58/0.27","v":1.1733333333333331},1.3066666666666664,1.3866666666666665,{"$f":"J58*$N$3","v":1.1874133333333332},{"$f":"K58*$N$3","v":1.3223466666666663},1.4033066666666665,{"$f":"G58/0.46","v":0.68869565217391293},0.76695652173913031,0.81391304347826077,{"$f":"P58*$N$4","v":0.75894260869565211},{"$f":"Q58*$N$4","v":0.84518608695652164},0.89693217391304347,null,"0h",null,9.6999999999999993,11.2,12.9,{"$f":"$X$4*Y58/100","v":0.23279999999999998},{"$f":"$X$4*Z58/100","v":0.26879999999999998},0.30959999999999999,{"$f":"AB58/0.27","v":0.86222222222222211},0.99555555555555542,1.1466666666666665,{"$f":"AE58*$N$3","v":0.87256888888888884},{"$f":"AF58*$N$3","v":1.0075022222222221},1.1604266666666665,{"$f":"AB58/0.46","v":0.50608695652173907},0.58434782608695646,0.67304347826086952,{"$f":"AK58*$N$4","v":0.55770782608695646},{"$f":"AL58*$N$4","v":0.6439513043478261},0.74169391304347831]
[null,"3h",null,22.7,31.9,42.6,0.54479999999999995,0.76559999999999984,1.0224,2.0177777777777774,2.8355555555555547,3.7866666666666662,{"$f":"J59*$N$3","v":2.0419911111111109},2.8695822222222214,3.8321066666666663,1.1843478260869564,1.6643478260869562,2.2226086956521738,{"$f":"P59*$N$4","v":1.305151304347826},1.8341113043478259,2.4493147826086958,null,"3h",null,11.6,15.2,21,{"$f":"$X$4*Y59/100","v":0.27839999999999998},0.36479999999999996,0.504,1.0311111111111109,1.3511111111111109,1.8666666666666665,{"$f":"AE59*$N$3","v":1.0434844444444442},1.3673244444444443,1.8890666666666664,0.60521739130434771,0.79304347826086941,1.0956521739130434,{"$f":"AK59*$N$4","v":0.66694956521739124},0.87393391304347812,1.2074086956521739]
[null,"6h",null,28.3,38.9,47.4,0.67920000000000003,0.93359999999999999,1.1375999999999999,2.5155555555555553,3.4577777777777774,4.2133333333333329,2.5457422222222221,3.4992711111111108,4.2638933333333329,1.4765217391304348,2.0295652173913044,2.4730434782608692,1.6271269565217392,2.2365808695652176,2.7252939130434779,null,"6h",null,13.1,18.100000000000001,26.1,0.31439999999999996,0.43440000000000006,0.62639999999999996,1.1644444444444442,1.608888888888889,2.3199999999999998,1.1784177777777776,1.6281955555555556,2.3478399999999997,0.68347826086956509,0.94434782608695667,1.3617391304347826,0.75319304347826077,1.0406713043478264,1.5006365217391304]
[null,"24h",null,35.9,43.5,48.4,0.86159999999999992,1.0439999999999998,1.1616,3.1911111111111108,3.8666666666666658,4.3022222222222215,3.2294044444444441,3.913066666666666,4.353848888888888,1.8730434782608694,2.2695652173913037,2.5252173913043476,2.0640939130434783,2.501060869565217,2.7827895652173913,null,"24h",null,17,24.5,33.9,0.40799999999999997,0.58799999999999997,0.81359999999999999,1.5111111111111108,2.1777777777777776,3.0133333333333332,1.5292444444444442,2.2039111111111112,3.0494933333333334,0.88695652173913031,1.2782608695652173,1.768695652173913,0.97742608695652167,1.4086434782608697,1.9491026086956522]
[null,"Sans incorporation",null,36.200000000000003,43.5,48.4,0.86880000000000013,1.0439999999999998,1.1616,3.2177777777777781,3.8666666666666658,4.3022222222222215,3.2563911111111112,3.913066666666666,4.353848888888888,1.8886956521739133,2.2695652173913037,2.5252173913043476,2.0813426086956528,2.501060869565217,2.7827895652173913,null,"Sans incorporation",null,18,25.5,34.299999999999997,0.43199999999999994,0.61199999999999999,0.82319999999999993,1.5999999999999996,2.2666666666666666,3.0488888888888885,1.6191999999999998,2.2938666666666667,3.0854755555555551,0.93913043478260849,1.3304347826086955,1.7895652173913041,1.0349217391304346,1.4661391304347826,1.9721008695652174]
[]
[null,"Vitesse du vent (km/h)",15,null,null,null,null,null,null,null,null,null,null,null,null,null,null,null,null,null,null,null,"Vitesse du vent (km/h)",15]
[null,"Délai avant incorporation","Température ",10,20,30,10,20,30,10,20,30,10,20,30,10,20,30,10,20,30,null,"Délai avant incorporation","Température ",10,20,30,10,20,30,10,20,30,10,20,30,10,20,30,10,20,30]
[null,"0h",null,14,15.2,15.9,{"$f":"$C$4*D66/100","v":0.33600000000000002},0.36479999999999996,0.38159999999999994,{"$f":"G66/0.27","v":1.2444444444444445},1.3511111111111109,1.4133333333333331,{"$f":"J66*$N$3","v":1.2593777777777777},{"$f":"K66*$N$3","v":1.3673244444444443},1.4302933333333332,{"$f":"G66/0.46","v":0.73043478260869565},0.79304347826086941,0.82956521739130418,{"$f":"P66*$N$4","v":0.80493913043478271},{"$f":"Q66*$N$4","v":0.87393391304347812},0.91418086956521727,null,"0h",null,10.4,12,13.7,{"$f":"$X$4*Y66/100","v":0.24960000000000002},{"$f":"$X$4*Z66/100","v":0.28799999999999998},0.32879999999999998,{"$f":"AB66/0.27","v":0.9244444444444444},1.0666666666666664,1.2177777777777776,{"$f":"AE66*$N$3","v":0.93553777777777769},{"$f":"AF66*$N$3","v":1.0794666666666664},1.232391111111111,{"$f":"AB66/0.46","v":0.54260869565217396},0.62608695652173907,0.71478260869565213,{"$f":"AK66*$N$4","v":0.59795478260869572},{"$f":"AL66*$N$4","v":0.68994782608695648},0.78769043478260869]
[null,"3h",null,27.2,37.5,47.2,0.65280000000000005,0.9,1.1328,2.4177777777777778,3.333333333333333,4.195555555555555,{"$f":"J67*$N$3","v":2.4467911111111111},3.3733333333333331,4.245902222222222,1.4191304347826088,1.9565217391304348,2.462608695652174,{"$f":"P67*$N$4","v":1.5638817391304349},2.1560869565217393,2.7137947826086961,null,"3h",null,13.2,17.899999999999999,25.2,{"$f":"$X$4*Y67/100","v":0.31679999999999997},0.42959999999999993,0.6048,1.1733333333333331,1.5911111111111107,2.2399999999999998,{"$f":"AE67*$N$3","v":1.1874133333333332},1.6102044444444441,2.26688,0.68869565217391293,0.93391304347826065,1.3147826086956522,{"$f":"AK67*$N$4","v":0.75894260869565211},1.0291721739130433,1.4488904347826088]
[null,"6h",null,33.700000000000003,43.9,49.8,0.80880000000000007,1.0536000000000001,1.1951999999999998,2.9955555555555557,3.9022222222222225,4.4266666666666659,3.0315022222222225,3.9490488888888891,4.4797866666666657,1.7582608695652175,2.2904347826086959,2.598260869565217,1.93760347826087,2.5240591304347832,2.8632834782608692,null,"6h",null,15.4,21.9,31.4,0.36959999999999998,0.52559999999999996,0.75360000000000005,1.3688888888888888,1.9466666666666663,2.7911111111111113,1.3853155555555554,1.9700266666666664,2.8246044444444447,0.8034782608695652,1.1426086956521737,1.6382608695652174,0.88543304347826091,1.2591547826086955,1.8053634782608698]
[null,"24h",null,40.200000000000003,46.4,50.1,0.96479999999999999,1.1135999999999999,1.2023999999999999,3.5733333333333333,4.1244444444444435,4.4533333333333331,3.6162133333333335,4.1739377777777769,4.5067733333333333,2.0973913043478261,2.4208695652173908,2.6139130434782607,2.3113252173913046,2.667798260869565,2.8805321739130436,null,"24h",null,20.5,29.3,38.5,0.49199999999999994,0.70319999999999994,0.92399999999999993,1.822222222222222,2.6044444444444439,3.4222222222222216,1.8440888888888887,2.6356977777777773,3.4632888888888882,1.0695652173913042,1.5286956521739128,2.008695652173913,1.1786608695652172,1.6846226086956519,2.2135826086956523]
[null,"Sans incorporation",null,40.299999999999997,46.4,50.1,0.96719999999999984,1.1135999999999999,1.2023999999999999,3.5822222222222213,4.1244444444444435,4.4533333333333331,3.625208888888888,4.1739377777777769,4.5067733333333333,2.1026086956521737,2.4208695652173908,2.6139130434782607,2.3170747826086955,2.667798260869565,2.8805321739130436,null,"Sans incorporation",null,21.6,30.1,38.6,0.51840000000000008,0.72239999999999993,0.9264,1.9200000000000002,2.675555555555555,3.431111111111111,1.9430400000000001,2.7076622222222215,3.4722844444444445,1.1269565217391306,1.5704347826086955,2.0139130434782606,1.2419060869565222,1.7306191304347827,2.2193321739130432]
[]
[null,"Vitesse du vent (km/h)",25,null,null,null,null,null,null,null,null,null,null,null,null,null,null,null,null,null,null,null,"Vitesse du vent (km/h)",25]
[null,"Délai avant incorporation","Température ",10,20,30,10,20,30,10,20,30,10,20,30,10,20,30,10,20,30,null,"Délai avant incorporation","Température ",10,20,30,10,20,30,10,20,30,10,20,30,10,20,30,10,20,30]
[null,"0h",null,15,15.8,16.3,{"$f":"$C$4*D74/100","v":0.36},0.37920000000000004,0.39119999999999999,{"$f":"G74/0.27","v":1.3333333333333333},1.4044444444444444,1.4488888888888887,{"$f":"J74*$N$3","v":1.3493333333333333},{"$f":"K74*$N$3","v":1.4212977777777778},1.4662755555555553,{"$f":"G74/0.46","v":0.78260869565217384},0.82434782608695656,0.85043478260869565,{"$f":"P74*$N$4","v":0.86243478260869566},{"$f":"Q74*$N$4","v":0.90843130434782615},0.93717913043478274,null,"0h",null,11.7,13.4,14.8,{"$f":"$X$4*Y74/100","v":0.28079999999999999},{"$f":"$X$4*Z74/100","v":0.32159999999999994},0.35520000000000002,{"$f":"AB74/0.27","v":1.0399999999999998},1.1911111111111108,1.3155555555555556,{"$f":"AE74*$N$3","v":1.0524799999999999},{"$f":"AF74*$N$3","v":1.2054044444444441},1.3313422222222222,{"$f":"AB74/0.46","v":0.61043478260869566},0.6991304347826085,0.77217391304347827,{"$f":"AK74*$N$4","v":0.67269913043478269},{"$f":"AL74*$N$4","v":0.77044173913043468},0.85093565217391309]
[null,"3h",null,35.4,45.6,51.3,0.84959999999999991,1.0944,1.2311999999999999,3.1466666666666661,4.0533333333333328,4.5599999999999987,{"$f":"J75*$N$3","v":3.1844266666666661},4.1019733333333326,4.6147199999999984,1.8469565217391302,2.3791304347826085,2.6765217391304343,{"$f":"P75*$N$4","v":2.0353460869565216},2.6218017391304347,2.9495269565217388,null,"3h",null,16.8,23.5,33,{"$f":"$X$4*Y75/100","v":0.4032},0.56399999999999995,0.79200000000000004,1.4933333333333332,2.0888888888888886,2.9333333333333331,{"$f":"AE75*$N$3","v":1.5112533333333331},2.1139555555555551,2.9685333333333332,0.87652173913043474,1.2260869565217389,1.7217391304347827,{"$f":"AK75*$N$4","v":0.96592695652173921},1.3511478260869565,1.8973565217391306]
[null,"6h",null,42.1,49,51.7,1.0104,1.1759999999999999,1.2407999999999999,3.7422222222222219,4.3555555555555552,4.5955555555555545,3.7871288888888888,4.4078222222222223,4.650702222222221,2.1965217391304348,2.5565217391304347,2.6973913043478257,2.4205669565217391,2.8172869565217393,2.9725252173913042,null,"6h",null,20.399999999999999,29.3,39.9,0.48959999999999992,0.70319999999999994,0.9575999999999999,1.813333333333333,2.6044444444444439,3.546666666666666,1.835093333333333,2.6356977777777773,3.5892266666666659,1.0643478260869563,1.5286956521739128,2.0817391304347823,1.1729113043478259,1.6846226086956519,2.2940765217391301]
[null,"24h",null,45.4,49.5,51.7,1.0895999999999999,1.1879999999999999,1.2407999999999999,4.0355555555555549,4.3999999999999995,4.5955555555555545,4.0839822222222217,4.4527999999999999,4.650702222222221,2.3686956521739129,2.5826086956521737,2.6973913043478257,2.610302608695652,2.8460347826086956,2.9725252173913042,null,"24h",null,27.4,36.799999999999997,44.2,0.65759999999999996,0.88319999999999999,1.0608,2.4355555555555553,3.2711111111111109,3.9288888888888884,2.464782222222222,3.3103644444444442,3.9760355555555553,1.4295652173913043,1.92,2.3060869565217388,1.5753808695652174,2.1158399999999999,2.5413078260869564]
[null,"Sans incorporation",null,45.4,49.5,51.7,1.0895999999999999,1.1879999999999999,1.2407999999999999,4.0355555555555549,4.3999999999999995,4.5955555555555545,4.0839822222222217,4.4527999999999999,4.650702222222221,2.3686956521739129,2.5826086956521737,2.6973913043478257,2.610302608695652,2.8460347826086956,2.9725252173913042,null,"Sans incorporation",null,28.3,37.1,44.2,0.67920000000000003,0.89040000000000008,1.0608,2.5155555555555553,3.2977777777777777,3.9288888888888884,2.5457422222222221,3.3373511111111109,3.9760355555555553,1.4765217391304348,1.9356521739130437,2.3060869565217388,1.6271269565217392,2.1330886956521744,2.5413078260869564]

{"sheet":"Lisier de vache_72h-12h","index":9,"n_rows":78,"n_cols":12,"rows_kept":78,"cut":false,"hidden":true,"merged":[[5,9,6,11],[40,1,40,2],[40,7,40,8],[45,1,46,2],[45,3,46,5],[45,7,46,8],[45,9,46,11],[0,1,0,2],[0,7,0,8],[5,1,6,2],[5,3,6,5],[5,7,6,8]]}
[null,"LISIER DE VACHE",null,null,null,null,null,"LISIER DE VACHE"]
[null,"M.S (%)",3.5,null,null,null,null,"M.S (%)",3.5]
[null,"N total (kg/t)",2.6,null,null,null,null,"N total (kg/t)",2.6]
[null,"Azote ammoniacal total ou N-NH4+ (kg/t)",1.4,null,null,null,null,"Azote ammoniacal total ou N-NH4+ (kg/t)",1.4]
[]
[null,"Aspersion basse",null,"Ratio des émissions cumulatives de NH3 (kg/t_lisier_épandu) à 12h et 72h",null,null,null,"Pendillards",null,"Pourcentage d’azote ammoniacal (% N-NH4+) appliqué qui est émis sous forme d’ammoniac (N-NH3) lors des 72 heures suivant l'épandage"]
[]
[null,"Vitesse du vent (km/h)",5,null,null,null,null,"Vitesse du vent (km/h)",5]
[null,"Délai avant incorporation","Température ",10,20,30,null,"Délai avant incorporation","Température ",10,20,30]
[null,"0h",null,{"$f":"'Lisier de vache'!G10/'Lisier de vache_72h'!G10","v":0.44444444444444442},{"$f":"'Lisier de vache'!H10/'Lisier de vache_72h'!H10","v":0.51694915254237284},{"$f":"'Lisier de vache'!I10/'Lisier de vache_72h'!I10","v":0.56799999999999995},null,"0h",null,{"$f":"'Lisier de vache'!AB10/'Lisier de vache_72h'!AB10","v":0.31034482758620696},{"$f":"'Lisier de vache'!AC10/'Lisier de vache_72h'!AC10","v":0.35789473684210527},{"$f":"'Lisier de vache'!AD10/'Lisier de vache_72h'!AD10","v":0.42452830188679253}]
[null,"3h",null,{"$f":"'Lisier de vache'!G11/'Lisier de vache_72h'!G11","v":0.62580645161290316},{"$f":"'Lisier de vache'!H11/'Lisier de vache_72h'!H11","v":0.74879227053140107},{"$f":"'Lisier de vache'!I11/'Lisier de vache_72h'!I11","v":0.8345588235294118},null,"3h",null,{"$f":"'Lisier de vache'!AB11/'Lisier de vache_72h'!AB11","v":0.375},{"$f":"'Lisier de vache'!AC11/'Lisier de vache_72h'!AC11","v":0.46956521739130441},{"$f":"'Lisier de vache'!AD11/'Lisier de vache_72h'!AD11","v":0.59589041095890405}]
[null,"6h",null,{"$f":"'Lisier de vache'!G12/'Lisier de vache_72h'!G12","v":0.69729729729729717},{"$f":"'Lisier de vache'!H12/'Lisier de vache_72h'!H12","v":0.80321285140562282},{"$f":"'Lisier de vache'!I12/'Lisier de vache_72h'!I12","v":0.86407766990291257},null,"6h",null,{"$f":"'Lisier de vache'!AB12/'Lisier de vache_72h'!AB12","v":0.41747572815533979},{"$f":"'Lisier de vache'!AC12/'Lisier de vache_72h'!AC12","v":0.53488372093023262},{"$f":"'Lisier de vache'!AD12/'Lisier de vache_72h'!AD12","v":0.66473988439306353}]
[null,"24h",null,{"$f":"'Lisier de vache'!G13/'Lisier de vache_72h'!G13","v":0.69098712446351929},{"$f":"'Lisier de vache'!H13/'Lisier de vache_72h'!H13","v":0.80769230769230782},{"$f":"'Lisier de vache'!I13/'Lisier de vache_72h'!I13","v":0.86645962732919246},null,"24h",null,{"$f":"'Lisier de vache'!AB13/'Lisier de vache_72h'!AB13","v":0.43089430894308939},{"$f":"'Lisier de vache'!AC13/'Lisier de vache_72h'!AC13","v":0.53658536585365857},{"$f":"'Lisier de vache'!AD13/'Lisier de vache_72h'!AD13","v":0.66363636363636358}]
[null,"Sans incorporation",null,{"$f":"'Lisier de vache'!G14/'Lisier de vache_72h'!G14","v":0.68220338983050854},{"$f":"'Lisier de vache'!H14/'Lisier de vache_72h'!H14","v":0.80769230769230782},{"$f":"'Lisier de vache'!I14/'Lisier de vache_72h'!I14","v":0.86645962732919246},null,"Sans incorporation",null,{"$f":"'Lisier de vache'!AB14/'Lisier de vache_72h'!AB14","v":0.4140625},{"$f":"'Lisier de vache'!AC14/'Lisier de vache_72h'!AC14","v":0.51461988304093564},{"$f":"'Lisier de vache'!AD14/'Lisier de vache_72h'!AD14","v":0.6517857142857143}]
[]
[null,"Vitesse du vent (km/h)",10,null,null,null,null,"Vitesse du vent (km/h)",10]
[null,"Délai avant incorporation","Température ",10,20,30,null,"Délai avant incorporation","Température ",10,20,30]
[null,"0h",null,{"$f":"'Lisier de vache'!G18/'Lisier de vache_72h'!G18","v":0.4956521739130435},{"$f":"'Lisier de vache'!H18/'Lisier de vache_72h'!H18","v":0.56097560975609762},{"$f":"'Lisier de vache'!I18/'Lisier de vache_72h'!I18","v":0.57812500000000011},null,"0h",null,{"$f":"'Lisier de vache'!AB18/'Lisier de vache_72h'!AB18","v":0.33695652173913043},{"$f":"'Lisier de vache'!AC18/'Lisier de vache_72h'!AC18","v":0.40196078431372551},{"$f":"'Lisier de vache'!AD18/'Lisier de vache_72h'!AD18","v":0.47787610619469023}]
[null,"3h",null,{"$f":"'Lisier de vache'!G19/'Lisier de vache_72h'!G19","v":0.71808510638297862},{"$f":"'Lisier de vache'!H19/'Lisier de vache_72h'!H19","v":0.81274900398406369},{"$f":"'Lisier de vache'!I19/'Lisier de vache_72h'!I19","v":0.86624203821656054},null,"3h",null,{"$f":"'Lisier de vache'!AB19/'Lisier de vache_72h'!AB19","v":0.43518518518518517},{"$f":"'Lisier de vache'!AC19/'Lisier de vache_72h'!AC19","v":0.55970149253731349},{"$f":"'Lisier de vache'!AD19/'Lisier de vache_72h'!AD19","v":0.68926553672316382}]
[null,"6h",null,{"$f":"'Lisier de vache'!G20/'Lisier de vache_72h'!G20","v":0.77533039647577107},{"$f":"'Lisier de vache'!H20/'Lisier de vache_72h'!H20","v":0.84931506849315086},{"$f":"'Lisier de vache'!I20/'Lisier de vache_72h'!I20","v":0.87761194029850742},null,"6h",null,{"$f":"'Lisier de vache'!AB20/'Lisier de vache_72h'!AB20","v":0.49579831932773105},{"$f":"'Lisier de vache'!AC20/'Lisier de vache_72h'!AC20","v":0.62420382165605115},{"$f":"'Lisier de vache'!AD20/'Lisier de vache_72h'!AD20","v":0.75117370892018764}]
[null,"24h",null,{"$f":"'Lisier de vache'!G21/'Lisier de vache_72h'!G21","v":0.77490774907749083},{"$f":"'Lisier de vache'!H21/'Lisier de vache_72h'!H21","v":0.85576923076923062},{"$f":"'Lisier de vache'!I21/'Lisier de vache_72h'!I21","v":0.88130563798219586},null,"24h",null,{"$f":"'Lisier de vache'!AB21/'Lisier de vache_72h'!AB21","v":0.50335570469798652},{"$f":"'Lisier de vache'!AC21/'Lisier de vache_72h'!AC21","v":0.62189054726368154},{"$f":"'Lisier de vache'!AD21/'Lisier de vache_72h'!AD21","v":0.74903474903474898}]
[null,"Sans incorporation",null,{"$f":"'Lisier de vache'!G22/'Lisier de vache_72h'!G22","v":0.7720588235294118},{"$f":"'Lisier de vache'!H22/'Lisier de vache_72h'!H22","v":0.85576923076923062},{"$f":"'Lisier de vache'!I22/'Lisier de vache_72h'!I22","v":0.88130563798219586},null,"Sans incorporation",null,{"$f":"'Lisier de vache'!AB22/'Lisier de vache_72h'!AB22","v":0.48387096774193544},{"$f":"'Lisier de vache'!AC22/'Lisier de vache_72h'!AC22","v":0.60679611650485432},{"$f":"'Lisier de vache'!AD22/'Lisier de vache_72h'!AD22","v":0.74329501915708796}]
[]
[null,"Vitesse du vent (km/h)",15,null,null,null,null,"Vitesse du vent (km/h)",15]
[null,"Délai avant incorporation","Température ",10,20,30,null,"Délai avant incorporation","Température ",10,20,30]
[null,"0h",null,{"$f":"'Lisier de vache'!G26/'Lisier de vache_72h'!G26","v":0.53781512605042003},{"$f":"'Lisier de vache'!H26/'Lisier de vache_72h'!H26","v":0.57142857142857151},{"$f":"'Lisier de vache'!I26/'Lisier de vache_72h'!I26","v":0.58914728682170547},null,"0h",null,{"$f":"'Lisier de vache'!AB26/'Lisier de vache_72h'!AB26","v":0.37113402061855677},{"$f":"'Lisier de vache'!AC26/'Lisier de vache_72h'!AC26","v":0.44444444444444442},{"$f":"'Lisier de vache'!AD26/'Lisier de vache_72h'!AD26","v":0.52136752136752129}]
[null,"3h",null,{"$f":"'Lisier de vache'!G27/'Lisier de vache_72h'!G27","v":0.77168949771689499},{"$f":"'Lisier de vache'!H27/'Lisier de vache_72h'!H27","v":0.84561403508771948},{"$f":"'Lisier de vache'!I27/'Lisier de vache_72h'!I27","v":0.88095238095238093},null,"3h",null,{"$f":"'Lisier de vache'!AB27/'Lisier de vache_72h'!AB27","v":0.4916666666666667},{"$f":"'Lisier de vache'!AC27/'Lisier de vache_72h'!AC27","v":0.62337662337662336},{"$f":"'Lisier de vache'!AD27/'Lisier de vache_72h'!AD27","v":0.74757281553398058}]
[null,"6h",null,{"$f":"'Lisier de vache'!G28/'Lisier de vache_72h'!G28","v":0.93511450381679373},{"$f":"'Lisier de vache'!H28/'Lisier de vache_72h'!H28","v":0.86792452830188682},{"$f":"'Lisier de vache'!I28/'Lisier de vache_72h'!I28","v":0.88405797101449268},null,"6h",null,{"$f":"'Lisier de vache'!AB28/'Lisier de vache_72h'!AB28","v":0.56204379562043805},{"$f":"'Lisier de vache'!AC28/'Lisier de vache_72h'!AC28","v":0.69565217391304335},{"$f":"'Lisier de vache'!AD28/'Lisier de vache_72h'!AD28","v":0.80566801619433193}]
[null,"24h",null,{"$f":"'Lisier de vache'!G29/'Lisier de vache_72h'!G29","v":0.82653061224489788},{"$f":"'Lisier de vache'!H29/'Lisier de vache_72h'!H29","v":0.87155963302752293},{"$f":"'Lisier de vache'!I29/'Lisier de vache_72h'!I29","v":0.88405797101449268},null,"24h",null,{"$f":"'Lisier de vache'!AB29/'Lisier de vache_72h'!AB29","v":0.5632183908045979},{"$f":"'Lisier de vache'!AC29/'Lisier de vache_72h'!AC29","v":0.68965517241379304},{"$f":"'Lisier de vache'!AD29/'Lisier de vache_72h'!AD29","v":0.80701754385964908}]
[null,"Sans incorporation",null,{"$f":"'Lisier de vache'!G30/'Lisier de vache_72h'!G30","v":0.82372881355932193},{"$f":"'Lisier de vache'!H30/'Lisier de vache_72h'!H30","v":0.87155963302752293},{"$f":"'Lisier de vache'!I30/'Lisier de vache_72h'!I30","v":0.88405797101449268},null,"Sans incorporation",null,{"$f":"'Lisier de vache'!AB30/'Lisier de vache_72h'!AB30","v":0.54143646408839785},{"$f":"'Lisier de vache'!AC30/'Lisier de vache_72h'!AC30","v":0.68085106382978722},{"$f":"'Lisier de vache'!AD30/'Lisier de vache_72h'!AD30","v":0.80701754385964908}]
[]
[null,"Vitesse du vent (km/h)",25,null,null,null,null,"Vitesse du vent (km/h)",25]
[null,"Délai avant incorporation","Température ",10,20,30,null,"Délai avant incorporation","Température ",10,20,30]
[null,"0h",null,{"$f":"'Lisier de vache'!G34/'Lisier de vache_72h'!G34","v":0.56799999999999995},{"$f":"'Lisier de vache'!H34/'Lisier de vache_72h'!H34","v":0.58139534883720934},{"$f":"'Lisier de vache'!I34/'Lisier de vache_72h'!I34","v":0.59541984732824427},null,"0h",null,{"$f":"'Lisier de vache'!AB34/'Lisier de vache_72h'!AB34","v":0.42452830188679253},{"$f":"'Lisier de vache'!AC34/'Lisier de vache_72h'!AC34","v":0.50862068965517238},{"$f":"'Lisier de vache'!AD34/'Lisier de vache_72h'!AD34","v":0.56097560975609762}]
[null,"3h",null,{"$f":"'Lisier de vache'!G35/'Lisier de vache_72h'!G35","v":0.8345588235294118},{"$f":"'Lisier de vache'!H35/'Lisier de vache_72h'!H35","v":0.87537993920972657},{"$f":"'Lisier de vache'!I35/'Lisier de vache_72h'!I35","v":0.88668555240793201},null,"3h",null,{"$f":"'Lisier de vache'!AB35/'Lisier de vache_72h'!AB35","v":0.59589041095890405},{"$f":"'Lisier de vache'!AC35/'Lisier de vache_72h'!AC35","v":0.72680412371134029},{"$f":"'Lisier de vache'!AD35/'Lisier de vache_72h'!AD35","v":0.82170542635658905}]
[null,"6h",null,{"$f":"'Lisier de vache'!G36/'Lisier de vache_72h'!G36","v":0.86407766990291257},{"$f":"'Lisier de vache'!H36/'Lisier de vache_72h'!H36","v":0.88011695906432752},{"$f":"'Lisier de vache'!I36/'Lisier de vache_72h'!I36","v":0.88700564971751417},null,"6h",null,{"$f":"'Lisier de vache'!AB36/'Lisier de vache_72h'!AB36","v":0.67052023121387283},{"$f":"'Lisier de vache'!AC36/'Lisier de vache_72h'!AC36","v":0.78632478632478631},{"$f":"'Lisier de vache'!AD36/'Lisier de vache_72h'!AD36","v":0.85234899328859048}]
[null,"24h",null,{"$f":"'Lisier de vache'!G37/'Lisier de vache_72h'!G37","v":0.86645962732919246},{"$f":"'Lisier de vache'!H37/'Lisier de vache_72h'!H37","v":0.88046647230320696},{"$f":"'Lisier de vache'!I37/'Lisier de vache_72h'!I37","v":0.88700564971751417},null,"24h",null,{"$f":"'Lisier de vache'!AB37/'Lisier de vache_72h'!AB37","v":0.66363636363636358},{"$f":"'Lisier de vache'!AC37/'Lisier de vache_72h'!AC37","v":0.78623188405797084},{"$f":"'Lisier de vache'!AD37/'Lisier de vache_72h'!AD37","v":0.86031746031746037}]
[null,"Sans incorporation",null,{"$f":"'Lisier de vache'!G38/'Lisier de vache_72h'!G38","v":0.86645962732919246},{"$f":"'Lisier de vache'!H38/'Lisier de vache_72h'!H38","v":0.88046647230320696},{"$f":"'Lisier de vache'!I38/'Lisier de vache_72h'!I38","v":0.88700564971751417},null,"Sans incorporation",null,{"$f":"'Lisier de vache'!AB38/'Lisier de vache_72h'!AB38","v":0.6517857142857143},{"$f":"'Lisier de vache'!AC38/'Lisier de vache_72h'!AC38","v":0.78623188405797084},{"$f":"'Lisier de vache'!AD38/'Lisier de vache_72h'!AD38","v":0.86031746031746037}]
[]
[]
[null,"LISIER DE VACHE",null,null,null,null,null,"LISIER DE VACHE"]
[null,"M.S (%)",7,null,null,null,null,"M.S (%)",7]
[null,"N total (kg/t)",2.6,null,null,null,null,"N total (kg/t)",2.6]
[null,"Azote ammoniacal total ou N-NH4+ (kg/t)",1.4,null,null,null,null,"Azote ammoniacal total ou N-NH4+ (kg/t)",1.4]
[]
[null,"Aspersion basse",null,"Pourcentage d’azote ammoniacal (% N-NH4+) appliqué qui est émis sous forme d’ammoniac (N-NH3) lors des 72 heures suivant l'épandage",null,null,null,"Pendillards",null,"Pourcentage d’azote ammoniacal (% N-NH4+) appliqué qui est émis sous forme d’ammoniac (N-NH3) lors des 72 heures suivant l'épandage"]
[]
[null,"Vitesse du vent (km/h)",5,"km/h",null,null,null,"Vitesse du vent (km/h)",5,"km/h"]
[null,"Délai avant incorporation","Température ",10,20,30,null,"Délai avant incorporation","Température ",10,20,30]
[null,"0h",null,{"$f":"'Lisier de vache'!G50/'Lisier de vache_72h'!G50","v":0.52142857142857135},{"$f":"'Lisier de vache'!H50/'Lisier de vache_72h'!H50","v":0.6402439024390244},{"$f":"'Lisier de vache'!I50/'Lisier de vache_72h'!I50","v":0.71584699453551925},null,"0h",null,{"$f":"'Lisier de vache'!AB50/'Lisier de vache_72h'!AB50","v":0.32631578947368428},{"$f":"'Lisier de vache'!AC50/'Lisier de vache_72h'!AC50","v":0.39285714285714296},{"$f":"'Lisier de vache'!AD50/'Lisier de vache_72h'!AD50","v":0.49629629629629635}]
[null,"3h",null,{"$f":"'Lisier de vache'!G51/'Lisier de vache_72h'!G51","v":0.72123893805309736},{"$f":"'Lisier de vache'!H51/'Lisier de vache_72h'!H51","v":0.84939759036144569},{"$f":"'Lisier de vache'!I51/'Lisier de vache_72h'!I51","v":0.9285714285714286},null,"3h",null,{"$f":"'Lisier de vache'!AB51/'Lisier de vache_72h'!AB51","v":0.41964285714285721},{"$f":"'Lisier de vache'!AC51/'Lisier de vache_72h'!AC51","v":0.54421768707482987},{"$f":"'Lisier de vache'!AD51/'Lisier de vache_72h'!AD51","v":0.6923076923076924}]
[null,"6h",null,{"$f":"'Lisier de vache'!G52/'Lisier de vache_72h'!G52","v":0.78873239436619713},{"$f":"'Lisier de vache'!H52/'Lisier de vache_72h'!H52","v":0.89548693586698358},{"$f":"'Lisier de vache'!I52/'Lisier de vache_72h'!I52","v":0.95113438045375243},null,"6h",null,{"$f":"'Lisier de vache'!AB52/'Lisier de vache_72h'!AB52","v":0.48387096774193544},{"$f":"'Lisier de vache'!AC52/'Lisier de vache_72h'!AC52","v":0.62068965517241392},{"$f":"'Lisier de vache'!AD52/'Lisier de vache_72h'!AD52","v":0.76061776061776065}]
[null,"24h",null,{"$f":"'Lisier de vache'!G53/'Lisier de vache_72h'!G53","v":0.7468030690537083},{"$f":"'Lisier de vache'!H53/'Lisier de vache_72h'!H53","v":0.86998087954110914},{"$f":"'Lisier de vache'!I53/'Lisier de vache_72h'!I53","v":0.9500805152979066},null,"24h",null,{"$f":"'Lisier de vache'!AB53/'Lisier de vache_72h'!AB53","v":0.48125000000000001},{"$f":"'Lisier de vache'!AC53/'Lisier de vache_72h'!AC53","v":0.59751037344398339},{"$f":"'Lisier de vache'!AD53/'Lisier de vache_72h'!AD53","v":0.72022160664819945}]
[null,"Sans incorporation",null,{"$f":"'Lisier de vache'!G54/'Lisier de vache_72h'!G54","v":0.72636815920398001},{"$f":"'Lisier de vache'!H54/'Lisier de vache_72h'!H54","v":0.86501901140684401},{"$f":"'Lisier de vache'!I54/'Lisier de vache_72h'!I54","v":0.9500805152979066},null,"Sans incorporation",null,{"$f":"'Lisier de vache'!AB54/'Lisier de vache_72h'!AB54","v":0.45029239766081869},{"$f":"'Lisier de vache'!AC54/'Lisier de vache_72h'!AC54","v":0.56250000000000011},{"$f":"'Lisier de vache'!AD54/'Lisier de vache_72h'!AD54","v":0.69518716577540107}]
[]
[null,"Vitesse du vent (km/h)",10,"km/h",null,null,null,"Vitesse du vent (km/h)",10,"km/h"]
[null,"Délai avant incorporation","Température ",10,20,30,null,"Délai avant incorporation","Température ",10,20,30]
[null,"0h",null,{"$f":"'Lisier de vache'!G58/'Lisier de vache_72h'!G58","v":0.60509554140127386},{"$f":"'Lisier de vache'!H58/'Lisier de vache_72h'!H58","v":0.702247191011236},{"$f":"'Lisier de vache'!I58/'Lisier de vache_72h'!I58","v":0.74345549738219874},null,"0h",null,{"$f":"'Lisier de vache'!AB58/'Lisier de vache_72h'!AB58","v":0.36792452830188688},{"$f":"'Lisier de vache'!AC58/'Lisier de vache_72h'!AC58","v":0.46456692913385828},{"$f":"'Lisier de vache'!AD58/'Lisier de vache_72h'!AD58","v":0.57894736842105265}]
[null,"3h",null,{"$f":"'Lisier de vache'!G59/'Lisier de vache_72h'!G59","v":0.8156996587030716},{"$f":"'Lisier de vache'!H59/'Lisier de vache_72h'!H59","v":0.91079812206572752},{"$f":"'Lisier de vache'!I59/'Lisier de vache_72h'!I59","v":0.95517241379310347},null,"3h",null,{"$f":"'Lisier de vache'!AB59/'Lisier de vache_72h'!AB59","v":0.50375939849624052},{"$f":"'Lisier de vache'!AC59/'Lisier de vache_72h'!AC59","v":0.64324324324324322},{"$f":"'Lisier de vache'!AD59/'Lisier de vache_72h'!AD59","v":0.78888888888888908}]
[null,"6h",null,{"$f":"'Lisier de vache'!G60/'Lisier de vache_72h'!G60","v":0.86363636363636354},{"$f":"'Lisier de vache'!H60/'Lisier de vache_72h'!H60","v":0.93738140417457305},{"$f":"'Lisier de vache'!I60/'Lisier de vache_72h'!I60","v":0.96764252696456077},null,"6h",null,{"$f":"'Lisier de vache'!AB60/'Lisier de vache_72h'!AB60","v":0.57419354838709669},{"$f":"'Lisier de vache'!AC60/'Lisier de vache_72h'!AC60","v":0.71806167400881071},{"$f":"'Lisier de vache'!AD60/'Lisier de vache_72h'!AD60","v":0.8425655976676385}]
[null,"24h",null,{"$f":"'Lisier de vache'!G61/'Lisier de vache_72h'!G61","v":0.83436853002070388},{"$f":"'Lisier de vache'!H61/'Lisier de vache_72h'!H61","v":0.93265993265993252},{"$f":"'Lisier de vache'!I61/'Lisier de vache_72h'!I61","v":0.96837349397590355},null,"24h",null,{"$f":"'Lisier de vache'!AB61/'Lisier de vache_72h'!AB61","v":0.55924170616113744},{"$f":"'Lisier de vache'!AC61/'Lisier de vache_72h'!AC61","v":0.68025078369905956},{"$f":"'Lisier de vache'!AD61/'Lisier de vache_72h'!AD61","v":0.80616740088105732}]
[null,"Sans incorporation",null,{"$f":"'Lisier de vache'!G62/'Lisier de vache_72h'!G62","v":0.82581967213114749},{"$f":"'Lisier de vache'!H62/'Lisier de vache_72h'!H62","v":0.93265993265993252},{"$f":"'Lisier de vache'!I62/'Lisier de vache_72h'!I62","v":0.96837349397590355},null,"Sans incorporation",null,{"$f":"'Lisier de vache'!AB62/'Lisier de vache_72h'!AB62","v":0.52444444444444449},{"$f":"'Lisier de vache'!AC62/'Lisier de vache_72h'!AC62","v":0.64970059880239517},{"$f":"'Lisier de vache'!AD62/'Lisier de vache_72h'!AD62","v":0.79392624728850325}]
[]
[null,"Vitesse du vent (km/h)",15,"km/h",null,null,null,"Vitesse du vent (km/h)",15,"km/h"]
[null,"Délai avant incorporation","Température ",10,20,30,null,"Délai avant incorporation","Température ",10,20,30]
[null,"0h",null,{"$f":"'Lisier de vache'!G66/'Lisier de vache_72h'!G66","v":0.65680473372781067},{"$f":"'Lisier de vache'!H66/'Lisier de vache_72h'!H66","v":0.72580645161290325},{"$f":"'Lisier de vache'!I66/'Lisier de vache_72h'!I66","v":0.74999999999999989},null,"0h",null,{"$f":"'Lisier de vache'!AB66/'Lisier de vache_72h'!AB66","v":0.41379310344827586},{"$f":"'Lisier de vache'!AC66/'Lisier de vache_72h'!AC66","v":0.52142857142857135},{"$f":"'Lisier de vache'!AD66/'Lisier de vache_72h'!AD66","v":0.6402439024390244}]
[null,"3h",null,{"$f":"'Lisier de vache'!G67/'Lisier de vache_72h'!G67","v":0.87150837988826846},{"$f":"'Lisier de vache'!H67/'Lisier de vache_72h'!H67","v":0.93885601577909272},{"$f":"'Lisier de vache'!I67/'Lisier de vache_72h'!I67","v":0.96599690880989186},null,"3h",null,{"$f":"'Lisier de vache'!AB67/'Lisier de vache_72h'!AB67","v":0.5732484076433122},{"$f":"'Lisier de vache'!AC67/'Lisier de vache_72h'!AC67","v":0.72000000000000008},{"$f":"'Lisier de vache'!AD67/'Lisier de vache_72h'!AD67","v":0.84802431610942242}]
[null,"6h",null,{"$f":"'Lisier de vache'!G68/'Lisier de vache_72h'!G68","v":0.90949227373068431},{"$f":"'Lisier de vache'!H68/'Lisier de vache_72h'!H68","v":0.9565943238731216},{"$f":"'Lisier de vache'!I68/'Lisier de vache_72h'!I68","v":0.97080291970802912},null,"6h",null,{"$f":"'Lisier de vache'!AB68/'Lisier de vache_72h'!AB68","v":0.64893617021276595},{"$f":"'Lisier de vache'!AC68/'Lisier de vache_72h'!AC68","v":0.7872340425531914},{"$f":"'Lisier de vache'!AD68/'Lisier de vache_72h'!AD68","v":0.8926014319809068}]
[null,"24h",null,{"$f":"'Lisier de vache'!G69/'Lisier de vache_72h'!G69","v":0.89194139194139188},{"$f":"'Lisier de vache'!H69/'Lisier de vache_72h'!H69","v":0.95905511811023625},{"$f":"'Lisier de vache'!I69/'Lisier de vache_72h'!I69","v":0.97238372093023262},null,"24h",null,{"$f":"'Lisier de vache'!AB69/'Lisier de vache_72h'!AB69","v":0.62213740458015265},{"$f":"'Lisier de vache'!AC69/'Lisier de vache_72h'!AC69","v":0.74293059125964012},{"$f":"'Lisier de vache'!AD69/'Lisier de vache_72h'!AD69","v":0.86948176583493286}]
[null,"Sans incorporation",null,{"$f":"'Lisier de vache'!G70/'Lisier de vache_72h'!G70","v":0.88868613138686137},{"$f":"'Lisier de vache'!H70/'Lisier de vache_72h'!H70","v":0.95905511811023625},{"$f":"'Lisier de vache'!I70/'Lisier de vache_72h'!I70","v":0.97238372093023262},null,"Sans incorporation",null,{"$f":"'Lisier de vache'!AB70/'Lisier de vache_72h'!AB70","v":0.58633093525179858},{"$f":"'Lisier de vache'!AC70/'Lisier de vache_72h'!AC70","v":0.72249999999999981},{"$f":"'Lisier de vache'!AD70/'Lisier de vache_72h'!AD70","v":0.8645038167938931}]
[]
[null,"Vitesse du vent (km/h)",25,"km/h",null,null,null,"Vitesse du vent (km/h)",25,"km/h"]
[null,"Délai avant incorporation","Température ",10,20,30,null,"Délai avant incorporation","Température ",10,20,30]
[null,"0h",null,{"$f":"'Lisier de vache'!G74/'Lisier de vache_72h'!G74","v":0.72131147540983598},{"$f":"'Lisier de vache'!H74/'Lisier de vache_72h'!H74","v":0.74742268041237114},{"$f":"'Lisier de vache'!I74/'Lisier de vache_72h'!I74","v":0.75621890547263682},null,"0h",null,{"$f":"'Lisier de vache'!AB74/'Lisier de vache_72h'!AB74","v":0.49629629629629635},{"$f":"'Lisier de vache'!AC74/'Lisier de vache_72h'!AC74","v":0.61635220125786172},{"$f":"'Lisier de vache'!AD74/'Lisier de vache_72h'!AD74","v":0.7094972067039107}]
[null,"3h",null,{"$f":"'Lisier de vache'!G75/'Lisier de vache_72h'!G75","v":0.9285714285714286},{"$f":"'Lisier de vache'!H75/'Lisier de vache_72h'!H75","v":0.96153846153846145},{"$f":"'Lisier de vache'!I75/'Lisier de vache_72h'!I75","v":0.9745042492917847},null,"3h",null,{"$f":"'Lisier de vache'!AB75/'Lisier de vache_72h'!AB75","v":0.68899521531100483},{"$f":"'Lisier de vache'!AC75/'Lisier de vache_72h'!AC75","v":0.82622950819672136},{"$f":"'Lisier de vache'!AD75/'Lisier de vache_72h'!AD75","v":0.91628959276018085}]
[null,"6h",null,{"$f":"'Lisier de vache'!G76/'Lisier de vache_72h'!G76","v":0.95113438045375243},{"$f":"'Lisier de vache'!H76/'Lisier de vache_72h'!H76","v":0.96884272997032628},{"$f":"'Lisier de vache'!I76/'Lisier de vache_72h'!I76","v":0.976123595505618},null,"6h",null,{"$f":"'Lisier de vache'!AB76/'Lisier de vache_72h'!AB76","v":0.75769230769230766},{"$f":"'Lisier de vache'!AC76/'Lisier de vache_72h'!AC76","v":0.87403598971722352},{"$f":"'Lisier de vache'!AD76/'Lisier de vache_72h'!AD76","v":0.94280442804428044}]
[null,"24h",null,{"$f":"'Lisier de vache'!G77/'Lisier de vache_72h'!G77","v":0.9500805152979066},{"$f":"'Lisier de vache'!H77/'Lisier de vache_72h'!H77","v":0.97058823529411775},{"$f":"'Lisier de vache'!I77/'Lisier de vache_72h'!I77","v":0.976123595505618},null,"24h",null,{"$f":"'Lisier de vache'!AB77/'Lisier de vache_72h'!AB77","v":0.71823204419889497},{"$f":"'Lisier de vache'!AC77/'Lisier de vache_72h'!AC77","v":0.84507042253521125},{"$f":"'Lisier de vache'!AD77/'Lisier de vache_72h'!AD77","v":0.94029850746268673}]
[null,"Sans incorporation",null,{"$f":"'Lisier de vache'!G78/'Lisier de vache_72h'!G78","v":0.9500805152979066},{"$f":"'Lisier de vache'!H78/'Lisier de vache_72h'!H78","v":0.97058823529411775},{"$f":"'Lisier de vache'!I78/'Lisier de vache_72h'!I78","v":0.976123595505618},null,"Sans incorporation",null,{"$f":"'Lisier de vache'!AB78/'Lisier de vache_72h'!AB78","v":0.69333333333333325},{"$f":"'Lisier de vache'!AC78/'Lisier de vache_72h'!AC78","v":0.83832335329341312},{"$f":"'Lisier de vache'!AD78/'Lisier de vache_72h'!AD78","v":0.94029850746268673}]

{"sheet":"Lisier de porc 72h-12h ","index":10,"n_rows":78,"n_cols":23,"rows_kept":78,"cut":false,"hidden":true,"merged":[[45,9,46,11],[0,1,0,2],[0,7,0,8],[5,1,6,2],[5,3,6,5],[5,7,6,8],[5,9,6,11],[40,1,40,2],[40,7,40,8],[45,1,46,2],[45,3,46,5],[45,7,46,8]]}
[null,"LISIER DE PORC",null,null,null,null,null,"LISIER DE PORC"]
[null,"M.S (%)",3.5,null,null,null,null,"M.S (%)",3.5]
[null,"N total (kg/t)",3.5,null,null,null,null,"N total (kg/t)",3.5]
[null,"Azote ammoniacal total ou N-NH4+ (kg/t)",2.4,null,null,null,null,"Azote ammoniacal total ou N-NH4+ (kg/t)",2.4]
[]
[null,"Aspersion basse",null,"Ratio des émissions cumulatives de NH3 (kg/t_lisier_épandu) à 12h et 72h",null,null,null,"Pendillards",null,"Ratio des émissions cumulatives de NH3 (kg/t_lisier_épandu) à 12h et 72h",null,null,null,null,null,null,null,null,"Fumier","Incorporation","M.S","% de pertes mimimal ","% de pertes maximal"]
[null,null,null,null,null,null,null,null,null,null,null,null,null,null,null,null,null,null,"Porc","inmediate",3,0.37,0.47]
[null,"Vitesse du vent (km/h)",5,null,null,null,null,"Vitesse du vent (km/h)",5,null,null,null,null,null,null,null,null,null,"Porc","après 3h",3,0.5,0.77]
[null,"Délai avant incorporation","Température ",10,20,30,null,"Délai avant incorporation","Température ",10,20,30,null,null,null,null,null,null,"Porc","inmediate",7,0.47,0.76]
[null,"0h",null,{"$f":"'Lisier de porc'!G10/'Lisier de porc__72h'!G10","v":0.36956521739130438},{"$f":"'Lisier de porc'!H10/'Lisier de porc__72h'!H10","v":0.41666666666666669},{"$f":"'Lisier de porc'!I10/'Lisier de porc__72h'!I10","v":0.44},null,"0h",null,{"$f":"'Lisier de porc'!M10/'Lisier de porc__72h'!M10","v":0.36956521739130438},{"$f":"'Lisier de porc'!N10/'Lisier de porc__72h'!N10","v":0.41666666666666669},{"$f":"'Lisier de porc'!O10/'Lisier de porc__72h'!O10","v":0.43999999999999995},null,{"$f":"J10/J13","v":0.63414031620553368},{"$f":"K10/K13","v":0.60606060606060619},{"$f":"L10/L13","v":0.59277777777777774},null,null,"Porc","après 3h",7,0.66,0.98]
[null,"3h",null,{"$f":"'Lisier de porc'!G11/'Lisier de porc__72h'!G11","v":0.5},{"$f":"'Lisier de porc'!H11/'Lisier de porc__72h'!H11","v":0.61151079136690645},{"$f":"'Lisier de porc'!I11/'Lisier de porc__72h'!I11","v":0.7},null,"3h",null,{"$f":"'Lisier de porc'!M11/'Lisier de porc__72h'!M11","v":0.5},{"$f":"'Lisier de porc'!N11/'Lisier de porc__72h'!N11","v":0.61151079136690634},{"$f":"'Lisier de porc'!O11/'Lisier de porc__72h'!O11","v":0.7},null,null,null,null,null,null,"Vache","inmediate",3,0.31,0.6]
[null,"6h",null,{"$f":"'Lisier de porc'!G12/'Lisier de porc__72h'!G12","v":0.56250000000000011},{"$f":"'Lisier de porc'!H12/'Lisier de porc__72h'!H12","v":0.66666666666666663},{"$f":"'Lisier de porc'!I12/'Lisier de porc__72h'!I12","v":0.73404255319148937},null,"6h",null,{"$f":"'Lisier de porc'!M12/'Lisier de porc__72h'!M12","v":0.56250000000000011},{"$f":"'Lisier de porc'!N12/'Lisier de porc__72h'!N12","v":0.66666666666666652},{"$f":"'Lisier de porc'!O12/'Lisier de porc__72h'!O12","v":0.73404255319148948},null,null,null,null,null,null,"Vache","après 3h",3,0.38,0.89]
[null,"24h",null,{"$f":"'Lisier de porc'!G13/'Lisier de porc__72h'!G13","v":0.58278145695364247},{"$f":"'Lisier de porc'!H13/'Lisier de porc__72h'!H13","v":0.6875},{"$f":"'Lisier de porc'!I13/'Lisier de porc__72h'!I13","v":0.74226804123711354},null,"24h",null,{"$f":"'Lisier de porc'!M13/'Lisier de porc__72h'!M13","v":0.58278145695364236},{"$f":"'Lisier de porc'!N13/'Lisier de porc__72h'!N13","v":0.68749999999999989},{"$f":"'Lisier de porc'!O13/'Lisier de porc__72h'!O13","v":0.74226804123711343},null,null,null,null,null,null,"Vache","inmediate",7,0.33,0.76]
[null,"Sans incorporation",null,{"$f":"'Lisier de porc'!G14/'Lisier de porc__72h'!G14","v":0.57516339869281052},{"$f":"'Lisier de porc'!H14/'Lisier de porc__72h'!H14","v":0.68361581920903958},{"$f":"'Lisier de porc'!I14/'Lisier de porc__72h'!I14","v":0.74611398963730569},null,"Sans incorporation",null,{"$f":"'Lisier de porc'!M14/'Lisier de porc__72h'!M14","v":0.57516339869281041},{"$f":"'Lisier de porc'!N14/'Lisier de porc__72h'!N14","v":0.68361581920903958},{"$f":"'Lisier de porc'!O14/'Lisier de porc__72h'!O14","v":0.74611398963730569},null,null,null,null,null,null,"Vache","après 3h",7,0.42,0.98]
[]
[null,"Vitesse du vent (km/h)",10,null,null,null,null,"Vitesse du vent (km/h)",10]
[null,"Délai avant incorporation","Température ",10,20,30,null,"Délai avant incorporation","Température ",10,20,30]
[null,"0h",null,{"$f":"'Lisier de porc'!G18/'Lisier de porc__72h'!G18","v":0.39999999999999997},{"$f":"'Lisier de porc'!H18/'Lisier de porc__72h'!H18","v":0.43434343434343425},{"$f":"'Lisier de porc'!I18/'Lisier de porc__72h'!I18","v":0.45544554455445546},null,"0h",null,{"$f":"'Lisier de porc'!M18/'Lisier de porc__72h'!M18","v":0.39999999999999997},{"$f":"'Lisier de porc'!N18/'Lisier de porc__72h'!N18","v":0.43434343434343425},{"$f":"'Lisier de porc'!O18/'Lisier de porc__72h'!O18","v":0.45544554455445546}]
[null,"3h",null,{"$f":"'Lisier de porc'!G19/'Lisier de porc__72h'!G19","v":0.57692307692307687},{"$f":"'Lisier de porc'!H19/'Lisier de porc__72h'!H19","v":0.67500000000000004},{"$f":"'Lisier de porc'!I19/'Lisier de porc__72h'!I19","v":0.75789473684210529},null,"3h",null,{"$f":"'Lisier de porc'!M19/'Lisier de porc__72h'!M19","v":0.57692307692307698},{"$f":"'Lisier de porc'!N19/'Lisier de porc__72h'!N19","v":0.67500000000000004},{"$f":"'Lisier de porc'!O19/'Lisier de porc__72h'!O19","v":0.75789473684210529}]
[null,"6h",null,{"$f":"'Lisier de porc'!G20/'Lisier de porc__72h'!G20","v":0.63758389261744974},{"$f":"'Lisier de porc'!H20/'Lisier de porc__72h'!H20","v":0.71666666666666679},{"$f":"'Lisier de porc'!I20/'Lisier de porc__72h'!I20","v":0.75499999999999989},null,"6h",null,{"$f":"'Lisier de porc'!M20/'Lisier de porc__72h'!M20","v":0.63758389261744974},{"$f":"'Lisier de porc'!N20/'Lisier de porc__72h'!N20","v":0.71666666666666667},{"$f":"'Lisier de porc'!O20/'Lisier de porc__72h'!O20","v":0.75499999999999989}]
[null,"24h",null,{"$f":"'Lisier de porc'!G21/'Lisier de porc__72h'!G21","v":0.65680473372781067},{"$f":"'Lisier de porc'!H21/'Lisier de porc__72h'!H21","v":0.73015873015873023},{"$f":"'Lisier de porc'!I21/'Lisier de porc__72h'!I21","v":0.7562189054726367},null,"24h",null,{"$f":"'Lisier de porc'!M21/'Lisier de porc__72h'!M21","v":0.65680473372781067},{"$f":"'Lisier de porc'!N21/'Lisier de porc__72h'!N21","v":0.73015873015873023},{"$f":"'Lisier de porc'!O21/'Lisier de porc__72h'!O21","v":0.7562189054726367}]
[null,"Sans incorporation",null,{"$f":"'Lisier de porc'!G22/'Lisier de porc__72h'!G22","v":0.65294117647058825},{"$f":"'Lisier de porc'!H22/'Lisier de porc__72h'!H22","v":0.73015873015873023},{"$f":"'Lisier de porc'!I22/'Lisier de porc__72h'!I22","v":0.7562189054726367},null,"Sans incorporation",null,{"$f":"'Lisier de porc'!M22/'Lisier de porc__72h'!M22","v":0.65294117647058825},{"$f":"'Lisier de porc'!N22/'Lisier de porc__72h'!N22","v":0.73015873015873023},{"$f":"'Lisier de porc'!O22/'Lisier de porc__72h'!O22","v":0.7562189054726367}]
[]
[null,"Vitesse du vent (km/h)",15,null,null,null,null,"Vitesse du vent (km/h)",15]
[null,"Délai avant incorporation","Température ",10,20,30,null,"Délai avant incorporation","Température ",10,20,30]
[null,"0h",null,{"$f":"'Lisier de porc'!G26/'Lisier de porc__72h'!G26","v":0.42268041237113402},{"$f":"'Lisier de porc'!H26/'Lisier de porc__72h'!H26","v":0.44999999999999996},{"$f":"'Lisier de porc'!I26/'Lisier de porc__72h'!I26","v":0.46078431372549028},null,"0h",null,{"$f":"'Lisier de porc'!M26/'Lisier de porc__72h'!M26","v":0.42268041237113396},{"$f":"'Lisier de porc'!N26/'Lisier de porc__72h'!N26","v":0.44999999999999996},{"$f":"'Lisier de porc'!O26/'Lisier de porc__72h'!O26","v":0.46078431372549022}]
[null,"3h",null,{"$f":"'Lisier de porc'!G27/'Lisier de porc__72h'!G27","v":0.62758620689655176},{"$f":"'Lisier de porc'!H27/'Lisier de porc__72h'!H27","v":0.71590909090909094},{"$f":"'Lisier de porc'!I27/'Lisier de porc__72h'!I27","v":0.7562189054726367},null,"3h",null,{"$f":"'Lisier de porc'!M27/'Lisier de porc__72h'!M27","v":0.62758620689655176},{"$f":"'Lisier de porc'!N27/'Lisier de porc__72h'!N27","v":0.71590909090909094},{"$f":"'Lisier de porc'!O27/'Lisier de porc__72h'!O27","v":0.7562189054726367}]
[null,"6h",null,{"$f":"'Lisier de porc'!G28/'Lisier de porc__72h'!G28","v":0.68484848484848482},{"$f":"'Lisier de porc'!H28/'Lisier de porc__72h'!H28","v":0.74479166666666674},{"$f":"'Lisier de porc'!I28/'Lisier de porc__72h'!I28","v":0.76097560975609757},null,"6h",null,{"$f":"'Lisier de porc'!M28/'Lisier de porc__72h'!M28","v":0.68484848484848482},{"$f":"'Lisier de porc'!N28/'Lisier de porc__72h'!N28","v":0.74479166666666663},{"$f":"'Lisier de porc'!O28/'Lisier de porc__72h'!O28","v":0.76097560975609757}]
[null,"24h",null,{"$f":"'Lisier de porc'!G29/'Lisier de porc__72h'!G29","v":0.70165745856353567},{"$f":"'Lisier de porc'!H29/'Lisier de porc__72h'!H29","v":0.74999999999999989},{"$f":"'Lisier de porc'!I29/'Lisier de porc__72h'!I29","v":0.76097560975609757},null,"24h",null,{"$f":"'Lisier de porc'!M29/'Lisier de porc__72h'!M29","v":0.70165745856353567},{"$f":"'Lisier de porc'!N29/'Lisier de porc__72h'!N29","v":0.74999999999999989},{"$f":"'Lisier de porc'!O29/'Lisier de porc__72h'!O29","v":0.76097560975609757}]
[null,"Sans incorporation",null,{"$f":"'Lisier de porc'!G30/'Lisier de porc__72h'!G30","v":0.70165745856353567},{"$f":"'Lisier de porc'!H30/'Lisier de porc__72h'!H30","v":0.74999999999999989},{"$f":"'Lisier de porc'!I30/'Lisier de porc__72h'!I30","v":0.76097560975609757},null,"Sans incorporation",null,{"$f":"'Lisier de porc'!M30/'Lisier de porc__72h'!M30","v":0.70165745856353567},{"$f":"'Lisier de porc'!N30/'Lisier de porc__72h'!N30","v":0.74999999999999989},{"$f":"'Lisier de porc'!O30/'Lisier de porc__72h'!O30","v":0.76097560975609757}]
[]
[null,"Vitesse du vent (km/h)",25,null,null,null,null,"Vitesse du vent (km/h)",25]
[null,"Délai avant incorporation","Température ",10,20,30,null,"Délai avant incorporation","Température ",10,20,30]
[null,"0h",null,{"$f":"'Lisier de porc'!G34/'Lisier de porc__72h'!G34","v":0.44},{"$f":"'Lisier de porc'!H34/'Lisier de porc__72h'!H34","v":0.46078431372549028},{"$f":"'Lisier de porc'!I34/'Lisier de porc__72h'!I34","v":0.46601941747572806},null,"0h",null,{"$f":"'Lisier de porc'!M34/'Lisier de porc__72h'!M34","v":0.43999999999999995},{"$f":"'Lisier de porc'!N34/'Lisier de porc__72h'!N34","v":0.46078431372549022},{"$f":"'Lisier de porc'!O34/'Lisier de porc__72h'!O34","v":0.46601941747572811}]
[null,"3h",null,{"$f":"'Lisier de porc'!G35/'Lisier de porc__72h'!G35","v":0.7},{"$f":"'Lisier de porc'!H35/'Lisier de porc__72h'!H35","v":0.75126903553299507},{"$f":"'Lisier de porc'!I35/'Lisier de porc__72h'!I35","v":0.76923076923076916},null,"3h",null,{"$f":"'Lisier de porc'!M35/'Lisier de porc__72h'!M35","v":0.7},{"$f":"'Lisier de porc'!N35/'Lisier de porc__72h'!N35","v":0.75126903553299507},{"$f":"'Lisier de porc'!O35/'Lisier de porc__72h'!O35","v":0.76923076923076927}]
[null,"6h",null,{"$f":"'Lisier de porc'!G36/'Lisier de porc__72h'!G36","v":0.73404255319148937},{"$f":"'Lisier de porc'!H36/'Lisier de porc__72h'!H36","v":0.75862068965517249},{"$f":"'Lisier de porc'!I36/'Lisier de porc__72h'!I36","v":0.76555023923444987},null,"6h",null,{"$f":"'Lisier de porc'!M36/'Lisier de porc__72h'!M36","v":0.73404255319148948},{"$f":"'Lisier de porc'!N36/'Lisier de porc__72h'!N36","v":0.75862068965517238},{"$f":"'Lisier de porc'!O36/'Lisier de porc__72h'!O36","v":0.76555023923444998}]
[null,"24h",null,{"$f":"'Lisier de porc'!G37/'Lisier de porc__72h'!G37","v":0.74226804123711354},{"$f":"'Lisier de porc'!H37/'Lisier de porc__72h'!H37","v":0.75980392156862742},{"$f":"'Lisier de porc'!I37/'Lisier de porc__72h'!I37","v":0.76555023923444987},null,"24h",null,{"$f":"'Lisier de porc'!M37/'Lisier de porc__72h'!M37","v":0.74226804123711343},{"$f":"'Lisier de porc'!N37/'Lisier de porc__72h'!N37","v":0.75980392156862742},{"$f":"'Lisier de porc'!O37/'Lisier de porc__72h'!O37","v":0.76555023923444998}]
[null,"Sans incorporation",null,{"$f":"'Lisier de porc'!G38/'Lisier de porc__72h'!G38","v":0.74226804123711354},{"$f":"'Lisier de porc'!H38/'Lisier de porc__72h'!H38","v":0.75980392156862742},{"$f":"'Lisier de porc'!I38/'Lisier de porc__72h'!I38","v":0.76555023923444987},null,"Sans incorporation",null,{"$f":"'Lisier de porc'!M38/'Lisier de porc__72h'!M38","v":0.74226804123711343},{"$f":"'Lisier de porc'!N38/'Lisier de porc__72h'!N38","v":0.75980392156862742},{"$f":"'Lisier de porc'!O38/'Lisier de porc__72h'!O38","v":0.76555023923444998}]
[]
[]
[null,"LISIER DE PORC",null,null,null,null,null,"LISIER DE PORC"]
[null,"M.S (%)",7,null,null,null,null,"M.S (%)",7]
[null,"N total (kg/t)",3.5,null,null,null,null,"N total (kg/t)",3.5]
[null,"Azote ammoniacal total ou N-NH4+ (kg/t)",2.4,null,null,null,null,"Azote ammoniacal total ou N-NH4+ (kg/t)",2.4]
[]
[null,"Aspersion basse",null,"Ratio des émissions cumulatives de NH3 (kg/t_lisier_épandu) à 12h et 72h",null,null,null,"Pendillards",null,"Ratio des émissions cumulatives de NH3 (kg/t_lisier_épandu) à 12h et 72h"]
[]
[null,"Vitesse du vent (km/h)",5,"km/h",null,null,null,"Vitesse du vent (km/h)",5,"km/h"]
[null,"Délai avant incorporation","Température ",10,20,30,null,"Délai avant incorporation","Température ",10,20,30]
[null,"0h",null,{"$f":"'Lisier de vache'!G50/'Lisier de vache_72h'!G50","v":0.52142857142857135},{"$f":"'Lisier de vache'!H50/'Lisier de vache_72h'!H50","v":0.6402439024390244},{"$f":"'Lisier de vache'!I50/'Lisier de vache_72h'!I50","v":0.71584699453551925},null,"0h",null,{"$f":"'Lisier de porc'!M50/'Lisier de porc__72h'!M50","v":0.47107438016528924},{"$f":"'Lisier de porc'!N50/'Lisier de porc__72h'!N50","v":0.57664233576642343},{"$f":"'Lisier de porc'!O50/'Lisier de porc__72h'!O50","v":0.64666666666666661}]
[null,"3h",null,{"$f":"'Lisier de vache'!G51/'Lisier de vache_72h'!G51","v":0.72123893805309736},{"$f":"'Lisier de vache'!H51/'Lisier de vache_72h'!H51","v":0.84939759036144569},{"$f":"'Lisier de vache'!I51/'Lisier de vache_72h'!I51","v":0.9285714285714286},null,"3h",null,{"$f":"'Lisier de porc'!M51/'Lisier de porc__72h'!M51","v":0.66111111111111109},{"$f":"'Lisier de porc'!N51/'Lisier de porc__72h'!N51","v":0.79841897233201575},{"$f":"'Lisier de porc'!O51/'Lisier de porc__72h'!O51","v":0.88385269121813037}]
[null,"6h",null,{"$f":"'Lisier de vache'!G52/'Lisier de vache_72h'!G52","v":0.78873239436619713},{"$f":"'Lisier de vache'!H52/'Lisier de vache_72h'!H52","v":0.89548693586698358},{"$f":"'Lisier de vache'!I52/'Lisier de vache_72h'!I52","v":0.95113438045375243},null,"6h",null,{"$f":"'Lisier de porc'!M52/'Lisier de porc__72h'!M52","v":0.7318181818181817},{"$f":"'Lisier de porc'!N52/'Lisier de porc__72h'!N52","v":0.84493670886075956},{"$f":"'Lisier de porc'!O52/'Lisier de porc__72h'!O52","v":0.91428571428571437}]
[null,"24h",null,{"$f":"'Lisier de vache'!G53/'Lisier de vache_72h'!G53","v":0.7468030690537083},{"$f":"'Lisier de vache'!H53/'Lisier de vache_72h'!H53","v":0.86998087954110914},{"$f":"'Lisier de vache'!I53/'Lisier de vache_72h'!I53","v":0.9500805152979066},null,"24h",null,{"$f":"'Lisier de porc'!M53/'Lisier de porc__72h'!M53","v":0.70847457627118637},{"$f":"'Lisier de porc'!N53/'Lisier de porc__72h'!N53","v":0.8341968911917097},{"$f":"'Lisier de porc'!O53/'Lisier de porc__72h'!O53","v":0.91409691629955958}]
[null,"Sans incorporation",null,{"$f":"'Lisier de vache'!G54/'Lisier de vache_72h'!G54","v":0.72636815920398001},{"$f":"'Lisier de vache'!H54/'Lisier de vache_72h'!H54","v":0.86501901140684401},{"$f":"'Lisier de vache'!I54/'Lisier de vache_72h'!I54","v":0.9500805152979066},null,"Sans incorporation",null,{"$f":"'Lisier de porc'!M54/'Lisier de porc__72h'!M54","v":0.6920529801324502},{"$f":"'Lisier de porc'!N54/'Lisier de porc__72h'!N54","v":0.82989690721649478},{"$f":"'Lisier de porc'!O54/'Lisier de porc__72h'!O54","v":0.91409691629955958}]
[]
[null,"Vitesse du vent (km/h)",10,"km/h",null,null,null,"Vitesse du vent (km/h)",10,"km/h"]
[null,"Délai avant incorporation","Température ",10,20,30,null,"Délai avant incorporation","Température ",10,20,30]
[null,"0h",null,{"$f":"'Lisier de vache'!G58/'Lisier de vache_72h'!G58","v":0.60509554140127386},{"$f":"'Lisier de vache'!H58/'Lisier de vache_72h'!H58","v":0.702247191011236},{"$f":"'Lisier de vache'!I58/'Lisier de vache_72h'!I58","v":0.74345549738219874},null,"0h",null,{"$f":"'Lisier de porc'!M58/'Lisier de porc__72h'!M58","v":0.54545454545454553},{"$f":"'Lisier de porc'!N58/'Lisier de porc__72h'!N58","v":0.63265306122448994},{"$f":"'Lisier de porc'!O58/'Lisier de porc__72h'!O58","v":0.67307692307692313}]
[null,"3h",null,{"$f":"'Lisier de vache'!G59/'Lisier de vache_72h'!G59","v":0.8156996587030716},{"$f":"'Lisier de vache'!H59/'Lisier de vache_72h'!H59","v":0.91079812206572752},{"$f":"'Lisier de vache'!I59/'Lisier de vache_72h'!I59","v":0.95517241379310347},null,"3h",null,{"$f":"'Lisier de porc'!M59/'Lisier de porc__72h'!M59","v":0.75770925110132148},{"$f":"'Lisier de porc'!N59/'Lisier de porc__72h'!N59","v":0.86206896551724155},{"$f":"'Lisier de porc'!O59/'Lisier de porc__72h'!O59","v":0.91549295774647887}]
[null,"6h",null,{"$f":"'Lisier de vache'!G60/'Lisier de vache_72h'!G60","v":0.86363636363636354},{"$f":"'Lisier de vache'!H60/'Lisier de vache_72h'!H60","v":0.93738140417457305},{"$f":"'Lisier de vache'!I60/'Lisier de vache_72h'!I60","v":0.96764252696456077},null,"6h",null,{"$f":"'Lisier de porc'!M60/'Lisier de porc__72h'!M60","v":0.8127208480565371},{"$f":"'Lisier de porc'!N60/'Lisier de porc__72h'!N60","v":0.89717223650385602},{"$f":"'Lisier de porc'!O60/'Lisier de porc__72h'!O60","v":0.93037974683544311}]
[null,"24h",null,{"$f":"'Lisier de vache'!G61/'Lisier de vache_72h'!G61","v":0.83436853002070388},{"$f":"'Lisier de vache'!H61/'Lisier de vache_72h'!H61","v":0.93265993265993252},{"$f":"'Lisier de vache'!I61/'Lisier de vache_72h'!I61","v":0.96837349397590355},null,"24h",null,{"$f":"'Lisier de porc'!M61/'Lisier de porc__72h'!M61","v":0.79387186629526463},{"$f":"'Lisier de porc'!N61/'Lisier de porc__72h'!N61","v":0.89655172413793105},{"$f":"'Lisier de porc'!O61/'Lisier de porc__72h'!O61","v":0.93388429752066127}]
[null,"Sans incorporation",null,{"$f":"'Lisier de vache'!G62/'Lisier de vache_72h'!G62","v":0.82581967213114749},{"$f":"'Lisier de vache'!H62/'Lisier de vache_72h'!H62","v":0.93265993265993252},{"$f":"'Lisier de vache'!I62/'Lisier de vache_72h'!I62","v":0.96837349397590355},null,"Sans incorporation",null,{"$f":"'Lisier de porc'!M62/'Lisier de porc__72h'!M62","v":0.78729281767955783},{"$f":"'Lisier de porc'!N62/'Lisier de porc__72h'!N62","v":0.89655172413793105},{"$f":"'Lisier de porc'!O62/'Lisier de porc__72h'!O62","v":0.93388429752066127}]
[]
[null,"Vitesse du vent (km/h)",15,"km/h",null,null,null,"Vitesse du vent (km/h)",15,"km/h"]
[null,"Délai avant incorporation","Température ",10,20,30,null,"Délai avant incorporation","Température ",10,20,30]
[null,"0h",null,{"$f":"'Lisier de vache'!G66/'Lisier de vache_72h'!G66","v":0.65680473372781067},{"$f":"'Lisier de vache'!H66/'Lisier de vache_72h'!H66","v":0.72580645161290325},{"$f":"'Lisier de vache'!I66/'Lisier de vache_72h'!I66","v":0.74999999999999989},null,"0h",null,{"$f":"'Lisier de porc'!M66/'Lisier de porc__72h'!M66","v":0.6},{"$f":"'Lisier de porc'!N66/'Lisier de porc__72h'!N66","v":0.65789473684210531},{"$f":"'Lisier de porc'!O66/'Lisier de porc__72h'!O66","v":0.679245283018868}]
[null,"3h",null,{"$f":"'Lisier de vache'!G67/'Lisier de vache_72h'!G67","v":0.87150837988826846},{"$f":"'Lisier de vache'!H67/'Lisier de vache_72h'!H67","v":0.93885601577909272},{"$f":"'Lisier de vache'!I67/'Lisier de vache_72h'!I67","v":0.96599690880989186},null,"3h",null,{"$f":"'Lisier de porc'!M67/'Lisier de porc__72h'!M67","v":0.81617647058823506},{"$f":"'Lisier de porc'!N67/'Lisier de porc__72h'!N67","v":0.89599999999999991},{"$f":"'Lisier de porc'!O67/'Lisier de porc__72h'!O67","v":0.93008474576271194}]
[null,"6h",null,{"$f":"'Lisier de vache'!G68/'Lisier de vache_72h'!G68","v":0.90949227373068431},{"$f":"'Lisier de vache'!H68/'Lisier de vache_72h'!H68","v":0.9565943238731216},{"$f":"'Lisier de vache'!I68/'Lisier de vache_72h'!I68","v":0.97080291970802912},null,"6h",null,{"$f":"'Lisier de porc'!M68/'Lisier de porc__72h'!M68","v":0.86646884272997027},{"$f":"'Lisier de porc'!N68/'Lisier de porc__72h'!N68","v":0.92027334851936204},{"$f":"'Lisier de porc'!O68/'Lisier de porc__72h'!O68","v":0.93775100401606448}]
[null,"24h",null,{"$f":"'Lisier de vache'!G69/'Lisier de vache_72h'!G69","v":0.89194139194139188},{"$f":"'Lisier de vache'!H69/'Lisier de vache_72h'!H69","v":0.95905511811023625},{"$f":"'Lisier de vache'!I69/'Lisier de vache_72h'!I69","v":0.97238372093023262},null,"24h",null,{"$f":"'Lisier de porc'!M69/'Lisier de porc__72h'!M69","v":0.85572139303482564},{"$f":"'Lisier de porc'!N69/'Lisier de porc__72h'!N69","v":0.92241379310344829},{"$f":"'Lisier de porc'!O69/'Lisier de porc__72h'!O69","v":0.93812375249500979}]
[null,"Sans incorporation",null,{"$f":"'Lisier de vache'!G70/'Lisier de vache_72h'!G70","v":0.88868613138686137},{"$f":"'Lisier de vache'!H70/'Lisier de vache_72h'!H70","v":0.95905511811023625},{"$f":"'Lisier de vache'!I70/'Lisier de vache_72h'!I70","v":0.97238372093023262},null,"Sans incorporation",null,{"$f":"'Lisier de porc'!M70/'Lisier de porc__72h'!M70","v":0.85359801488833753},{"$f":"'Lisier de porc'!N70/'Lisier de porc__72h'!N70","v":0.92241379310344829},{"$f":"'Lisier de porc'!O70/'Lisier de porc__72h'!O70","v":0.93812375249500979}]
[]
[null,"Vitesse du vent (km/h)",25,"km/h",null,null,null,"Vitesse du vent (km/h)",25,"km/h"]
[null,"Délai avant incorporation","Température ",10,20,30,null,"Délai avant incorporation","Température ",10,20,30]
[null,"0h",null,{"$f":"'Lisier de vache'!G74/'Lisier de vache_72h'!G74","v":0.72131147540983598},{"$f":"'Lisier de vache'!H74/'Lisier de vache_72h'!H74","v":0.74742268041237114},{"$f":"'Lisier de vache'!I74/'Lisier de vache_72h'!I74","v":0.75621890547263682},null,"0h",null,{"$f":"'Lisier de porc'!M74/'Lisier de porc__72h'!M74","v":0.64666666666666661},{"$f":"'Lisier de porc'!N74/'Lisier de porc__72h'!N74","v":0.67721518987341767},{"$f":"'Lisier de porc'!O74/'Lisier de porc__72h'!O74","v":0.68711656441717794}]
[null,"3h",null,{"$f":"'Lisier de vache'!G75/'Lisier de vache_72h'!G75","v":0.9285714285714286},{"$f":"'Lisier de vache'!H75/'Lisier de vache_72h'!H75","v":0.96153846153846145},{"$f":"'Lisier de vache'!I75/'Lisier de vache_72h'!I75","v":0.9745042492917847},null,"3h",null,{"$f":"'Lisier de porc'!M75/'Lisier de porc__72h'!M75","v":0.88418079096045221},{"$f":"'Lisier de porc'!N75/'Lisier de porc__72h'!N75","v":0.92543859649122806},{"$f":"'Lisier de porc'!O75/'Lisier de porc__72h'!O75","v":0.94152046783625742}]
[null,"6h",null,{"$f":"'Lisier de vache'!G76/'Lisier de vache_72h'!G76","v":0.95113438045375243},{"$f":"'Lisier de vache'!H76/'Lisier de vache_72h'!H76","v":0.96884272997032628},{"$f":"'Lisier de vache'!I76/'Lisier de vache_72h'!I76","v":0.976123595505618},null,"6h",null,{"$f":"'Lisier de porc'!M76/'Lisier de porc__72h'!M76","v":0.91211401425178151},{"$f":"'Lisier de porc'!N76/'Lisier de porc__72h'!N76","v":0.93673469387755082},{"$f":"'Lisier de porc'!O76/'Lisier de porc__72h'!O76","v":0.94390715667311409}]
[null,"24h",null,{"$f":"'Lisier de vache'!G77/'Lisier de vache_72h'!G77","v":0.9500805152979066},{"$f":"'Lisier de vache'!H77/'Lisier de vache_72h'!H77","v":0.97058823529411775},{"$f":"'Lisier de vache'!I77/'Lisier de vache_72h'!I77","v":0.976123595505618},null,"24h",null,{"$f":"'Lisier de porc'!M77/'Lisier de porc__72h'!M77","v":0.91409691629955958},{"$f":"'Lisier de porc'!N77/'Lisier de porc__72h'!N77","v":0.93737373737373719},{"$f":"'Lisier de porc'!O77/'Lisier de porc__72h'!O77","v":0.94390715667311409}]
[null,"Sans incorporation",null,{"$f":"'Lisier de vache'!G78/'Lisier de vache_72h'!G78","v":0.9500805152979066},{"$f":"'Lisier de vache'!H78/'Lisier de vache_72h'!H78","v":0.97058823529411775},{"$f":"'Lisier de vache'!I78/'Lisier de vache_72h'!I78","v":0.976123595505618},null,"Sans incorporation",null,{"$f":"'Lisier de porc'!M78/'Lisier de porc__72h'!M78","v":0.91409691629955958},{"$f":"'Lisier de porc'!N78/'Lisier de porc__72h'!N78","v":0.93737373737373719},{"$f":"'Lisier de porc'!O78/'Lisier de porc__72h'!O78","v":0.94390715667311409}]